Back to Multiple platform build/check report for BioC 3.12
A[B]CDEFGHIJKLMNOPQRSTUVWXYZ

BUILD report for bgx on malbec1

This page was generated on 2020-08-13 11:13:05 -0400 (Thu, 13 Aug 2020).

TO THE DEVELOPERS/MAINTAINERS OF THE bgx PACKAGE: Please make sure to use the following settings in order to reproduce any error or warning you see on this page.
Package 135/1885HostnameOS / ArchINSTALLBUILDCHECKBUILD BIN
bgx 1.55.0
Ernest Turro
Snapshot Date: 2020-08-12 14:52:00 -0400 (Wed, 12 Aug 2020)
URL: https://git.bioconductor.org/packages/bgx
Branch: master
Last Commit: de3e291
Last Changed Date: 2020-04-27 14:15:13 -0400 (Mon, 27 Apr 2020)
malbec1 Linux (Ubuntu 18.04.4 LTS) / x86_64  OK [ OK ] OK UNNEEDED, same version exists in internal repository
nebbiolo1 Linux (Ubuntu 20.04.1 LTS) / x86_64  OK  OK  OK 
tokay1 Windows Server 2012 R2 Standard / x64  ERROR  ERROR  skipped  skipped 
merida1 macOS 10.14.6 Mojave / x86_64  OK  OK  WARNINGS  OK UNNEEDED, same version exists in internal repository

Summary

Package: bgx
Version: 1.55.0
Command: /home/biocbuild/bbs-3.12-bioc/R/bin/R CMD build --keep-empty-dirs --no-resave-data bgx
StartedAt: 2020-08-12 18:13:26 -0400 (Wed, 12 Aug 2020)
EndedAt: 2020-08-12 18:14:37 -0400 (Wed, 12 Aug 2020)
EllapsedTime: 71.2 seconds
RetCode: 0
Status:  OK 
PackageFile: bgx_1.55.0.tar.gz
PackageFileSize: 1.233 MiB

Command output

##############################################################################
##############################################################################
###
### Running command:
###
###   /home/biocbuild/bbs-3.12-bioc/R/bin/R CMD build --keep-empty-dirs --no-resave-data bgx
###
##############################################################################
##############################################################################


* checking for file ‘bgx/DESCRIPTION’ ... OK
* preparing ‘bgx’:
* checking DESCRIPTION meta-information ... OK
* cleaning src
* installing the package to build vignettes
* creating vignettes ... OK
* cleaning src
* checking for LF line-endings in source and make files and shell scripts
* checking for empty or unneeded directories
* building ‘bgx_1.55.0.tar.gz’