Back to Multiple platform build/check report for BioC 3.12
A[B]CDEFGHIJKLMNOPQRSTUVWXYZ

BUILD report for BCRANK on merida1

This page was generated on 2020-10-25 12:12:50 -0400 (Sun, 25 Oct 2020).

TO THE DEVELOPERS/MAINTAINERS OF THE BCRANK PACKAGE: Please make sure to use the following settings in order to reproduce any error or warning you see on this page.
Package 130/1974HostnameOS / ArchINSTALLBUILDCHECKBUILD BIN
BCRANK 1.51.0
Adam Ameur
Snapshot Date: 2020-10-24 14:40:19 -0400 (Sat, 24 Oct 2020)
URL: https://git.bioconductor.org/packages/BCRANK
Branch: master
Last Commit: 35c15f3
Last Changed Date: 2020-04-27 14:16:34 -0400 (Mon, 27 Apr 2020)
malbec1 Linux (Ubuntu 18.04.4 LTS) / x86_64  OK  OK  OK UNNEEDED, same version exists in internal repository
nebbiolo1 Linux (Ubuntu 20.04.1 LTS) / x86_64  OK  OK  OK 
tokay1 Windows Server 2012 R2 Standard / x64  OK  OK  OK  OK UNNEEDED, same version exists in internal repository
riesling1 Windows Server 2019 Standard / x64  OK  OK  OK  OK 
merida1 macOS 10.14.6 Mojave / x86_64  OK [ OK ] OK  OK UNNEEDED, same version exists in internal repository

Summary

Package: BCRANK
Version: 1.51.0
Command: /Library/Frameworks/R.framework/Versions/Current/Resources/bin/R CMD build --keep-empty-dirs --no-resave-data BCRANK
StartedAt: 2020-10-24 18:11:12 -0400 (Sat, 24 Oct 2020)
EndedAt: 2020-10-24 18:11:47 -0400 (Sat, 24 Oct 2020)
EllapsedTime: 35.1 seconds
RetCode: 0
Status:  OK 
PackageFile: BCRANK_1.51.0.tar.gz
PackageFileSize: 2.808 MiB

Command output

##############################################################################
##############################################################################
###
### Running command:
###
###   /Library/Frameworks/R.framework/Versions/Current/Resources/bin/R CMD build --keep-empty-dirs --no-resave-data BCRANK
###
##############################################################################
##############################################################################


* checking for file ‘BCRANK/DESCRIPTION’ ... OK
* preparing ‘BCRANK’:
* checking DESCRIPTION meta-information ... OK
* cleaning src
* installing the package to build vignettes
* creating vignettes ... OK
* cleaning src
* checking for LF line-endings in source and make files and shell scripts
* checking for empty or unneeded directories
* looking to see if a ‘data/datalist’ file should be added
* building ‘BCRANK_1.51.0.tar.gz’