Back to Multiple platform build/check report for BioC 3.12
AB[C]DEFGHIJKLMNOPQRSTUVWXYZ

INSTALL report for CAMERA on malbec1

This page was generated on 2020-08-10 11:33:56 -0400 (Mon, 10 Aug 2020).

TO THE DEVELOPERS/MAINTAINERS OF THE CAMERA PACKAGE: Please make sure to use the following settings in order to reproduce any error or warning you see on this page.
Package 216/1882HostnameOS / ArchINSTALLBUILDCHECKBUILD BIN
CAMERA 1.45.1
Steffen Neumann
Snapshot Date: 2020-08-09 14:51:29 -0400 (Sun, 09 Aug 2020)
URL: https://git.bioconductor.org/packages/CAMERA
Branch: master
Last Commit: 45384c6
Last Changed Date: 2020-06-02 05:43:49 -0400 (Tue, 02 Jun 2020)
malbec1 Linux (Ubuntu 18.04.4 LTS) / x86_64 [ OK ] OK  WARNINGS UNNEEDED, same version exists in internal repository
nebbiolo1 Linux (Ubuntu 20.04.1 LTS) / x86_64  OK  OK  WARNINGS 
tokay1 Windows Server 2012 R2 Standard / x64  OK  OK  WARNINGS  OK UNNEEDED, same version exists in internal repository
merida1 macOS 10.14.6 Mojave / x86_64  OK  OK  WARNINGS  OK UNNEEDED, same version exists in internal repository

Summary

Package: CAMERA
Version: 1.45.1
Command: /home/biocbuild/bbs-3.12-bioc/R/bin/R CMD INSTALL CAMERA
StartedAt: 2020-08-09 17:02:26 -0400 (Sun, 09 Aug 2020)
EndedAt: 2020-08-09 17:03:13 -0400 (Sun, 09 Aug 2020)
EllapsedTime: 47.1 seconds
RetCode: 0
Status:  OK 

Command output

##############################################################################
##############################################################################
###
### Running command:
###
###   /home/biocbuild/bbs-3.12-bioc/R/bin/R CMD INSTALL CAMERA
###
##############################################################################
##############################################################################


* installing to library ‘/home/biocbuild/bbs-3.12-bioc/R/library’
* installing *source* package ‘CAMERA’ ...
** using staged installation
** libs
gcc -I"/home/biocbuild/bbs-3.12-bioc/R/include" -DNDEBUG   -I/usr/local/include   -fpic  -g -O2  -Wall -c fastMatch.c -o fastMatch.o
gcc -shared -L/home/biocbuild/bbs-3.12-bioc/R/lib -L/usr/local/lib -o CAMERA.so fastMatch.o -L/home/biocbuild/bbs-3.12-bioc/R/lib -lR
installing to /home/biocbuild/bbs-3.12-bioc/R/library/00LOCK-CAMERA/00new/CAMERA/libs
** R
** data
** inst
** byte-compile and prepare package for lazy loading
Warning: replacing previous import ‘xcms::plot’ by ‘graphics::plot’ when loading ‘CAMERA’
** help
*** installing help indices
** building package indices
** installing vignettes
** testing if installed package can be loaded from temporary location
Warning: replacing previous import ‘xcms::plot’ by ‘graphics::plot’ when loading ‘CAMERA’
** checking absolute paths in shared objects and dynamic libraries
** testing if installed package can be loaded from final location
Warning: replacing previous import ‘xcms::plot’ by ‘graphics::plot’ when loading ‘CAMERA’
** testing if installed package keeps a record of temporary installation path
* DONE (CAMERA)