Back to Multiple platform build/check report for BioC 3.12
A[B]CDEFGHIJKLMNOPQRSTUVWXYZ

CHECK report for biocViews on merida1

This page was generated on 2020-08-10 12:30:12 -0400 (Mon, 10 Aug 2020).

TO THE DEVELOPERS/MAINTAINERS OF THE biocViews PACKAGE: Please make sure to use the following settings in order to reproduce any error or warning you see on this page.
Package 164/1882HostnameOS / ArchINSTALLBUILDCHECKBUILD BIN
biocViews 1.57.3
Bioconductor Package Maintainer
Snapshot Date: 2020-08-09 14:51:29 -0400 (Sun, 09 Aug 2020)
URL: https://git.bioconductor.org/packages/biocViews
Branch: master
Last Commit: d1f0be2
Last Changed Date: 2020-07-17 16:45:15 -0400 (Fri, 17 Jul 2020)
malbec1 Linux (Ubuntu 18.04.4 LTS) / x86_64  OK  OK  OK UNNEEDED, same version exists in internal repository
nebbiolo1 Linux (Ubuntu 20.04.1 LTS) / x86_64  OK  OK  OK 
tokay1 Windows Server 2012 R2 Standard / x64  OK  OK  OK  OK UNNEEDED, same version exists in internal repository
merida1 macOS 10.14.6 Mojave / x86_64  OK  OK [ OK ] OK UNNEEDED, same version exists in internal repository

Summary

Package: biocViews
Version: 1.57.3
Command: /Library/Frameworks/R.framework/Versions/Current/Resources/bin/R CMD check --install=check:biocViews.install-out.txt --library=/Library/Frameworks/R.framework/Versions/Current/Resources/library --no-vignettes --timings biocViews_1.57.3.tar.gz
StartedAt: 2020-08-09 22:43:52 -0400 (Sun, 09 Aug 2020)
EndedAt: 2020-08-09 22:45:11 -0400 (Sun, 09 Aug 2020)
EllapsedTime: 78.8 seconds
RetCode: 0
Status:  OK 
CheckDir: biocViews.Rcheck
Warnings: 0

Command output

##############################################################################
##############################################################################
###
### Running command:
###
###   /Library/Frameworks/R.framework/Versions/Current/Resources/bin/R CMD check --install=check:biocViews.install-out.txt --library=/Library/Frameworks/R.framework/Versions/Current/Resources/library --no-vignettes --timings biocViews_1.57.3.tar.gz
###
##############################################################################
##############################################################################


* using log directory ‘/Users/biocbuild/bbs-3.12-bioc/meat/biocViews.Rcheck’
* using R version 4.0.2 (2020-06-22)
* using platform: x86_64-apple-darwin17.0 (64-bit)
* using session charset: UTF-8
* using option ‘--no-vignettes’
* checking for file ‘biocViews/DESCRIPTION’ ... OK
* this is package ‘biocViews’ version ‘1.57.3’
* checking package namespace information ... OK
* checking package dependencies ... OK
* checking if this is a source package ... OK
* checking if there is a namespace ... OK
* checking for hidden files and directories ... OK
* checking for portable file names ... OK
* checking for sufficient/correct file permissions ... OK
* checking whether package ‘biocViews’ can be installed ... OK
* checking installed package size ... OK
* checking package directory ... OK
* checking ‘build’ directory ... OK
* checking DESCRIPTION meta-information ... OK
* checking top-level files ... OK
* checking for left-over files ... OK
* checking index information ... OK
* checking package subdirectories ... OK
* checking R files for non-ASCII characters ... OK
* checking R files for syntax errors ... OK
* checking whether the package can be loaded ... OK
* checking whether the package can be loaded with stated dependencies ... OK
* checking whether the package can be unloaded cleanly ... OK
* checking whether the namespace can be loaded with stated dependencies ... OK
* checking whether the namespace can be unloaded cleanly ... OK
* checking dependencies in R code ... NOTE
':::' call which should be '::': ‘tools:::vignetteInfo’
  See the note in ?`:::` about the use of this operator.
Unexported objects imported by ':::' calls:
  ‘tools:::.build_news_db_from_package_NEWS_Rd’
  ‘tools:::.build_news_db_from_package_NEWS_md’
  ‘tools:::.build_repository_package_db’
  ‘tools:::.get_standard_repository_db_fields’
  ‘tools:::.news_reader_default’ ‘tools:::.split_dependencies’
  See the note in ?`:::` about the use of this operator.
* checking S3 generic/method consistency ... OK
* checking replacement functions ... OK
* checking foreign function calls ... OK
* checking R code for possible problems ... NOTE
getPackageNEWS : getNews: no visible binding for global variable
  ‘Version’
getReverseDepends : <anonymous>: no visible binding for global variable
  ‘Package’
Undefined global functions or variables:
  Package Version
* checking Rd files ... OK
* checking Rd metadata ... OK
* checking Rd cross-references ... OK
* checking for missing documentation entries ... OK
* checking for code/documentation mismatches ... OK
* checking Rd \usage sections ... OK
* checking Rd contents ... OK
* checking for unstated dependencies in examples ... OK
* checking contents of ‘data’ directory ... OK
* checking data for non-ASCII characters ... OK
* checking data for ASCII and uncompressed saves ... OK
* checking sizes of PDF files under ‘inst/doc’ ... OK
* checking installed files from ‘inst/doc’ ... OK
* checking files in ‘vignettes’ ... OK
* checking examples ... OK
* checking for unstated dependencies in ‘tests’ ... OK
* checking tests ...
  Running ‘runTests.R’
 OK
* checking for unstated dependencies in vignettes ... OK
* checking package vignettes in ‘inst/doc’ ... OK
* checking running R code from vignettes ... SKIPPED
* checking re-building of vignette outputs ... SKIPPED
* checking PDF version of manual ... OK
* DONE

Status: 2 NOTEs
See
  ‘/Users/biocbuild/bbs-3.12-bioc/meat/biocViews.Rcheck/00check.log’
for details.



Installation output

biocViews.Rcheck/00install.out

##############################################################################
##############################################################################
###
### Running command:
###
###   /Library/Frameworks/R.framework/Versions/Current/Resources/bin/R CMD INSTALL biocViews
###
##############################################################################
##############################################################################


* installing to library ‘/Library/Frameworks/R.framework/Versions/4.0/Resources/library’
* installing *source* package ‘biocViews’ ...
** using staged installation
** R
** data
** inst
** byte-compile and prepare package for lazy loading
** help
*** installing help indices
** building package indices
** installing vignettes
   ‘HOWTO-BCV.Rnw’ 
   ‘createReposHtml.Rnw’ 
** testing if installed package can be loaded from temporary location
** testing if installed package can be loaded from final location
** testing if installed package keeps a record of temporary installation path
* DONE (biocViews)

Tests output

biocViews.Rcheck/tests/runTests.Rout


R version 4.0.2 (2020-06-22) -- "Taking Off Again"
Copyright (C) 2020 The R Foundation for Statistical Computing
Platform: x86_64-apple-darwin17.0 (64-bit)

R is free software and comes with ABSOLUTELY NO WARRANTY.
You are welcome to redistribute it under certain conditions.
Type 'license()' or 'licence()' for distribution details.

R is a collaborative project with many contributors.
Type 'contributors()' for more information and
'citation()' on how to cite R or R packages in publications.

Type 'demo()' for some demos, 'help()' for on-line help, or
'help.start()' for an HTML browser interface to help.
Type 'q()' to quit R.

> BiocGenerics:::testPackage("biocViews")
Generate citation for /tmp/RtmpvZEQ9b/testing/testrepos/src/contrib/biocViews2_1.57.3.tar.gz ... (try to process CITATION file) OK
Generate citation for /tmp/RtmpvZEQ9b/testing/testrepos/src/contrib/biocViews_1.57.3.tar.gz ... tar: biocViews/inst/CITATION: Not found in archive
tar: Error exit delayed from previous errors.
(auto-generate from DESCRIPTION file) OK


RUNIT TEST PROTOCOL -- Sun Aug  9 22:44:56 2020 
*********************************************** 
Number of test functions: 5 
Number of errors: 0 
Number of failures: 0 

 
1 Test Suite : 
biocViews RUnit Tests - 5 test functions, 0 errors, 0 failures
Number of test functions: 5 
Number of errors: 0 
Number of failures: 0 
Warning message:
In untar(tarball, tpaths, exdir = tmpdir) :
  '/usr/bin/tar -xf '/tmp/RtmpvZEQ9b/testing/testrepos/src/contrib/biocViews_1.57.3.tar.gz' -C '/tmp/RtmpvZEQ9b' 'biocViews/DESCRIPTION' 'biocViews/inst/CITATION'' returned error code 1
> 
> proc.time()
   user  system elapsed 
  5.410   0.274   7.501 

Example timings

biocViews.Rcheck/biocViews-Ex.timings

nameusersystemelapsed
PackageDetail-class0.1170.0030.121
biocViews-package0.0540.0010.055
biocViewsVocab0.0070.0010.008
getBiocSubViews1.6460.0251.674
getBiocViews1.2520.0271.280
getCurrentbiocViews0.0140.0020.016
getPackageTitles0.0000.0000.001
getSubTerms0.1780.0040.183
guessPackageType0.0180.0010.018
recommendPackages0.6070.0151.058
validation_tests0.0030.0010.004