Back to Multiple platform build/check report for BioC 3.12
[A]BCDEFGHIJKLMNOPQRSTUVWXYZ

BUILD report for AUCell on tokay1

This page was generated on 2020-08-11 11:45:47 -0400 (Tue, 11 Aug 2020).

TO THE DEVELOPERS/MAINTAINERS OF THE AUCell PACKAGE: Please make sure to use the following settings in order to reproduce any error or warning you see on this page.
Package 96/1885HostnameOS / ArchINSTALLBUILDCHECKBUILD BIN
AUCell 1.11.0
Sara Aibar
Snapshot Date: 2020-08-10 14:50:56 -0400 (Mon, 10 Aug 2020)
URL: https://git.bioconductor.org/packages/AUCell
Branch: master
Last Commit: a9afa79
Last Changed Date: 2020-04-27 15:10:23 -0400 (Mon, 27 Apr 2020)
malbec1 Linux (Ubuntu 18.04.4 LTS) / x86_64  OK  OK  OK UNNEEDED, same version exists in internal repository
nebbiolo1 Linux (Ubuntu 20.04.1 LTS) / x86_64  OK  OK  NA 
tokay1 Windows Server 2012 R2 Standard / x64  OK [ OK ] OK  OK UNNEEDED, same version exists in internal repository
merida1 macOS 10.14.6 Mojave / x86_64  OK  OK  OK  OK UNNEEDED, same version exists in internal repository

Summary

Package: AUCell
Version: 1.11.0
Command: chmod a+r AUCell -R && C:\Users\biocbuild\bbs-3.12-bioc\R\bin\R.exe CMD build --keep-empty-dirs --no-resave-data AUCell
StartedAt: 2020-08-10 21:49:25 -0400 (Mon, 10 Aug 2020)
EndedAt: 2020-08-10 21:51:33 -0400 (Mon, 10 Aug 2020)
EllapsedTime: 127.7 seconds
RetCode: 0
Status:  OK  
PackageFile: AUCell_1.11.0.tar.gz
PackageFileSize: 924.3 KiB

Command output

##############################################################################
##############################################################################
###
### Running command:
###
###   chmod a+r AUCell -R && C:\Users\biocbuild\bbs-3.12-bioc\R\bin\R.exe CMD build --keep-empty-dirs --no-resave-data AUCell
###
##############################################################################
##############################################################################


* checking for file 'AUCell/DESCRIPTION' ... OK
* preparing 'AUCell':
* checking DESCRIPTION meta-information ... OK
* installing the package to build vignettes
* creating vignettes ... OK
* checking for LF line-endings in source and make files and shell scripts
* checking for empty or unneeded directories
* building 'AUCell_1.11.0.tar.gz'