Back to Multiple platform build/check report for BioC 3.12
ABCDEFGHIJKLMNO[P]QRSTUVWXYZ

INSTALL report for procoil on tokay1

This page was generated on 2021-01-19 11:56:05 -0500 (Tue, 19 Jan 2021).

TO THE DEVELOPERS/MAINTAINERS OF THE procoil PACKAGE: Please make sure to use the following settings in order to reproduce any error or warning you see on this page.
Package 1390/1974HostnameOS / ArchINSTALLBUILDCHECKBUILD BIN
procoil 2.18.0
Ulrich Bodenhofer
Snapshot Date: 2021-01-18 14:42:24 -0500 (Mon, 18 Jan 2021)
URL: https://git.bioconductor.org/packages/procoil
Branch: RELEASE_3_12
Last Commit: bd35bcf
Last Changed Date: 2020-10-27 10:40:17 -0500 (Tue, 27 Oct 2020)
malbec1 Linux (Ubuntu 18.04.5 LTS) / x86_64  OK  OK  OK UNNEEDED, same version exists in internal repository
nebbiolo1 Linux (Ubuntu 20.04.1 LTS) / x86_64  OK  OK  OK 
tokay1 Windows Server 2012 R2 Standard / x64 [ OK ] OK  WARNINGS  OK UNNEEDED, same version exists in internal repository
merida1 macOS 10.14.6 Mojave / x86_64  OK  OK  OK  OK UNNEEDED, same version exists in internal repository

Summary

Package: procoil
Version: 2.18.0
Command: C:\cygwin\bin\curl.exe -O https://malbec1.bioconductor.org/BBS/3.12/bioc/src/contrib/procoil_2.18.0.tar.gz && rm -rf procoil.buildbin-libdir && mkdir procoil.buildbin-libdir && C:\Users\biocbuild\bbs-3.12-bioc\R\bin\R.exe CMD INSTALL --merge-multiarch --build --library=procoil.buildbin-libdir procoil_2.18.0.tar.gz && C:\Users\biocbuild\bbs-3.12-bioc\R\bin\R.exe CMD INSTALL procoil_2.18.0.zip && rm procoil_2.18.0.tar.gz procoil_2.18.0.zip
StartedAt: 2021-01-18 19:19:32 -0500 (Mon, 18 Jan 2021)
EndedAt: 2021-01-18 19:20:21 -0500 (Mon, 18 Jan 2021)
EllapsedTime: 48.9 seconds
RetCode: 0
Status:  OK  

Command output

##############################################################################
##############################################################################
###
### Running command:
###
###   C:\cygwin\bin\curl.exe -O https://malbec1.bioconductor.org/BBS/3.12/bioc/src/contrib/procoil_2.18.0.tar.gz && rm -rf procoil.buildbin-libdir && mkdir procoil.buildbin-libdir && C:\Users\biocbuild\bbs-3.12-bioc\R\bin\R.exe CMD INSTALL --merge-multiarch --build --library=procoil.buildbin-libdir procoil_2.18.0.tar.gz && C:\Users\biocbuild\bbs-3.12-bioc\R\bin\R.exe CMD INSTALL procoil_2.18.0.zip && rm procoil_2.18.0.tar.gz procoil_2.18.0.zip
###
##############################################################################
##############################################################################


  % Total    % Received % Xferd  Average Speed   Time    Time     Time  Current
                                 Dload  Upload   Total   Spent    Left  Speed

  0     0    0     0    0     0      0      0 --:--:-- --:--:-- --:--:--     0
 92  834k   92  768k    0     0  6092k      0 --:--:-- --:--:-- --:--:-- 6243k
100  834k  100  834k    0     0  6587k      0 --:--:-- --:--:-- --:--:-- 6729k

install for i386

* installing *source* package 'procoil' ...
** using staged installation
** R
** data
*** moving datasets to lazyload DB
** inst
** byte-compile and prepare package for lazy loading
** help
*** installing help indices
  converting help for package 'procoil'
    finding HTML links ... done
    CCModel-FileOps                         html  
    CCModel-class                           html  
    CCProfile-class                         html  
    finding level-2 HTML links ... done

    plot-methods                            html  
Rd warning: C:/Users/biocbuild/bbs-3.12-bioc/tmpdir/RtmpgVqc3c/R.INSTALL23c871445da2/procoil/man/plot-methods.Rd:58: file link 'plot' in package 'graphics' does not exist and so has been treated as a topic
    predict-methods                         html  
    procoil-package                         html  
** building package indices
** installing vignettes
** testing if installed package can be loaded from temporary location
** testing if installed package can be loaded from final location
** testing if installed package keeps a record of temporary installation path

install for x64

* installing *source* package 'procoil' ...
** testing if installed package can be loaded
* MD5 sums
packaged installation of 'procoil' as procoil_2.18.0.zip
* DONE (procoil)
* installing to library 'C:/Users/biocbuild/bbs-3.12-bioc/R/library'
package 'procoil' successfully unpacked and MD5 sums checked