Back to Multiple platform build/check report for BioC 3.12
[A]BCDEFGHIJKLMNOPQRSTUVWXYZ

BUILD report for affxparser on tokay1

This page was generated on 2020-08-11 11:36:11 -0400 (Tue, 11 Aug 2020).

TO THE DEVELOPERS/MAINTAINERS OF THE affxparser PACKAGE: Please make sure to use the following settings in order to reproduce any error or warning you see on this page.
Package 22/1885HostnameOS / ArchINSTALLBUILDCHECKBUILD BIN
affxparser 1.61.0
Kasper Daniel Hansen
Snapshot Date: 2020-08-10 14:50:56 -0400 (Mon, 10 Aug 2020)
URL: https://git.bioconductor.org/packages/affxparser
Branch: master
Last Commit: d7640aa
Last Changed Date: 2020-04-27 14:12:07 -0400 (Mon, 27 Apr 2020)
malbec1 Linux (Ubuntu 18.04.4 LTS) / x86_64  OK  OK  WARNINGS UNNEEDED, same version exists in internal repository
nebbiolo1 Linux (Ubuntu 20.04.1 LTS) / x86_64  OK  OK  NA 
tokay1 Windows Server 2012 R2 Standard / x64  OK [ OK ] WARNINGS  OK UNNEEDED, same version exists in internal repository
merida1 macOS 10.14.6 Mojave / x86_64  OK  OK  WARNINGS  OK UNNEEDED, same version exists in internal repository

Summary

Package: affxparser
Version: 1.61.0
Command: chmod a+r affxparser -R && C:\Users\biocbuild\bbs-3.12-bioc\R\bin\R.exe CMD build --keep-empty-dirs --no-resave-data affxparser
StartedAt: 2020-08-10 19:10:12 -0400 (Mon, 10 Aug 2020)
EndedAt: 2020-08-10 19:10:47 -0400 (Mon, 10 Aug 2020)
EllapsedTime: 34.7 seconds
RetCode: 0
Status:  OK  
PackageFile: affxparser_1.61.0.tar.gz
PackageFileSize: 793.9 KiB

Command output

##############################################################################
##############################################################################
###
### Running command:
###
###   chmod a+r affxparser -R && C:\Users\biocbuild\bbs-3.12-bioc\R\bin\R.exe CMD build --keep-empty-dirs --no-resave-data affxparser
###
##############################################################################
##############################################################################


* checking for file 'affxparser/DESCRIPTION' ... OK
* preparing 'affxparser':
* checking DESCRIPTION meta-information ... OK
* cleaning src
* checking for LF line-endings in source and make files and shell scripts
* checking for empty or unneeded directories
* building 'affxparser_1.61.0.tar.gz'
Warning: file 'affxparser/cleanup' did not have execute permissions: corrected
Warning in utils::tar(filepath, pkgname, compression = compression, compression_level = 9L,  :
  storing paths of more than 100 bytes is not portable:
  'affxparser/src/fusion_sdk/calvin_files/writers/src/CalvinCHPQuantificationDetectionFileBufferWriter.cpp'
Warning in utils::tar(filepath, pkgname, compression = compression, compression_level = 9L,  :
  storing paths of more than 100 bytes is not portable:
  'affxparser/src/fusion_sdk/calvin_files/writers/src/CalvinCHPQuantificationDetectionFileBufferWriter.h'