Back to Multiple platform build/check report for BioC 3.12
AB[C]DEFGHIJKLMNOPQRSTUVWXYZ

INSTALL report for CancerSubtypes on tokay1

This page was generated on 2020-08-12 11:45:07 -0400 (Wed, 12 Aug 2020).

TO THE DEVELOPERS/MAINTAINERS OF THE CancerSubtypes PACKAGE: Please make sure to use the following settings in order to reproduce any error or warning you see on this page.
Package 221/1885HostnameOS / ArchINSTALLBUILDCHECKBUILD BIN
CancerSubtypes 1.15.0
Taosheng Xu
Snapshot Date: 2020-08-11 14:50:16 -0400 (Tue, 11 Aug 2020)
URL: https://git.bioconductor.org/packages/CancerSubtypes
Branch: master
Last Commit: 6859df3
Last Changed Date: 2020-04-27 15:00:39 -0400 (Mon, 27 Apr 2020)
malbec1 Linux (Ubuntu 18.04.4 LTS) / x86_64  OK  OK  OK UNNEEDED, same version exists in internal repository
nebbiolo1 Linux (Ubuntu 20.04.1 LTS) / x86_64  OK  OK  OK 
tokay1 Windows Server 2012 R2 Standard / x64 [ OK ] OK  OK  OK UNNEEDED, same version exists in internal repository
merida1 macOS 10.14.6 Mojave / x86_64  OK  OK  OK  OK UNNEEDED, same version exists in internal repository

Summary

Package: CancerSubtypes
Version: 1.15.0
Command: C:\cygwin\bin\curl.exe -O https://malbec1.bioconductor.org/BBS/3.12/bioc/src/contrib/CancerSubtypes_1.15.0.tar.gz && rm -rf CancerSubtypes.buildbin-libdir && mkdir CancerSubtypes.buildbin-libdir && C:\Users\biocbuild\bbs-3.12-bioc\R\bin\R.exe CMD INSTALL --merge-multiarch --build --library=CancerSubtypes.buildbin-libdir CancerSubtypes_1.15.0.tar.gz && C:\Users\biocbuild\bbs-3.12-bioc\R\bin\R.exe CMD INSTALL CancerSubtypes_1.15.0.zip && rm CancerSubtypes_1.15.0.tar.gz CancerSubtypes_1.15.0.zip
StartedAt: 2020-08-11 17:00:01 -0400 (Tue, 11 Aug 2020)
EndedAt: 2020-08-11 17:01:10 -0400 (Tue, 11 Aug 2020)
EllapsedTime: 69.1 seconds
RetCode: 0
Status:  OK  

Command output

##############################################################################
##############################################################################
###
### Running command:
###
###   C:\cygwin\bin\curl.exe -O https://malbec1.bioconductor.org/BBS/3.12/bioc/src/contrib/CancerSubtypes_1.15.0.tar.gz && rm -rf CancerSubtypes.buildbin-libdir && mkdir CancerSubtypes.buildbin-libdir && C:\Users\biocbuild\bbs-3.12-bioc\R\bin\R.exe CMD INSTALL --merge-multiarch --build --library=CancerSubtypes.buildbin-libdir CancerSubtypes_1.15.0.tar.gz && C:\Users\biocbuild\bbs-3.12-bioc\R\bin\R.exe CMD INSTALL CancerSubtypes_1.15.0.zip && rm CancerSubtypes_1.15.0.tar.gz CancerSubtypes_1.15.0.zip
###
##############################################################################
##############################################################################


  % Total    % Received % Xferd  Average Speed   Time    Time     Time  Current
                                 Dload  Upload   Total   Spent    Left  Speed

  0     0    0     0    0     0      0      0 --:--:-- --:--:-- --:--:--     0
100 2100k  100 2100k    0     0  49.2M      0 --:--:-- --:--:-- --:--:-- 53.9M

install for i386

* installing *source* package 'CancerSubtypes' ...
** using staged installation
** R
** data
** inst
** byte-compile and prepare package for lazy loading
** help
*** installing help indices
  converting help for package 'CancerSubtypes'
    finding HTML links ... done
    DiffExp.limma                           html  
    ExecuteCC                               html  
    ExecuteCNMF                             html  
    finding level-2 HTML links ... done

    ExecuteSNF.CC                           html  
    ExecuteSNF                              html  
    ExecuteWSNF                             html  
    ExecuteiCluster                         html  
    FSbyCox                                 html  
    FSbyMAD                                 html  
    FSbyPCA                                 html  
    FSbyVar                                 html  
    GeneExp                                 html  
    Ranking                                 html  
    data.checkDistribution                  html  
    data.imputation                         html  
    data.normalization                      html  
    drawHeatmap                             html  
    miRNAExp                                html  
    saveFigure                              html  
    sigclustTest                            html  
    silhouette_SimilarityMatrix             html  
    spectralAlg                             html  
    status                                  html  
    survAnalysis                            html  
    time                                    html  
** building package indices
** installing vignettes
** testing if installed package can be loaded from temporary location
** testing if installed package can be loaded from final location
** testing if installed package keeps a record of temporary installation path

install for x64

* installing *source* package 'CancerSubtypes' ...
** testing if installed package can be loaded
* MD5 sums
packaged installation of 'CancerSubtypes' as CancerSubtypes_1.15.0.zip
* DONE (CancerSubtypes)
* installing to library 'C:/Users/biocbuild/bbs-3.12-bioc/R/library'
package 'CancerSubtypes' successfully unpacked and MD5 sums checked