Back to Multiple platform build/check report for BioC 3.12
A[B]CDEFGHIJKLMNOPQRSTUVWXYZ

BUILD BIN report for bnbc on tokay1

This page was generated on 2020-10-25 12:06:12 -0400 (Sun, 25 Oct 2020).

TO THE DEVELOPERS/MAINTAINERS OF THE bnbc PACKAGE: Please make sure to use the following settings in order to reproduce any error or warning you see on this page.
Package 199/1974HostnameOS / ArchINSTALLBUILDCHECKBUILD BIN
bnbc 1.11.0
Kipper Fletez-Brant
Snapshot Date: 2020-10-24 14:40:19 -0400 (Sat, 24 Oct 2020)
URL: https://git.bioconductor.org/packages/bnbc
Branch: master
Last Commit: 0285f52
Last Changed Date: 2020-04-27 15:11:22 -0400 (Mon, 27 Apr 2020)
malbec1 Linux (Ubuntu 18.04.4 LTS) / x86_64  OK  OK  OK UNNEEDED, same version exists in internal repository
nebbiolo1 Linux (Ubuntu 20.04.1 LTS) / x86_64  OK  OK  OK 
tokay1 Windows Server 2012 R2 Standard / x64  OK  OK  OK [ OK ]UNNEEDED, same version exists in internal repository
riesling1 Windows Server 2019 Standard / x64  OK  OK  OK  OK 
merida1 macOS 10.14.6 Mojave / x86_64  OK  OK  OK  OK UNNEEDED, same version exists in internal repository

Summary

Package: bnbc
Version: 1.11.0
Command: rm -rf bnbc.buildbin-libdir && mkdir bnbc.buildbin-libdir && C:\Users\biocbuild\bbs-3.12-bioc\R\bin\R.exe CMD INSTALL --merge-multiarch --build --library=bnbc.buildbin-libdir bnbc_1.11.0.tar.gz
StartedAt: 2020-10-25 08:26:42 -0400 (Sun, 25 Oct 2020)
EndedAt: 2020-10-25 08:27:42 -0400 (Sun, 25 Oct 2020)
EllapsedTime: 59.5 seconds
RetCode: 0
Status:  OK  
PackageFile: bnbc_1.11.0.zip
PackageFileSize: 3.723 MiB

Command output

##############################################################################
##############################################################################
###
### Running command:
###
###   rm -rf bnbc.buildbin-libdir && mkdir bnbc.buildbin-libdir && C:\Users\biocbuild\bbs-3.12-bioc\R\bin\R.exe CMD INSTALL --merge-multiarch --build --library=bnbc.buildbin-libdir bnbc_1.11.0.tar.gz
###
##############################################################################
##############################################################################



install for i386

* installing *source* package 'bnbc' ...
** using staged installation
** libs
"C:/rtools40/mingw32/bin/"g++ -std=gnu++11  -I"C:/Users/BIOCBU~1/BBS-3~1.12-/R/include" -DNDEBUG  -I'C:/Users/biocbuild/bbs-3.12-bioc/R/library/Rcpp/include'   -I"C:/extsoft/include"     -O2 -Wall  -mfpmath=sse -msse2 -mstackrealign -c RcppExports.cpp -o RcppExports.o
"C:/rtools40/mingw32/bin/"g++ -std=gnu++11  -I"C:/Users/BIOCBU~1/BBS-3~1.12-/R/include" -DNDEBUG  -I'C:/Users/biocbuild/bbs-3.12-bioc/R/library/Rcpp/include'   -I"C:/extsoft/include"     -O2 -Wall  -mfpmath=sse -msse2 -mstackrealign -c update_bands.cpp -o update_bands.o
C:/rtools40/mingw32/bin/g++ -std=gnu++11 -shared -s -static-libgcc -o bnbc.dll tmp.def RcppExports.o update_bands.o -LC:/extsoft/lib/i386 -LC:/extsoft/lib -LC:/Users/BIOCBU~1/BBS-3~1.12-/R/bin/i386 -lR
installing to C:/Users/biocbuild/bbs-3.12-bioc/meat/bnbc.buildbin-libdir/00LOCK-bnbc/00new/bnbc/libs/i386
** R
** data
** inst
** byte-compile and prepare package for lazy loading
** help
*** installing help indices
  converting help for package 'bnbc'
    finding HTML links ... done
    ContactGroup-class                      html  
    apply_functions                         html  
    band                                    html  
    bnbc-package                            html  
    bnbc                                    html  
    cgEx                                    html  
    cooler_methods                          html  
    getBandIdx                              html  
    getBandMatrix                           html  
    groupZeros                              html  
    smoothing                               html  
** building package indices
** installing vignettes
** testing if installed package can be loaded from temporary location
** testing if installed package can be loaded from final location
** testing if installed package keeps a record of temporary installation path

install for x64

* installing *source* package 'bnbc' ...
** libs
"C:/rtools40/mingw64/bin/"g++ -std=gnu++11  -I"C:/Users/BIOCBU~1/BBS-3~1.12-/R/include" -DNDEBUG  -I'C:/Users/biocbuild/bbs-3.12-bioc/R/library/Rcpp/include'   -I"C:/extsoft/include"     -O2 -Wall  -mfpmath=sse -msse2 -mstackrealign -c RcppExports.cpp -o RcppExports.o
"C:/rtools40/mingw64/bin/"g++ -std=gnu++11  -I"C:/Users/BIOCBU~1/BBS-3~1.12-/R/include" -DNDEBUG  -I'C:/Users/biocbuild/bbs-3.12-bioc/R/library/Rcpp/include'   -I"C:/extsoft/include"     -O2 -Wall  -mfpmath=sse -msse2 -mstackrealign -c update_bands.cpp -o update_bands.o
C:/rtools40/mingw64/bin/g++ -std=gnu++11 -shared -s -static-libgcc -o bnbc.dll tmp.def RcppExports.o update_bands.o -LC:/extsoft/lib/x64 -LC:/extsoft/lib -LC:/Users/BIOCBU~1/BBS-3~1.12-/R/bin/x64 -lR
installing to C:/Users/biocbuild/bbs-3.12-bioc/meat/bnbc.buildbin-libdir/bnbc/libs/x64
** testing if installed package can be loaded
* MD5 sums
packaged installation of 'bnbc' as bnbc_1.11.0.zip
* DONE (bnbc)