Back to Multiple platform build/check report for BioC 3.12
A[B]CDEFGHIJKLMNOPQRSTUVWXYZ

BUILD BIN report for BiSeq on tokay1

This page was generated on 2020-09-21 11:12:01 -0400 (Mon, 21 Sep 2020).

TO THE DEVELOPERS/MAINTAINERS OF THE BiSeq PACKAGE: Please make sure to use the following settings in order to reproduce any error or warning you see on this page.
Package 185/1912HostnameOS / ArchINSTALLBUILDCHECKBUILD BIN
BiSeq 1.29.0
Katja Hebestreit
Snapshot Date: 2020-09-20 14:41:51 -0400 (Sun, 20 Sep 2020)
URL: https://git.bioconductor.org/packages/BiSeq
Branch: master
Last Commit: 6155da2
Last Changed Date: 2020-04-27 14:34:25 -0400 (Mon, 27 Apr 2020)
malbec1 Linux (Ubuntu 18.04.4 LTS) / x86_64  OK  OK  OK UNNEEDED, same version exists in internal repository
nebbiolo1 Linux (Ubuntu 20.04.1 LTS) / x86_64  OK  OK  OK 
tokay1 Windows Server 2012 R2 Standard / x64  OK  OK  OK [ OK ]UNNEEDED, same version exists in internal repository
riesling1 Windows Server 2019 Standard / x64  OK  OK  OK  OK 
merida1 macOS 10.14.6 Mojave / x86_64  OK  OK  OK  OK UNNEEDED, same version exists in internal repository

Summary

Package: BiSeq
Version: 1.29.0
Command: rm -rf BiSeq.buildbin-libdir && mkdir BiSeq.buildbin-libdir && C:\Users\biocbuild\bbs-3.12-bioc\R\bin\R.exe --arch x64 CMD INSTALL --no-multiarch --build --library=BiSeq.buildbin-libdir BiSeq_1.29.0.tar.gz
StartedAt: 2020-09-21 08:07:16 -0400 (Mon, 21 Sep 2020)
EndedAt: 2020-09-21 08:08:19 -0400 (Mon, 21 Sep 2020)
EllapsedTime: 62.8 seconds
RetCode: 0
Status:  OK  
PackageFile: BiSeq_1.29.0.zip
PackageFileSize: 1.237 MiB

Command output

##############################################################################
##############################################################################
###
### Running command:
###
###   rm -rf BiSeq.buildbin-libdir && mkdir BiSeq.buildbin-libdir && C:\Users\biocbuild\bbs-3.12-bioc\R\bin\R.exe --arch x64 CMD INSTALL --no-multiarch --build --library=BiSeq.buildbin-libdir BiSeq_1.29.0.tar.gz
###
##############################################################################
##############################################################################


* installing *source* package 'BiSeq' ...
** using staged installation
** R
** data
** inst
** byte-compile and prepare package for lazy loading
** help
*** installing help indices
  converting help for package 'BiSeq'
    finding HTML links ... done
    BSraw-class                             html  
    finding level-2 HTML links ... done

    BSrel-class                             html  
    DMRs                                    html  
    annotateGRanges                         html  
    betaRegression                          html  
    betaResults                             html  
    betaResultsNull                         html  
    binomLikelihoodSmooth                   html  
    clusterSites                            html  
    clusterSitesToGR                        html  
    compareTwoSamples                       html  
    covBoxplots                             html  
    covStatistics                           html  
    estLocCor                               html  
    filterByCov                             html  
    filterBySharedRegions                   html  
    findDMRs                                html  
    globalTest                              html  
    limitCov                                html  
    logisticRegression                      html  
    makeVariogram                           html  
    plotBindingSites                        html  
    plotMeth                                html  
    plotMethMap                             html  
    plotSmoothMeth                          html  
    predictMeth                             html  
    predictedMeth                           html  
    promoters                               html  
    rawToRel                                html  
    readBismark                             html  
    rrbs                                    html  
    smoothVariogram                         html  
    summarizeRegions                        html  
    testClusters                            html  
    trimClusters                            html  
    vario                                   html  
    writeBED                                html  
** building package indices
** installing vignettes
** testing if installed package can be loaded from temporary location
** testing if installed package can be loaded from final location
** testing if installed package keeps a record of temporary installation path
* MD5 sums
packaged installation of 'BiSeq' as BiSeq_1.29.0.zip
* DONE (BiSeq)