Back to Multiple platform build/check report for BioC 3.12 |
|
This page was generated on 2021-01-19 11:54:49 -0500 (Tue, 19 Jan 2021).
TO THE DEVELOPERS/MAINTAINERS OF THE BiocIO PACKAGE: Please make sure to use the following settings in order to reproduce any error or warning you see on this page. |
Package 162/1974 | Hostname | OS / Arch | INSTALL | BUILD | CHECK | BUILD BIN | ||||||
BiocIO 1.0.1 Bioconductor Package Maintainer
| malbec1 | Linux (Ubuntu 18.04.5 LTS) / x86_64 | OK | OK | OK | ![]() | ||||||
nebbiolo1 | Linux (Ubuntu 20.04.1 LTS) / x86_64 | OK | OK | OK | ||||||||
tokay1 | Windows Server 2012 R2 Standard / x64 | OK | [ OK ] | WARNINGS | OK | ![]() | ||||||
merida1 | macOS 10.14.6 Mojave / x86_64 | OK | OK | OK | OK | ![]() |
Package: BiocIO |
Version: 1.0.1 |
Command: chmod a+r BiocIO -R && C:\Users\biocbuild\bbs-3.12-bioc\R\bin\R.exe CMD build --keep-empty-dirs --no-resave-data BiocIO |
StartedAt: 2021-01-18 19:54:07 -0500 (Mon, 18 Jan 2021) |
EndedAt: 2021-01-18 19:54:52 -0500 (Mon, 18 Jan 2021) |
EllapsedTime: 45.1 seconds |
RetCode: 0 |
Status: OK |
PackageFile: BiocIO_1.0.1.tar.gz |
PackageFileSize: 225.9 KiB |
############################################################################## ############################################################################## ### ### Running command: ### ### chmod a+r BiocIO -R && C:\Users\biocbuild\bbs-3.12-bioc\R\bin\R.exe CMD build --keep-empty-dirs --no-resave-data BiocIO ### ############################################################################## ############################################################################## * checking for file 'BiocIO/DESCRIPTION' ... OK * preparing 'BiocIO': * checking DESCRIPTION meta-information ... OK * installing the package to build vignettes * creating vignettes ... OK * checking for LF line-endings in source and make files and shell scripts * checking for empty or unneeded directories * building 'BiocIO_1.0.1.tar.gz'