Back to Multiple platform build/check report for BioC 3.12
A[B]CDEFGHIJKLMNOPQRSTUVWXYZ

CHECK report for BiocOncoTK on merida1

This page was generated on 2020-08-12 12:02:53 -0400 (Wed, 12 Aug 2020).

TO THE DEVELOPERS/MAINTAINERS OF THE BiocOncoTK PACKAGE: Please make sure to use the following settings in order to reproduce any error or warning you see on this page.
Package 155/1885HostnameOS / ArchINSTALLBUILDCHECKBUILD BIN
BiocOncoTK 1.9.0
VJ Carey
Snapshot Date: 2020-08-11 14:50:16 -0400 (Tue, 11 Aug 2020)
URL: https://git.bioconductor.org/packages/BiocOncoTK
Branch: master
Last Commit: e08ae5b
Last Changed Date: 2020-04-27 15:16:30 -0400 (Mon, 27 Apr 2020)
malbec1 Linux (Ubuntu 18.04.4 LTS) / x86_64  OK  OK  OK UNNEEDED, same version exists in internal repository
nebbiolo1 Linux (Ubuntu 20.04.1 LTS) / x86_64  OK  OK  OK 
tokay1 Windows Server 2012 R2 Standard / x64  OK  OK  WARNINGS  OK UNNEEDED, same version exists in internal repository
merida1 macOS 10.14.6 Mojave / x86_64  OK  OK [ OK ] OK UNNEEDED, same version exists in internal repository

Summary

Package: BiocOncoTK
Version: 1.9.0
Command: /Library/Frameworks/R.framework/Versions/Current/Resources/bin/R CMD check --install=check:BiocOncoTK.install-out.txt --library=/Library/Frameworks/R.framework/Versions/Current/Resources/library --no-vignettes --timings BiocOncoTK_1.9.0.tar.gz
StartedAt: 2020-08-12 03:56:35 -0400 (Wed, 12 Aug 2020)
EndedAt: 2020-08-12 04:05:45 -0400 (Wed, 12 Aug 2020)
EllapsedTime: 550.9 seconds
RetCode: 0
Status:  OK 
CheckDir: BiocOncoTK.Rcheck
Warnings: 0

Command output

##############################################################################
##############################################################################
###
### Running command:
###
###   /Library/Frameworks/R.framework/Versions/Current/Resources/bin/R CMD check --install=check:BiocOncoTK.install-out.txt --library=/Library/Frameworks/R.framework/Versions/Current/Resources/library --no-vignettes --timings BiocOncoTK_1.9.0.tar.gz
###
##############################################################################
##############################################################################


* using log directory ‘/Users/biocbuild/bbs-3.12-bioc/meat/BiocOncoTK.Rcheck’
* using R version 4.0.2 (2020-06-22)
* using platform: x86_64-apple-darwin17.0 (64-bit)
* using session charset: UTF-8
* using option ‘--no-vignettes’
* checking for file ‘BiocOncoTK/DESCRIPTION’ ... OK
* this is package ‘BiocOncoTK’ version ‘1.9.0’
* package encoding: UTF-8
* checking package namespace information ... OK
* checking package dependencies ... OK
* checking if this is a source package ... OK
* checking if there is a namespace ... OK
* checking for hidden files and directories ... OK
* checking for portable file names ... OK
* checking for sufficient/correct file permissions ... OK
* checking whether package ‘BiocOncoTK’ can be installed ... OK
* checking installed package size ... NOTE
  installed size is 10.1Mb
  sub-directories of 1Mb or more:
    data        5.1Mb
    pamphlets   4.5Mb
* checking package directory ... OK
* checking ‘build’ directory ... OK
* checking DESCRIPTION meta-information ... OK
* checking top-level files ... OK
* checking for left-over files ... OK
* checking index information ... OK
* checking package subdirectories ... OK
* checking R files for non-ASCII characters ... OK
* checking R files for syntax errors ... OK
* checking whether the package can be loaded ... OK
* checking whether the package can be loaded with stated dependencies ... OK
* checking whether the package can be unloaded cleanly ... OK
* checking whether the namespace can be loaded with stated dependencies ... OK
* checking whether the namespace can be unloaded cleanly ... OK
* checking dependencies in R code ... OK
* checking S3 generic/method consistency ... OK
* checking replacement functions ... OK
* checking foreign function calls ... OK
* checking R code for possible problems ... NOTE
ggscat_av: warning in png(file = tempfile()): partial argument match of
  'file' to 'filename'
.flexbi: no visible binding for global variable ‘v1’
.flexbi: no visible binding for global variable ‘v2’
.rainfall.bq.df: no visible global function definition for ‘seqlengths’
.rainfall.maeGRL.df: no visible global function definition for ‘genome’
.rainfall.maeGRL.df: no visible global function definition for
  ‘seqlengths’
acronym_to_system: no visible binding for global variable
  ‘map_tcga_ncit’
add_sym: no visible global function definition for ‘mapIds’
bipg_tests: no visible global function definition for ‘new’
checkCache_patel: no visible global function definition for
  ‘BiocFileCache’
chrbounds_basic: no visible global function definition for ‘seqlengths’
ggFeatDens : <anonymous>: no visible binding for global variable
  ‘Consequence’
ggFeatDens: no visible binding for global variable ‘tfstart’
ggFeatureSegs: no visible binding for global variable ‘symbol’
ggMutDens : <anonymous>: no visible binding for global variable
  ‘Consequence’
ggMutDens: no visible binding for global variable ‘project_short_name’
ggbox: no visible binding for global variable ‘acronym’
ggbox: no visible binding for global variable ‘symbol’
ggbox: no visible binding for global variable ‘log2ex’
ggbox: no visible binding for global variable ‘msicode’
ggscat: no visible binding for global variable ‘acronym’
ggscat: no visible binding for global variable ‘symbol’
ggscat: no visible binding for global variable ‘msival’
ggscat: no visible binding for global variable ‘log2ex’
ggscat_av: no visible binding for global variable ‘acronym’
ggscat_av: no visible binding for global variable ‘symbol’
ggscat_av: no visible binding for global variable ‘msival’
ggscat_av: no visible binding for global variable ‘tmsi’
ggscat_av: no visible binding for global variable ‘log2exa’
mc3toGR : <anonymous>: no visible binding for global variable
  ‘Consequence’
multiviz: no visible binding for global variable ‘acronym’
multiviz: no visible binding for global variable ‘msival’
prc: no visible binding for global variable ‘acronym’
prc: no visible global function definition for ‘right_join’
rainfall: no visible global function definition for ‘genome’
tumNorSet : <anonymous>: no visible global function definition for
  ‘pancan_SE’
Undefined global functions or variables:
  BiocFileCache Consequence acronym genome log2ex log2exa mapIds
  map_tcga_ncit msicode msival new pancan_SE project_short_name
  right_join seqlengths symbol tfstart tmsi v1 v2
Consider adding
  importFrom("methods", "new")
to your NAMESPACE file (and ensure that your DESCRIPTION Imports field
contains 'methods').
* checking Rd files ... OK
* checking Rd metadata ... OK
* checking Rd cross-references ... OK
* checking for missing documentation entries ... OK
* checking for code/documentation mismatches ... OK
* checking Rd \usage sections ... OK
* checking Rd contents ... OK
* checking for unstated dependencies in examples ... OK
* checking contents of ‘data’ directory ... OK
* checking data for non-ASCII characters ... NOTE
  Note: found 46 marked UTF-8 strings
* checking data for ASCII and uncompressed saves ... OK
* checking files in ‘vignettes’ ... OK
* checking examples ... OK
* checking for unstated dependencies in ‘tests’ ... OK
* checking tests ...
  Running ‘testthat.R’
 OK
* checking for unstated dependencies in vignettes ... OK
* checking package vignettes in ‘inst/doc’ ... OK
* checking running R code from vignettes ... SKIPPED
* checking re-building of vignette outputs ... SKIPPED
* checking PDF version of manual ... OK
* DONE

Status: 3 NOTEs
See
  ‘/Users/biocbuild/bbs-3.12-bioc/meat/BiocOncoTK.Rcheck/00check.log’
for details.



Installation output

BiocOncoTK.Rcheck/00install.out

##############################################################################
##############################################################################
###
### Running command:
###
###   /Library/Frameworks/R.framework/Versions/Current/Resources/bin/R CMD INSTALL BiocOncoTK
###
##############################################################################
##############################################################################


* installing to library ‘/Library/Frameworks/R.framework/Versions/4.0/Resources/library’
* installing *source* package ‘BiocOncoTK’ ...
** using staged installation
** R
** data
*** moving datasets to lazyload DB
** inst
** byte-compile and prepare package for lazy loading
** help
*** installing help indices
** building package indices
** installing vignettes
** testing if installed package can be loaded from temporary location
** testing if installed package can be loaded from final location
** testing if installed package keeps a record of temporary installation path
* DONE (BiocOncoTK)

Tests output

BiocOncoTK.Rcheck/tests/testthat.Rout


R version 4.0.2 (2020-06-22) -- "Taking Off Again"
Copyright (C) 2020 The R Foundation for Statistical Computing
Platform: x86_64-apple-darwin17.0 (64-bit)

R is free software and comes with ABSOLUTELY NO WARRANTY.
You are welcome to redistribute it under certain conditions.
Type 'license()' or 'licence()' for distribution details.

R is a collaborative project with many contributors.
Type 'contributors()' for more information and
'citation()' on how to cite R or R packages in publications.

Type 'demo()' for some demos, 'help()' for on-line help, or
'help.start()' for an HTML browser interface to help.
Type 'q()' to quit R.

> # authentication is so problematic that I am skipping this for now
> library(testthat)
> library(BiocOncoTK)

Attaching package: 'BiocOncoTK'

The following object is masked from 'package:stats':

    filter

> library(restfulSE)
Loading required package: SummarizedExperiment
Loading required package: GenomicRanges
Loading required package: stats4
Loading required package: BiocGenerics
Loading required package: parallel

Attaching package: 'BiocGenerics'

The following objects are masked from 'package:parallel':

    clusterApply, clusterApplyLB, clusterCall, clusterEvalQ,
    clusterExport, clusterMap, parApply, parCapply, parLapply,
    parLapplyLB, parRapply, parSapply, parSapplyLB

The following objects are masked from 'package:stats':

    IQR, mad, sd, var, xtabs

The following objects are masked from 'package:base':

    Filter, Find, Map, Position, Reduce, anyDuplicated, append,
    as.data.frame, basename, cbind, colnames, dirname, do.call,
    duplicated, eval, evalq, get, grep, grepl, intersect, is.unsorted,
    lapply, mapply, match, mget, order, paste, pmax, pmax.int, pmin,
    pmin.int, rank, rbind, rownames, sapply, setdiff, sort, table,
    tapply, union, unique, unsplit, which.max, which.min

Loading required package: S4Vectors

Attaching package: 'S4Vectors'

The following object is masked from 'package:base':

    expand.grid

Loading required package: IRanges
Loading required package: GenomeInfoDb
Loading required package: Biobase
Welcome to Bioconductor

    Vignettes contain introductory material; view with
    'browseVignettes()'. To cite Bioconductor, see
    'citation("Biobase")', and for packages 'citation("pkgname")'.

Loading required package: DelayedArray
Loading required package: Matrix

Attaching package: 'Matrix'

The following object is masked from 'package:S4Vectors':

    expand

Loading required package: matrixStats

Attaching package: 'matrixStats'

The following objects are masked from 'package:Biobase':

    anyMissing, rowMedians


Attaching package: 'DelayedArray'

The following objects are masked from 'package:matrixStats':

    colMaxs, colMins, colRanges, rowMaxs, rowMins, rowRanges

The following objects are masked from 'package:base':

    aperm, apply, rowsum


> library(reshape2)
> 
> test_check("BiocOncoTK")
Loading required package: BiocGenerics
Loading required package: parallel

Attaching package: ‘BiocGenerics’

The following objects are masked from ‘package:parallel’:

    clusterApply, clusterApplyLB, clusterCall, clusterEvalQ,
    clusterExport, clusterMap, parApply, parCapply, parLapply,
    parLapplyLB, parRapply, parSapply, parSapplyLB

The following objects are masked from ‘package:stats’:

    IQR, mad, sd, var, xtabs

The following objects are masked from ‘package:base’:

    Filter, Find, Map, Position, Reduce, anyDuplicated, append,
    as.data.frame, basename, cbind, colnames, dirname, do.call,
    duplicated, eval, evalq, get, grep, grepl, intersect, is.unsorted,
    lapply, mapply, match, mget, order, paste, pmax, pmax.int, pmin,
    pmin.int, rank, rbind, rownames, sapply, setdiff, sort, table,
    tapply, union, unique, unsplit, which.max, which.min

Loading required package: AnnotationHub
Loading required package: BiocFileCache
Loading required package: dbplyr
snapshotDate(): 2020-08-05
Working on: BLCA_RNASeq2GeneNorm-20160128
see ?curatedTCGAData and browseVignettes('curatedTCGAData') for documentation
loading from cache
Working on: BLCA_colData-20160128
see ?curatedTCGAData and browseVignettes('curatedTCGAData') for documentation
loading from cache
Working on: BLCA_metadata-20160128
see ?curatedTCGAData and browseVignettes('curatedTCGAData') for documentation
loading from cache
Working on: BLCA_sampleMap-20160128
see ?curatedTCGAData and browseVignettes('curatedTCGAData') for documentation
loading from cache
harmonizing input:
  removing 4463 sampleMap rows not in names(experiments)
  removing 4 colData rownames not in sampleMap 'primary'
Loading required package: BiocGenerics
Loading required package: parallel

Attaching package: ‘BiocGenerics’

The following objects are masked from ‘package:parallel’:

    clusterApply, clusterApplyLB, clusterCall, clusterEvalQ,
    clusterExport, clusterMap, parApply, parCapply, parLapply,
    parLapplyLB, parRapply, parSapply, parSapplyLB

The following objects are masked from ‘package:stats’:

    IQR, mad, sd, var, xtabs

The following objects are masked from ‘package:base’:

    Filter, Find, Map, Position, Reduce, anyDuplicated, append,
    as.data.frame, basename, cbind, colnames, dirname, do.call,
    duplicated, eval, evalq, get, grep, grepl, intersect, is.unsorted,
    lapply, mapply, match, mget, order, paste, pmax, pmax.int, pmin,
    pmin.int, rank, rbind, rownames, sapply, setdiff, sort, table,
    tapply, union, unique, unsplit, which.max, which.min

Loading required package: AnnotationHub
Loading required package: BiocFileCache
Loading required package: dbplyr
snapshotDate(): 2020-08-05
Working on: BLCA_RNASeq2GeneNorm-20160128
see ?curatedTCGAData and browseVignettes('curatedTCGAData') for documentation
loading from cache
Working on: BLCA_colData-20160128
see ?curatedTCGAData and browseVignettes('curatedTCGAData') for documentation
loading from cache
Working on: BLCA_metadata-20160128
see ?curatedTCGAData and browseVignettes('curatedTCGAData') for documentation
loading from cache
Working on: BLCA_sampleMap-20160128
see ?curatedTCGAData and browseVignettes('curatedTCGAData') for documentation
loading from cache
harmonizing input:
  removing 4463 sampleMap rows not in names(experiments)
  removing 4 colData rownames not in sampleMap 'primary'
Loading required package: BiocGenerics
Loading required package: parallel

Attaching package: ‘BiocGenerics’

The following objects are masked from ‘package:parallel’:

    clusterApply, clusterApplyLB, clusterCall, clusterEvalQ,
    clusterExport, clusterMap, parApply, parCapply, parLapply,
    parLapplyLB, parRapply, parSapply, parSapplyLB

The following objects are masked from ‘package:stats’:

    IQR, mad, sd, var, xtabs

The following objects are masked from ‘package:base’:

    Filter, Find, Map, Position, Reduce, anyDuplicated, append,
    as.data.frame, basename, cbind, colnames, dirname, do.call,
    duplicated, eval, evalq, get, grep, grepl, intersect, is.unsorted,
    lapply, mapply, match, mget, order, paste, pmax, pmax.int, pmin,
    pmin.int, rank, rbind, rownames, sapply, setdiff, sort, table,
    tapply, union, unique, unsplit, which.max, which.min

Loading required package: AnnotationHub
Loading required package: BiocFileCache
Loading required package: dbplyr
snapshotDate(): 2020-08-05
Working on: SKCM_RNASeq2GeneNorm-20160128
see ?curatedTCGAData and browseVignettes('curatedTCGAData') for documentation
loading from cache
Working on: SKCM_colData-20160128
see ?curatedTCGAData and browseVignettes('curatedTCGAData') for documentation
loading from cache
Working on: SKCM_metadata-20160128
see ?curatedTCGAData and browseVignettes('curatedTCGAData') for documentation
loading from cache
Working on: SKCM_sampleMap-20160128
see ?curatedTCGAData and browseVignettes('curatedTCGAData') for documentation
loading from cache
harmonizing input:
  removing 4841 sampleMap rows not in names(experiments)
  removing 1 colData rownames not in sampleMap 'primary'
══ testthat results  ═══════════════════════════════════════════════════════════
[ OK: 5 | SKIPPED: 0 | WARNINGS: 0 | FAILED: 0 ]
> 
> proc.time()
   user  system elapsed 
141.384   6.494 150.045 

Example timings

BiocOncoTK.Rcheck/BiocOncoTK-Ex.timings

nameusersystemelapsed
CCLE_DRUG_BROAD0.0980.0080.106
MSIsensor.10k0.0160.0010.017
TcgaMutCounts0.0000.0010.001
TcgaNIndWithAnyMut000
add_sym000
annotTabs0.0000.0000.001
bindMSI0.0010.0000.001
bipg_tests0.5290.0070.537
brcaMAE1.4510.0431.496
buildPancanSE0.0010.0000.001
cell_701380.0010.0000.002
clueDemos0.0010.0010.002
clueServiceNames0.0000.0010.000
darmGBMcls0.2940.0170.310
dingMSI0.0070.0010.008
featIDMapper0.0000.0000.001
fireMSI2.3840.1552.541
get_plates000
ggFeatDens0.0020.0000.002
ggFeatureSegs0.0010.0000.002
ggMutDens0.0010.0000.001
icd10_c0.1010.0370.139
k23sig0.0060.0010.006
loadPatel0.0010.0010.000
mc3toGR0.0010.0000.001
molpo_3utr0.0620.0070.069
molpo_5utr0.0240.0010.026
molpo_CDS0.0810.0100.092
molpo_WGS0.0130.0010.014
oncoPrintISB0.0010.0000.001
pancan.clin.varnames0.0220.0000.022
pancan_BQ0.0010.0000.001
pancan_app000
pancan_clinicalTabVarnames0.0000.0010.000
pancan_longname0.0010.0010.001
pancan_sampTypeMap0.0020.0010.002
pancan_tabulate0.0000.0000.001
patient_to_tumor_code0.0100.0010.010
pertClasses0.0010.0000.001
pert_701380.0010.0010.003
query_clue0.0010.0000.001
small_msi0.0060.0010.007
tumNorSet0.0000.0000.001
utils0.2680.0160.286
viz_msi_raw0.0010.0000.001