Back to Multiple platform build/check report for BioC 3.12
A[B]CDEFGHIJKLMNOPQRSTUVWXYZ

BUILD BIN report for BasicSTARRseq on merida1

This page was generated on 2021-02-22 12:41:53 -0500 (Mon, 22 Feb 2021).

To the developers/maintainers of the BasicSTARRseq package:
Please make sure to use the following settings in order to reproduce any error or warning you see on this page.
Package 120/1974HostnameOS / ArchINSTALLBUILDCHECKBUILD BIN
BasicSTARRseq 1.18.0
Annika Buerger
Snapshot Date: 2021-02-21 14:52:07 -0500 (Sun, 21 Feb 2021)
URL: https://git.bioconductor.org/packages/BasicSTARRseq
Branch: RELEASE_3_12
Last Commit: acae287
Last Changed Date: 2020-10-27 11:10:59 -0500 (Tue, 27 Oct 2020)
malbec1Linux (Ubuntu 18.04.5 LTS) / x86_64  OK    OK    OK  UNNEEDED, same version exists in internal repository
nebbiolo1Linux (Ubuntu 20.04.2 LTS) / x86_64  OK    OK    OK  
tokay1Windows Server 2012 R2 Standard / x64  OK    OK    OK    OK  UNNEEDED, same version exists in internal repository
merida1macOS 10.14.6 Mojave / x86_64  OK    OK    OK    OK  UNNEEDED, same version exists in internal repository

Summary

Package: BasicSTARRseq
Version: 1.18.0
Command: rm -rf BasicSTARRseq.buildbin-libdir && mkdir BasicSTARRseq.buildbin-libdir && /Users/biocbuild/BBS/utils/build-universal.sh BasicSTARRseq_1.18.0.tar.gz /Library/Frameworks/R.framework/Versions/Current/Resources/bin/R BasicSTARRseq.buildbin-libdir
StartedAt: 2021-02-22 07:57:22 -0500 (Mon, 22 Feb 2021)
EndedAt: 2021-02-22 07:58:23 -0500 (Mon, 22 Feb 2021)
EllapsedTime: 60.6 seconds
RetCode: 0
Status:   OK  
PackageFile: BasicSTARRseq_1.18.0.tgz
PackageFileSize: 708.3 KiB

Command output

##############################################################################
##############################################################################
###
### Running command:
###
###   rm -rf BasicSTARRseq.buildbin-libdir && mkdir BasicSTARRseq.buildbin-libdir && /Users/biocbuild/BBS/utils/build-universal.sh BasicSTARRseq_1.18.0.tar.gz /Library/Frameworks/R.framework/Versions/Current/Resources/bin/R BasicSTARRseq.buildbin-libdir
###
##############################################################################
##############################################################################


>>>>>>> 
>>>>>>> INSTALLATION WITH 'R CMD INSTALL --preclean --no-multiarch --library=BasicSTARRseq.buildbin-libdir BasicSTARRseq_1.18.0.tar.gz'
>>>>>>> 

* installing *source* package ‘BasicSTARRseq’ ...
** using staged installation
** R
** inst
** byte-compile and prepare package for lazy loading
Creating a new generic function for ‘sample’ in package ‘BasicSTARRseq’
** help
*** installing help indices
** building package indices
** installing vignettes
** testing if installed package can be loaded from temporary location
** testing if installed package can be loaded from final location
** testing if installed package keeps a record of temporary installation path
* DONE (BasicSTARRseq)