Back to Multiple platform build/check report for BioC 3.12
A[B]CDEFGHIJKLMNOPQRSTUVWXYZ

INSTALL report for blacksheepr on tokay1

This page was generated on 2020-10-29 12:24:56 -0400 (Thu, 29 Oct 2020).

TO THE DEVELOPERS/MAINTAINERS OF THE blacksheepr PACKAGE: Please make sure to use the following settings in order to reproduce any error or warning you see on this page.
Package 195/1974HostnameOS / ArchINSTALLBUILDCHECKBUILD BIN
blacksheepr 1.4.0
RugglesLab
Snapshot Date: 2020-10-28 14:42:40 -0400 (Wed, 28 Oct 2020)
URL: https://git.bioconductor.org/packages/blacksheepr
Branch: RELEASE_3_12
Last Commit: 558236a
Last Changed Date: 2020-10-27 11:50:16 -0400 (Tue, 27 Oct 2020)
malbec1 Linux (Ubuntu 18.04.4 LTS) / x86_64  OK  OK  OK UNNEEDED, same version exists in internal repository
nebbiolo1 Linux (Ubuntu 20.04.1 LTS) / x86_64  OK  OK  OK 
tokay1 Windows Server 2012 R2 Standard / x64 [ OK ] OK  OK  OK UNNEEDED, same version exists in internal repository
merida1 macOS 10.14.6 Mojave / x86_64  OK  OK  OK  OK UNNEEDED, same version exists in internal repository

Summary

Package: blacksheepr
Version: 1.4.0
Command: C:\cygwin\bin\curl.exe -O https://malbec1.bioconductor.org/BBS/3.12/bioc/src/contrib/blacksheepr_1.4.0.tar.gz && rm -rf blacksheepr.buildbin-libdir && mkdir blacksheepr.buildbin-libdir && C:\Users\biocbuild\bbs-3.12-bioc\R\bin\R.exe CMD INSTALL --merge-multiarch --build --library=blacksheepr.buildbin-libdir blacksheepr_1.4.0.tar.gz && C:\Users\biocbuild\bbs-3.12-bioc\R\bin\R.exe CMD INSTALL blacksheepr_1.4.0.zip && rm blacksheepr_1.4.0.tar.gz blacksheepr_1.4.0.zip
StartedAt: 2020-10-28 17:40:22 -0400 (Wed, 28 Oct 2020)
EndedAt: 2020-10-28 17:40:57 -0400 (Wed, 28 Oct 2020)
EllapsedTime: 34.9 seconds
RetCode: 0
Status:  OK  

Command output

##############################################################################
##############################################################################
###
### Running command:
###
###   C:\cygwin\bin\curl.exe -O https://malbec1.bioconductor.org/BBS/3.12/bioc/src/contrib/blacksheepr_1.4.0.tar.gz && rm -rf blacksheepr.buildbin-libdir && mkdir blacksheepr.buildbin-libdir && C:\Users\biocbuild\bbs-3.12-bioc\R\bin\R.exe CMD INSTALL --merge-multiarch --build --library=blacksheepr.buildbin-libdir blacksheepr_1.4.0.tar.gz && C:\Users\biocbuild\bbs-3.12-bioc\R\bin\R.exe CMD INSTALL blacksheepr_1.4.0.zip && rm blacksheepr_1.4.0.tar.gz blacksheepr_1.4.0.zip
###
##############################################################################
##############################################################################


  % Total    % Received % Xferd  Average Speed   Time    Time     Time  Current
                                 Dload  Upload   Total   Spent    Left  Speed

  0     0    0     0    0     0      0      0 --:--:-- --:--:-- --:--:--     0
100 3773k  100 3773k    0     0  38.3M      0 --:--:-- --:--:-- --:--:-- 40.0M

install for i386

* installing *source* package 'blacksheepr' ...
** using staged installation
** R
** data
** byte-compile and prepare package for lazy loading
** help
*** installing help indices
  converting help for package 'blacksheepr'
    finding HTML links ... done
    annotationlist_builder                  html  
    comparison_groupings                    html  
    count_outliers                          html  
    create_heatmap                          html  
    deva                                    html  
    deva_normalization                      html  
    deva_results                            html  
    make_comparison_columns                 html  
    make_outlier_table                      html  
    outlier_analysis                        html  
    outlier_heatmap                         html  
    sample_annotationdata                   html  
    sample_phosphodata                      html  
    sample_rnadata                          html  
** building package indices
** installing vignettes
** testing if installed package can be loaded from temporary location
** testing if installed package can be loaded from final location
** testing if installed package keeps a record of temporary installation path

install for x64

* installing *source* package 'blacksheepr' ...
** testing if installed package can be loaded
* MD5 sums
packaged installation of 'blacksheepr' as blacksheepr_1.4.0.zip
* DONE (blacksheepr)
* installing to library 'C:/Users/biocbuild/bbs-3.12-bioc/R/library'
package 'blacksheepr' successfully unpacked and MD5 sums checked