Back to Multiple platform build/check report for BioC 3.12
[A]BCDEFGHIJKLMNOPQRSTUVWXYZ

BUILD BIN report for AMOUNTAIN on tokay1

This page was generated on 2020-08-13 11:41:11 -0400 (Thu, 13 Aug 2020).

TO THE DEVELOPERS/MAINTAINERS OF THE AMOUNTAIN PACKAGE: Please make sure to use the following settings in order to reproduce any error or warning you see on this page.
Package 49/1885HostnameOS / ArchINSTALLBUILDCHECKBUILD BIN
AMOUNTAIN 1.15.0
Dong Li
Snapshot Date: 2020-08-12 14:52:00 -0400 (Wed, 12 Aug 2020)
URL: https://git.bioconductor.org/packages/AMOUNTAIN
Branch: master
Last Commit: 6e77341
Last Changed Date: 2020-04-27 14:59:13 -0400 (Mon, 27 Apr 2020)
malbec1 Linux (Ubuntu 18.04.4 LTS) / x86_64  OK  OK  OK UNNEEDED, same version exists in internal repository
nebbiolo1 Linux (Ubuntu 20.04.1 LTS) / x86_64  OK  OK  OK 
tokay1 Windows Server 2012 R2 Standard / x64  OK  OK  OK [ OK ]UNNEEDED, same version exists in internal repository
merida1 macOS 10.14.6 Mojave / x86_64  OK  OK  OK  OK UNNEEDED, same version exists in internal repository

Summary

Package: AMOUNTAIN
Version: 1.15.0
Command: rm -rf AMOUNTAIN.buildbin-libdir && mkdir AMOUNTAIN.buildbin-libdir && C:\Users\biocbuild\bbs-3.12-bioc\R\bin\R.exe CMD INSTALL --merge-multiarch --build --library=AMOUNTAIN.buildbin-libdir AMOUNTAIN_1.15.0.tar.gz
StartedAt: 2020-08-13 08:26:14 -0400 (Thu, 13 Aug 2020)
EndedAt: 2020-08-13 08:26:47 -0400 (Thu, 13 Aug 2020)
EllapsedTime: 32.9 seconds
RetCode: 0
Status:  OK  
PackageFile: AMOUNTAIN_1.15.0.zip
PackageFileSize: 1.192 MiB

Command output

##############################################################################
##############################################################################
###
### Running command:
###
###   rm -rf AMOUNTAIN.buildbin-libdir && mkdir AMOUNTAIN.buildbin-libdir && C:\Users\biocbuild\bbs-3.12-bioc\R\bin\R.exe CMD INSTALL --merge-multiarch --build --library=AMOUNTAIN.buildbin-libdir AMOUNTAIN_1.15.0.tar.gz
###
##############################################################################
##############################################################################



install for i386

* installing *source* package 'AMOUNTAIN' ...
** using staged installation
** libs
"C:/rtools40/mingw32/bin/"gcc  -I"C:/Users/BIOCBU~1/BBS-3~1.12-/R/include" -DNDEBUG -I/src/include -I/i386/include    -I"C:/extsoft/include"     -O2 -Wall  -std=gnu99 -mfpmath=sse -msse2 -mstackrealign -c AMOUNTAIN.c -o AMOUNTAIN.o
C:/rtools40/mingw32/bin/gcc -shared -s -static-libgcc -o AMOUNTAIN.dll tmp.def AMOUNTAIN.o -L/i386/lib -lgsl -lgslcblas -lm -LC:/extsoft/lib/i386 -LC:/extsoft/lib -LC:/Users/BIOCBU~1/BBS-3~1.12-/R/bin/i386 -lR
installing to C:/Users/biocbuild/bbs-3.12-bioc/meat/AMOUNTAIN.buildbin-libdir/00LOCK-AMOUNTAIN/00new/AMOUNTAIN/libs/i386
** R
** inst
** byte-compile and prepare package for lazy loading
** help
*** installing help indices
  converting help for package 'AMOUNTAIN'
    finding HTML links ... done
    CGPFixSS                                html  
    CGPFixSSMultiLayer                      html  
    CGPFixSSTwolayer                        html  
    EuclideanProjectionENNORM               html  
    moduleIdentificationGPFixSS             html  
    moduleIdentificationGPFixSSMultilayer   html  
    moduleIdentificationGPFixSSTwolayer     html  
    multilayernetworkSimulation             html  
    networkSimulation                       html  
    twolayernetworkSimulation               html  
** building package indices
** installing vignettes
** testing if installed package can be loaded from temporary location
** testing if installed package can be loaded from final location
** testing if installed package keeps a record of temporary installation path

install for x64

* installing *source* package 'AMOUNTAIN' ...
** libs
"C:/rtools40/mingw64/bin/"gcc  -I"C:/Users/BIOCBU~1/BBS-3~1.12-/R/include" -DNDEBUG -I/src/include -I/x64/include    -I"C:/extsoft/include"     -O2 -Wall  -std=gnu99 -mfpmath=sse -msse2 -mstackrealign -c AMOUNTAIN.c -o AMOUNTAIN.o
C:/rtools40/mingw64/bin/gcc -shared -s -static-libgcc -o AMOUNTAIN.dll tmp.def AMOUNTAIN.o -L/x64/lib -lgsl -lgslcblas -lm -LC:/extsoft/lib/x64 -LC:/extsoft/lib -LC:/Users/BIOCBU~1/BBS-3~1.12-/R/bin/x64 -lR
installing to C:/Users/biocbuild/bbs-3.12-bioc/meat/AMOUNTAIN.buildbin-libdir/AMOUNTAIN/libs/x64
** testing if installed package can be loaded
* MD5 sums
packaged installation of 'AMOUNTAIN' as AMOUNTAIN_1.15.0.zip
* DONE (AMOUNTAIN)