Back to Multiple platform build/check report for BioC 3.12
A[B]CDEFGHIJKLMNOPQRSTUVWXYZ

BUILD report for BiocSingular on merida1

This page was generated on 2021-01-22 11:57:47 -0500 (Fri, 22 Jan 2021).

TO THE DEVELOPERS/MAINTAINERS OF THE BiocSingular PACKAGE: Please make sure to use the following settings in order to reproduce any error or warning you see on this page.
Package 169/1974HostnameOS / ArchINSTALLBUILDCHECKBUILD BIN
BiocSingular 1.6.0
Aaron Lun
Snapshot Date: 2021-01-21 14:42:12 -0500 (Thu, 21 Jan 2021)
URL: https://git.bioconductor.org/packages/BiocSingular
Branch: RELEASE_3_12
Last Commit: 11baf10
Last Changed Date: 2020-10-27 11:42:55 -0500 (Tue, 27 Oct 2020)
malbec1 Linux (Ubuntu 18.04.5 LTS) / x86_64  OK  OK  OK UNNEEDED, same version exists in internal repository
nebbiolo1 Linux (Ubuntu 20.04.1 LTS) / x86_64  OK  OK  OK 
tokay1 Windows Server 2012 R2 Standard / x64  OK  OK  OK  OK UNNEEDED, same version exists in internal repository
merida1 macOS 10.14.6 Mojave / x86_64  OK [ OK ] OK  OK UNNEEDED, same version exists in internal repository

Summary

Package: BiocSingular
Version: 1.6.0
Command: /Library/Frameworks/R.framework/Versions/Current/Resources/bin/R CMD build --keep-empty-dirs --no-resave-data BiocSingular
StartedAt: 2021-01-21 18:20:49 -0500 (Thu, 21 Jan 2021)
EndedAt: 2021-01-21 18:22:28 -0500 (Thu, 21 Jan 2021)
EllapsedTime: 99.2 seconds
RetCode: 0
Status:  OK 
PackageFile: BiocSingular_1.6.0.tar.gz
PackageFileSize: 584.9 KiB

Command output

##############################################################################
##############################################################################
###
### Running command:
###
###   /Library/Frameworks/R.framework/Versions/Current/Resources/bin/R CMD build --keep-empty-dirs --no-resave-data BiocSingular
###
##############################################################################
##############################################################################


* checking for file ‘BiocSingular/DESCRIPTION’ ... OK
* preparing ‘BiocSingular’:
* checking DESCRIPTION meta-information ... OK
* cleaning src
* installing the package to build vignettes
* creating vignettes ... OK
* cleaning src
* checking for LF line-endings in source and make files and shell scripts
* checking for empty or unneeded directories
* building ‘BiocSingular_1.6.0.tar.gz’