Back to Multiple platform build/check report for BioC 3.12
ABCDEFGHIJKLMNOPQ[R]STUVWXYZ

Multiple platform build/check report for BioC 3.12

Results for RMassBank

This page was generated on 2020-10-31 12:01:58 -0400 (Sat, 31 Oct 2020).

Package 1540/1974HostnameOS / ArchINSTALLBUILDCHECKBUILD BIN
RMassBank 3.0.0
RMassBank at Eawag
Snapshot Date: 2020-10-30 14:46:53 -0400 (Fri, 30 Oct 2020)
URL: https://git.bioconductor.org/packages/RMassBank
Branch: RELEASE_3_12
Last Commit: e514334
Last Changed Date: 2020-10-27 10:46:42 -0400 (Tue, 27 Oct 2020)
malbec1 Linux (Ubuntu 18.04.4 LTS) / x86_64  OK  OK  ERROR 
nebbiolo1 Linux (Ubuntu 20.04.1 LTS) / x86_64  OK  OK  WARNINGS 
tokay1 Windows Server 2012 R2 Standard / x64  OK  OK  WARNINGS  NA 
merida1 macOS 10.14.6 Mojave / x86_64  OK  OK  WARNINGS  OK UNNEEDED, same version exists in internal repository