Back to Multiple platform build/check report for BioC 3.12
ABCDEFGHIJKLMNOPQR[S]TUVWXYZ

CHECK report for SynExtend on tokay1

This page was generated on 2021-01-19 11:56:39 -0500 (Tue, 19 Jan 2021).

TO THE DEVELOPERS/MAINTAINERS OF THE SynExtend PACKAGE: Please make sure to use the following settings in order to reproduce any error or warning you see on this page.
Package 1829/1974HostnameOS / ArchINSTALLBUILDCHECKBUILD BIN
SynExtend 1.2.0
Nicholas Cooley
Snapshot Date: 2021-01-18 14:42:24 -0500 (Mon, 18 Jan 2021)
URL: https://git.bioconductor.org/packages/SynExtend
Branch: RELEASE_3_12
Last Commit: 5786318
Last Changed Date: 2020-10-27 11:56:55 -0500 (Tue, 27 Oct 2020)
malbec1 Linux (Ubuntu 18.04.5 LTS) / x86_64  OK  OK  OK UNNEEDED, same version exists in internal repository
nebbiolo1 Linux (Ubuntu 20.04.1 LTS) / x86_64  OK  OK  OK 
tokay1 Windows Server 2012 R2 Standard / x64  OK  OK [ OK ] OK UNNEEDED, same version exists in internal repository
merida1 macOS 10.14.6 Mojave / x86_64  OK  OK  OK  OK UNNEEDED, same version exists in internal repository

Summary

Package: SynExtend
Version: 1.2.0
Command: C:\Users\biocbuild\bbs-3.12-bioc\R\bin\R.exe CMD check --force-multiarch --install=check:SynExtend.install-out.txt --library=C:\Users\biocbuild\bbs-3.12-bioc\R\library --no-vignettes --timings SynExtend_1.2.0.tar.gz
StartedAt: 2021-01-19 07:47:01 -0500 (Tue, 19 Jan 2021)
EndedAt: 2021-01-19 07:57:22 -0500 (Tue, 19 Jan 2021)
EllapsedTime: 621.7 seconds
RetCode: 0
Status:  OK  
CheckDir: SynExtend.Rcheck
Warnings: 0

Command output

##############################################################################
##############################################################################
###
### Running command:
###
###   C:\Users\biocbuild\bbs-3.12-bioc\R\bin\R.exe CMD check --force-multiarch --install=check:SynExtend.install-out.txt --library=C:\Users\biocbuild\bbs-3.12-bioc\R\library --no-vignettes --timings SynExtend_1.2.0.tar.gz
###
##############################################################################
##############################################################################


* using log directory 'C:/Users/biocbuild/bbs-3.12-bioc/meat/SynExtend.Rcheck'
* using R version 4.0.3 (2020-10-10)
* using platform: x86_64-w64-mingw32 (64-bit)
* using session charset: ISO8859-1
* using option '--no-vignettes'
* checking for file 'SynExtend/DESCRIPTION' ... OK
* checking extension type ... Package
* this is package 'SynExtend' version '1.2.0'
* package encoding: UTF-8
* checking package namespace information ... OK
* checking package dependencies ... OK
* checking if this is a source package ... OK
* checking if there is a namespace ... OK
* checking for hidden files and directories ... OK
* checking for portable file names ... OK
* checking whether package 'SynExtend' can be installed ... OK
* checking installed package size ... OK
* checking package directory ... OK
* checking 'build' directory ... OK
* checking DESCRIPTION meta-information ... OK
* checking top-level files ... OK
* checking for left-over files ... OK
* checking index information ... OK
* checking package subdirectories ... OK
* checking R files for non-ASCII characters ... OK
* checking R files for syntax errors ... OK
* loading checks for arch 'i386'
** checking whether the package can be loaded ... OK
** checking whether the package can be loaded with stated dependencies ... OK
** checking whether the package can be unloaded cleanly ... OK
** checking whether the namespace can be loaded with stated dependencies ... OK
** checking whether the namespace can be unloaded cleanly ... OK
* loading checks for arch 'x64'
** checking whether the package can be loaded ... OK
** checking whether the package can be loaded with stated dependencies ... OK
** checking whether the package can be unloaded cleanly ... OK
** checking whether the namespace can be loaded with stated dependencies ... OK
** checking whether the namespace can be unloaded cleanly ... OK
* checking dependencies in R code ... NOTE
Package in Depends field not imported from: 'igraph'
  These packages need to be imported from (in the NAMESPACE file)
  for when this namespace is loaded but not attached.
* checking S3 generic/method consistency ... OK
* checking replacement functions ... OK
* checking foreign function calls ... OK
* checking R code for possible problems ... NOTE
PairSummaries: no visible binding for global variable 'GlobalSelect'
PairSummaries: no visible binding for global variable 'LocalSelect'
PairSummaries: no visible binding for global variable 'ExactSelect'
Undefined global functions or variables:
  ExactSelect GlobalSelect LocalSelect
* checking Rd files ... OK
* checking Rd metadata ... OK
* checking Rd cross-references ... OK
* checking for missing documentation entries ... OK
* checking for code/documentation mismatches ... OK
* checking Rd \usage sections ... OK
* checking Rd contents ... OK
* checking for unstated dependencies in examples ... OK
* checking contents of 'data' directory ... OK
* checking data for non-ASCII characters ... OK
* checking data for ASCII and uncompressed saves ... OK
* checking files in 'vignettes' ... OK
* checking examples ...
** running examples for arch 'i386' ... OK
Examples with CPU (user + system) or elapsed time > 5s
                    user system elapsed
PairSummaries     105.42   0.71  106.33
NucleotideOverlap  94.61   2.32   97.53
gffToDataFrame     29.84   0.00   29.85
** running examples for arch 'x64' ... OK
Examples with CPU (user + system) or elapsed time > 5s
                    user system elapsed
PairSummaries     127.88   0.25  129.82
NucleotideOverlap 107.03   0.46  107.83
gffToDataFrame     30.64   0.00   30.64
* checking for unstated dependencies in vignettes ... OK
* checking package vignettes in 'inst/doc' ... OK
* checking running R code from vignettes ... SKIPPED
* checking re-building of vignette outputs ... SKIPPED
* checking PDF version of manual ... OK
* DONE

Status: 2 NOTEs
See
  'C:/Users/biocbuild/bbs-3.12-bioc/meat/SynExtend.Rcheck/00check.log'
for details.



Installation output

SynExtend.Rcheck/00install.out

##############################################################################
##############################################################################
###
### Running command:
###
###   C:\cygwin\bin\curl.exe -O https://malbec1.bioconductor.org/BBS/3.12/bioc/src/contrib/SynExtend_1.2.0.tar.gz && rm -rf SynExtend.buildbin-libdir && mkdir SynExtend.buildbin-libdir && C:\Users\biocbuild\bbs-3.12-bioc\R\bin\R.exe CMD INSTALL --merge-multiarch --build --library=SynExtend.buildbin-libdir SynExtend_1.2.0.tar.gz && C:\Users\biocbuild\bbs-3.12-bioc\R\bin\R.exe CMD INSTALL SynExtend_1.2.0.zip && rm SynExtend_1.2.0.tar.gz SynExtend_1.2.0.zip
###
##############################################################################
##############################################################################


  % Total    % Received % Xferd  Average Speed   Time    Time     Time  Current
                                 Dload  Upload   Total   Spent    Left  Speed

  0     0    0     0    0     0      0      0 --:--:-- --:--:-- --:--:--     0
100 1548k  100 1548k    0     0  38.4M      0 --:--:-- --:--:-- --:--:-- 43.2M

install for i386

* installing *source* package 'SynExtend' ...
** using staged installation
** R
** data
** inst
** byte-compile and prepare package for lazy loading
** help
*** installing help indices
  converting help for package 'SynExtend'
    finding HTML links ... done
    ExactSelect                             html  
    GlobalSelect                            html  
    LinkedPairs-class                       html  
    LocalSelect                             html  
    NucleotideOverlap                       html  
    finding level-2 HTML links ... done

    PairSummaries                           html  
    gffToDataFrame                          html  
** building package indices
** installing vignettes
** testing if installed package can be loaded from temporary location
** testing if installed package can be loaded from final location
** testing if installed package keeps a record of temporary installation path

install for x64

* installing *source* package 'SynExtend' ...
** testing if installed package can be loaded
* MD5 sums
packaged installation of 'SynExtend' as SynExtend_1.2.0.zip
* DONE (SynExtend)
* installing to library 'C:/Users/biocbuild/bbs-3.12-bioc/R/library'
package 'SynExtend' successfully unpacked and MD5 sums checked

Tests output


Example timings

SynExtend.Rcheck/examples_i386/SynExtend-Ex.timings

nameusersystemelapsed
ExactSelect0.010.000.02
GlobalSelect000
LocalSelect000
NucleotideOverlap94.61 2.3297.53
PairSummaries105.42 0.71106.33
gffToDataFrame29.84 0.0029.85

SynExtend.Rcheck/examples_x64/SynExtend-Ex.timings

nameusersystemelapsed
ExactSelect0.000.020.02
GlobalSelect000
LocalSelect000
NucleotideOverlap107.03 0.46107.83
PairSummaries127.88 0.25129.82
gffToDataFrame30.64 0.0030.64