Back to Multiple platform build/check report for BioC 3.12
A[B]CDEFGHIJKLMNOPQRSTUVWXYZ

BUILD report for biomaRt on merida1

This page was generated on 2020-08-07 12:22:08 -0400 (Fri, 07 Aug 2020).

TO THE DEVELOPERS/MAINTAINERS OF THE biomaRt PACKAGE: Please make sure to use the following settings in order to reproduce any error or warning you see on this page.
Package 167/1882HostnameOS / ArchINSTALLBUILDCHECKBUILD BIN
biomaRt 2.45.2
Mike Smith
Snapshot Date: 2020-08-06 14:50:46 -0400 (Thu, 06 Aug 2020)
URL: https://git.bioconductor.org/packages/biomaRt
Branch: master
Last Commit: 3994027
Last Changed Date: 2020-07-05 10:28:02 -0400 (Sun, 05 Jul 2020)
malbec1 Linux (Ubuntu 18.04.4 LTS) / x86_64  OK  OK  OK UNNEEDED, same version exists in internal repository
tokay1 Windows Server 2012 R2 Standard / x64  OK  OK  OK  OK UNNEEDED, same version exists in internal repository
merida1 macOS 10.14.6 Mojave / x86_64  OK [ OK ] OK  OK UNNEEDED, same version exists in internal repository

Summary

Package: biomaRt
Version: 2.45.2
Command: /Library/Frameworks/R.framework/Versions/Current/Resources/bin/R CMD build --keep-empty-dirs --no-resave-data biomaRt
StartedAt: 2020-08-06 17:59:41 -0400 (Thu, 06 Aug 2020)
EndedAt: 2020-08-06 18:02:40 -0400 (Thu, 06 Aug 2020)
EllapsedTime: 179.1 seconds
RetCode: 0
Status:  OK 
PackageFile: biomaRt_2.45.2.tar.gz
PackageFileSize: 724 KiB

Command output

##############################################################################
##############################################################################
###
### Running command:
###
###   /Library/Frameworks/R.framework/Versions/Current/Resources/bin/R CMD build --keep-empty-dirs --no-resave-data biomaRt
###
##############################################################################
##############################################################################


* checking for file ‘biomaRt/DESCRIPTION’ ... OK
* preparing ‘biomaRt’:
* checking DESCRIPTION meta-information ... OK
* installing the package to build vignettes
* creating vignettes ... OK
* checking for LF line-endings in source and make files and shell scripts
* checking for empty or unneeded directories
* building ‘biomaRt_2.45.2.tar.gz’