Back to Multiple platform build/check report for BioC 3.12
[A]BCDEFGHIJKLMNOPQRSTUVWXYZ

BUILD report for apeglm on tokay1

This page was generated on 2020-08-13 11:42:45 -0400 (Thu, 13 Aug 2020).

TO THE DEVELOPERS/MAINTAINERS OF THE apeglm PACKAGE: Please make sure to use the following settings in order to reproduce any error or warning you see on this page.
Package 72/1885HostnameOS / ArchINSTALLBUILDCHECKBUILD BIN
apeglm 1.11.1
Anqi Zhu
Snapshot Date: 2020-08-12 14:52:00 -0400 (Wed, 12 Aug 2020)
URL: https://git.bioconductor.org/packages/apeglm
Branch: master
Last Commit: 9fbe096
Last Changed Date: 2020-06-10 15:11:39 -0400 (Wed, 10 Jun 2020)
malbec1 Linux (Ubuntu 18.04.4 LTS) / x86_64  OK  OK  OK UNNEEDED, same version exists in internal repository
nebbiolo1 Linux (Ubuntu 20.04.1 LTS) / x86_64  OK  OK  OK 
tokay1 Windows Server 2012 R2 Standard / x64  OK [ OK ] OK  OK UNNEEDED, same version exists in internal repository
merida1 macOS 10.14.6 Mojave / x86_64  OK  OK  OK  OK UNNEEDED, same version exists in internal repository

Summary

Package: apeglm
Version: 1.11.1
Command: chmod a+r apeglm -R && C:\Users\biocbuild\bbs-3.12-bioc\R\bin\R.exe CMD build --keep-empty-dirs --no-resave-data apeglm
StartedAt: 2020-08-12 21:50:55 -0400 (Wed, 12 Aug 2020)
EndedAt: 2020-08-12 21:53:34 -0400 (Wed, 12 Aug 2020)
EllapsedTime: 158.8 seconds
RetCode: 0
Status:  OK  
PackageFile: apeglm_1.11.1.tar.gz
PackageFileSize: 429.1 KiB

Command output

##############################################################################
##############################################################################
###
### Running command:
###
###   chmod a+r apeglm -R && C:\Users\biocbuild\bbs-3.12-bioc\R\bin\R.exe CMD build --keep-empty-dirs --no-resave-data apeglm
###
##############################################################################
##############################################################################


* checking for file 'apeglm/DESCRIPTION' ... OK
* preparing 'apeglm':
* checking DESCRIPTION meta-information ... OK
* cleaning src
* installing the package to build vignettes
* creating vignettes ... OK
* cleaning src
* checking for LF line-endings in source and make files and shell scripts
* checking for empty or unneeded directories
* building 'apeglm_1.11.1.tar.gz'