Back to Multiple platform build/check report for BioC 3.12
A[B]CDEFGHIJKLMNOPQRSTUVWXYZ

BUILD BIN report for bioCancer on merida1

This page was generated on 2020-08-07 12:34:38 -0400 (Fri, 07 Aug 2020).

TO THE DEVELOPERS/MAINTAINERS OF THE bioCancer PACKAGE: Please make sure to use the following settings in order to reproduce any error or warning you see on this page.
Package 147/1882HostnameOS / ArchINSTALLBUILDCHECKBUILD BIN
bioCancer 1.17.0
Karim Mezhoud
Snapshot Date: 2020-08-06 14:50:46 -0400 (Thu, 06 Aug 2020)
URL: https://git.bioconductor.org/packages/bioCancer
Branch: master
Last Commit: 9ab1d92
Last Changed Date: 2020-04-27 14:57:51 -0400 (Mon, 27 Apr 2020)
malbec1 Linux (Ubuntu 18.04.4 LTS) / x86_64  OK  OK  WARNINGS UNNEEDED, same version exists in internal repository
tokay1 Windows Server 2012 R2 Standard / x64  OK  OK  WARNINGS  OK UNNEEDED, same version exists in internal repository
merida1 macOS 10.14.6 Mojave / x86_64  OK  OK  WARNINGS [ OK ]UNNEEDED, same version exists in internal repository

Summary

Package: bioCancer
Version: 1.17.0
Command: rm -rf bioCancer.buildbin-libdir && mkdir bioCancer.buildbin-libdir && /Users/biocbuild/BBS/utils/build-universal.sh bioCancer_1.17.0.tar.gz /Library/Frameworks/R.framework/Versions/Current/Resources/bin/R bioCancer.buildbin-libdir
StartedAt: 2020-08-07 07:07:32 -0400 (Fri, 07 Aug 2020)
EndedAt: 2020-08-07 07:08:06 -0400 (Fri, 07 Aug 2020)
EllapsedTime: 34.2 seconds
RetCode: 0
Status:  OK 
PackageFile: bioCancer_1.17.0.tgz
PackageFileSize: 6.409 MiB

Command output

##############################################################################
##############################################################################
###
### Running command:
###
###   rm -rf bioCancer.buildbin-libdir && mkdir bioCancer.buildbin-libdir && /Users/biocbuild/BBS/utils/build-universal.sh bioCancer_1.17.0.tar.gz /Library/Frameworks/R.framework/Versions/Current/Resources/bin/R bioCancer.buildbin-libdir
###
##############################################################################
##############################################################################


>>>>>>> 
>>>>>>> INSTALLATION WITH 'R CMD INSTALL --preclean --no-multiarch --library=bioCancer.buildbin-libdir bioCancer_1.17.0.tar.gz'
>>>>>>> 

* installing *source* package ‘bioCancer’ ...
** using staged installation
** R
** data
*** moving datasets to lazyload DB
** inst
** byte-compile and prepare package for lazy loading
** help
*** installing help indices
** building package indices
** installing vignettes
** testing if installed package can be loaded from temporary location
** testing if installed package can be loaded from final location
** testing if installed package keeps a record of temporary installation path
* DONE (bioCancer)