This page was generated on 2021-01-19 11:51:11 -0500 (Tue, 19 Jan 2021).
GSAR 1.24.0 Yasir Rahmatallah , Galina Glazko
Snapshot Date: 2021-01-18 14:42:24 -0500 (Mon, 18 Jan 2021) |
URL: https://git.bioconductor.org/packages/GSAR |
Branch: RELEASE_3_12 |
Last Commit: b6c9d79 |
Last Changed Date: 2020-10-27 10:57:07 -0500 (Tue, 27 Oct 2020) |
| malbec1 | Linux (Ubuntu 18.04.5 LTS) / x86_64 | OK | OK | OK | |  |
nebbiolo1 | Linux (Ubuntu 20.04.1 LTS) / x86_64 | OK | OK | OK | | |
tokay1 | Windows Server 2012 R2 Standard / x64 | OK | OK | OK | OK |  |
merida1 | macOS 10.14.6 Mojave / x86_64 | OK | OK | OK | OK |  |