Back to Multiple platform build/check report for BioC 3.12
A[B]CDEFGHIJKLMNOPQRSTUVWXYZ

INSTALL report for BridgeDbR on tokay1

This page was generated on 2020-08-06 11:58:43 -0400 (Thu, 06 Aug 2020).

TO THE DEVELOPERS/MAINTAINERS OF THE BridgeDbR PACKAGE: Please make sure to use the following settings in order to reproduce any error or warning you see on this page.
Package 200/1882HostnameOS / ArchINSTALLBUILDCHECKBUILD BIN
BridgeDbR 1.23.0
Egon Willighagen
Snapshot Date: 2020-08-05 14:50:59 -0400 (Wed, 05 Aug 2020)
URL: https://git.bioconductor.org/packages/BridgeDbR
Branch: master
Last Commit: ee9ccef
Last Changed Date: 2020-04-27 14:45:02 -0400 (Mon, 27 Apr 2020)
malbec1 Linux (Ubuntu 18.04.4 LTS) / x86_64  OK  OK  OK UNNEEDED, same version exists in internal repository
tokay1 Windows Server 2012 R2 Standard / x64 [ ERROR ] OK  ERROR  ERROR 
merida1 macOS 10.14.6 Mojave / x86_64  OK  OK  OK  OK UNNEEDED, same version exists in internal repository

Summary

Package: BridgeDbR
Version: 1.23.0
Command: C:\cygwin\bin\curl.exe -O https://malbec1.bioconductor.org/BBS/3.12/bioc/src/contrib/BridgeDbR_1.23.0.tar.gz && rm -rf BridgeDbR.buildbin-libdir && mkdir BridgeDbR.buildbin-libdir && C:\Users\biocbuild\bbs-3.12-bioc\R\bin\R.exe CMD INSTALL --merge-multiarch --build --library=BridgeDbR.buildbin-libdir BridgeDbR_1.23.0.tar.gz && C:\Users\biocbuild\bbs-3.12-bioc\R\bin\R.exe CMD INSTALL BridgeDbR_1.23.0.zip && rm BridgeDbR_1.23.0.tar.gz BridgeDbR_1.23.0.zip
StartedAt: 2020-08-05 16:43:19 -0400 (Wed, 05 Aug 2020)
EndedAt: 2020-08-05 16:43:46 -0400 (Wed, 05 Aug 2020)
EllapsedTime: 26.8 seconds
RetCode: 1
Status:  ERROR  

Command output

##############################################################################
##############################################################################
###
### Running command:
###
###   C:\cygwin\bin\curl.exe -O https://malbec1.bioconductor.org/BBS/3.12/bioc/src/contrib/BridgeDbR_1.23.0.tar.gz && rm -rf BridgeDbR.buildbin-libdir && mkdir BridgeDbR.buildbin-libdir && C:\Users\biocbuild\bbs-3.12-bioc\R\bin\R.exe CMD INSTALL --merge-multiarch --build --library=BridgeDbR.buildbin-libdir BridgeDbR_1.23.0.tar.gz && C:\Users\biocbuild\bbs-3.12-bioc\R\bin\R.exe CMD INSTALL BridgeDbR_1.23.0.zip && rm BridgeDbR_1.23.0.tar.gz BridgeDbR_1.23.0.zip
###
##############################################################################
##############################################################################


  % Total    % Received % Xferd  Average Speed   Time    Time     Time  Current
                                 Dload  Upload   Total   Spent    Left  Speed

  0     0    0     0    0     0      0      0 --:--:-- --:--:-- --:--:--     0
100 2369k  100 2369k    0     0  27.1M      0 --:--:-- --:--:-- --:--:-- 28.5M

install for i386

* installing *source* package 'BridgeDbR' ...
** using staged installation
** R
** inst
** byte-compile and prepare package for lazy loading
Error: package 'rJava' is not installed for 'arch = i386'
Execution halted
ERROR: lazy loading failed for package 'BridgeDbR'
* removing 'C:/Users/biocbuild/bbs-3.12-bioc/meat/BridgeDbR.buildbin-libdir/BridgeDbR'