Back to Multiple platform build/check report for BioC 3.12
AB[C]DEFGHIJKLMNOPQRSTUVWXYZ

BUILD report for CAGEr on tokay1

This page was generated on 2020-08-06 11:55:26 -0400 (Thu, 06 Aug 2020).

TO THE DEVELOPERS/MAINTAINERS OF THE CAGEr PACKAGE: Please make sure to use the following settings in order to reproduce any error or warning you see on this page.
Package 214/1882HostnameOS / ArchINSTALLBUILDCHECKBUILD BIN
CAGEr 1.31.4
Vanja Haberle , Charles Plessy , Damir Baranasic , Sarvesh Nikumbh
Snapshot Date: 2020-08-05 14:50:59 -0400 (Wed, 05 Aug 2020)
URL: https://git.bioconductor.org/packages/CAGEr
Branch: master
Last Commit: f845b5c
Last Changed Date: 2020-07-14 02:01:55 -0400 (Tue, 14 Jul 2020)
malbec1 Linux (Ubuntu 18.04.4 LTS) / x86_64  OK  OK  OK UNNEEDED, same version exists in internal repository
tokay1 Windows Server 2012 R2 Standard / x64  OK [ OK ] WARNINGS  OK UNNEEDED, same version exists in internal repository
merida1 macOS 10.14.6 Mojave / x86_64  OK  OK  OK  OK UNNEEDED, same version exists in internal repository

Summary

Package: CAGEr
Version: 1.31.4
Command: chmod a+r CAGEr -R && C:\Users\biocbuild\bbs-3.12-bioc\R\bin\R.exe CMD build --keep-empty-dirs --no-resave-data CAGEr
StartedAt: 2020-08-05 19:57:26 -0400 (Wed, 05 Aug 2020)
EndedAt: 2020-08-05 20:00:54 -0400 (Wed, 05 Aug 2020)
EllapsedTime: 208.7 seconds
RetCode: 0
Status:  OK  
PackageFile: CAGEr_1.31.4.tar.gz
PackageFileSize: 1.615 MiB

Command output

##############################################################################
##############################################################################
###
### Running command:
###
###   chmod a+r CAGEr -R && C:\Users\biocbuild\bbs-3.12-bioc\R\bin\R.exe CMD build --keep-empty-dirs --no-resave-data CAGEr
###
##############################################################################
##############################################################################


* checking for file 'CAGEr/DESCRIPTION' ... OK
* preparing 'CAGEr':
* checking DESCRIPTION meta-information ... OK
* installing the package to build vignettes
* creating vignettes ... OK
* checking for LF line-endings in source and make files and shell scripts
* checking for empty or unneeded directories
* building 'CAGEr_1.31.4.tar.gz'