Back to Multiple platform build/check report for BioC 3.12
ABCDEFGH[I]JKLMNOPQRSTUVWXYZ

Multiple platform build/check report for BioC 3.12

Results for impute

This page was generated on 2020-10-24 10:55:51 -0400 (Sat, 24 Oct 2020).

Package 891/1974HostnameOS / ArchINSTALLBUILDCHECKBUILD BIN
impute 1.63.0
Balasubramanian Narasimhan
Snapshot Date: 2020-10-23 14:40:36 -0400 (Fri, 23 Oct 2020)
URL: https://git.bioconductor.org/packages/impute
Branch: master
Last Commit: 2aebbfa
Last Changed Date: 2020-04-27 14:09:19 -0400 (Mon, 27 Apr 2020)
malbec1 Linux (Ubuntu 18.04.4 LTS) / x86_64  OK  OK  OK UNNEEDED, same version exists in internal repository
nebbiolo1 Linux (Ubuntu 20.04.1 LTS) / x86_64  OK  OK  OK 
tokay1 Windows Server 2012 R2 Standard / x64  OK  OK  OK  OK UNNEEDED, same version exists in internal repository
riesling1 Windows Server 2019 Standard / x64  OK  OK  OK  OK 
merida1 macOS 10.14.6 Mojave / x86_64  OK  OK  OK  OK UNNEEDED, same version exists in internal repository