Back to Multiple platform build/check report for BioC 3.12
ABCDEFGHIJKLMN[O]PQRSTUVWXYZ

Multiple platform build/check report for BioC 3.12

Results for package openCyto

This page was generated on 2021-03-02 12:11:59 -0500 (Tue, 02 Mar 2021).

Package 1268/1974HostnameOS / ArchINSTALLBUILDCHECKBUILD BIN
openCyto 2.2.0
Mike Jiang ,Jake Wagner
Snapshot Date: 2021-03-01 14:52:38 -0500 (Mon, 01 Mar 2021)
URL: https://git.bioconductor.org/packages/openCyto
Branch: RELEASE_3_12
Last Commit: 039c1d7
Last Changed Date: 2020-10-27 10:53:32 -0500 (Tue, 27 Oct 2020)
malbec1Linux (Ubuntu 18.04.5 LTS) / x86_64  OK    OK    OK  UNNEEDED, same version exists in internal repository
nebbiolo1Linux (Ubuntu 20.04.2 LTS) / x86_64  OK    OK    OK  
tokay1Windows Server 2012 R2 Standard / x64  OK    OK    WARNINGS    OK  UNNEEDED, same version exists in internal repository
merida1macOS 10.14.6 Mojave / x86_64  OK    OK    OK    OK  UNNEEDED, same version exists in internal repository