Back to Multiple platform build/check report for BioC 3.12
A[B]CDEFGHIJKLMNOPQRSTUVWXYZ

INSTALL report for BioTIP on tokay1

This page was generated on 2021-01-24 11:53:44 -0500 (Sun, 24 Jan 2021).

TO THE DEVELOPERS/MAINTAINERS OF THE BioTIP PACKAGE: Please make sure to use the following settings in order to reproduce any error or warning you see on this page.
Package 188/1974HostnameOS / ArchINSTALLBUILDCHECKBUILD BIN
BioTIP 1.4.0
Yuxi (Jennifer) Sun , Zhezhen Wang , and X Holly Yang
Snapshot Date: 2021-01-23 14:40:16 -0500 (Sat, 23 Jan 2021)
URL: https://git.bioconductor.org/packages/BioTIP
Branch: RELEASE_3_12
Last Commit: 7fbbf0f
Last Changed Date: 2020-10-27 11:49:44 -0500 (Tue, 27 Oct 2020)
malbec1 Linux (Ubuntu 18.04.5 LTS) / x86_64  OK  OK  WARNINGS UNNEEDED, same version exists in internal repository
nebbiolo1 Linux (Ubuntu 20.04.1 LTS) / x86_64  OK  OK  WARNINGS 
tokay1 Windows Server 2012 R2 Standard / x64 [ OK ] OK  WARNINGS  OK UNNEEDED, same version exists in internal repository
merida1 macOS 10.14.6 Mojave / x86_64  OK  OK  WARNINGS  OK UNNEEDED, same version exists in internal repository

Summary

Package: BioTIP
Version: 1.4.0
Command: C:\cygwin\bin\curl.exe -O https://malbec1.bioconductor.org/BBS/3.12/bioc/src/contrib/BioTIP_1.4.0.tar.gz && rm -rf BioTIP.buildbin-libdir && mkdir BioTIP.buildbin-libdir && C:\Users\biocbuild\bbs-3.12-bioc\R\bin\R.exe CMD INSTALL --merge-multiarch --build --library=BioTIP.buildbin-libdir BioTIP_1.4.0.tar.gz && C:\Users\biocbuild\bbs-3.12-bioc\R\bin\R.exe CMD INSTALL BioTIP_1.4.0.zip && rm BioTIP_1.4.0.tar.gz BioTIP_1.4.0.zip
StartedAt: 2021-01-23 17:54:35 -0500 (Sat, 23 Jan 2021)
EndedAt: 2021-01-23 17:55:33 -0500 (Sat, 23 Jan 2021)
EllapsedTime: 58.2 seconds
RetCode: 0
Status:  OK  

Command output

##############################################################################
##############################################################################
###
### Running command:
###
###   C:\cygwin\bin\curl.exe -O https://malbec1.bioconductor.org/BBS/3.12/bioc/src/contrib/BioTIP_1.4.0.tar.gz && rm -rf BioTIP.buildbin-libdir && mkdir BioTIP.buildbin-libdir && C:\Users\biocbuild\bbs-3.12-bioc\R\bin\R.exe CMD INSTALL --merge-multiarch --build --library=BioTIP.buildbin-libdir BioTIP_1.4.0.tar.gz && C:\Users\biocbuild\bbs-3.12-bioc\R\bin\R.exe CMD INSTALL BioTIP_1.4.0.zip && rm BioTIP_1.4.0.tar.gz BioTIP_1.4.0.zip
###
##############################################################################
##############################################################################


  % Total    % Received % Xferd  Average Speed   Time    Time     Time  Current
                                 Dload  Upload   Total   Spent    Left  Speed

  0     0    0     0    0     0      0      0 --:--:-- --:--:-- --:--:--     0
100 6066k  100 6066k    0     0  26.4M      0 --:--:-- --:--:-- --:--:-- 26.9M

install for i386

* installing *source* package 'BioTIP' ...
** using staged installation
** R
** data
*** moving datasets to lazyload DB
** byte-compile and prepare package for lazy loading
** help
*** installing help indices
  converting help for package 'BioTIP'
    finding HTML links ... done
    BioTIP-package                          html  
    GSE6136_cli                             html  
    GSE6136_matrix                          html  
    ILEF                                    html  
    avg.cor.shrink                          html  
    cod                                     html  
    cor.shrink                              html  
    gencode                                 html  
    getBiotypes                             html  
    getCTS                                  html  
    getCluster_methods                      html  
    getIc                                   html  
    getIc.new                               html  
    getMCI                                  html  
    finding level-2 HTML links ... done

    getMCI_inner                            html  
    getMaxMCImember                         html  
    getMaxStats                             html  
    getNetwork                              html  
    getReadthrough                          html  
    intron                                  html  
    optimize.sd_selection                   html  
    plotBar_MCI                             html  
    plotIc                                  html  
    plotMaxMCI                              html  
    plot_Ic_Simulation                      html  
    plot_MCI_Simulation                     html  
    plot_SS_Simulation                      html  
    sd_selection                            html  
    simulationMCI                           html  
    simulation_Ic                           html  
    simulation_Ic_sample                    html  
** building package indices
** installing vignettes
** testing if installed package can be loaded from temporary location
** testing if installed package can be loaded from final location
** testing if installed package keeps a record of temporary installation path

install for x64

* installing *source* package 'BioTIP' ...
** testing if installed package can be loaded
* MD5 sums
packaged installation of 'BioTIP' as BioTIP_1.4.0.zip
* DONE (BioTIP)
* installing to library 'C:/Users/biocbuild/bbs-3.12-bioc/R/library'
package 'BioTIP' successfully unpacked and MD5 sums checked