Back to Multiple platform build/check report for BioC 3.12
[A]BCDEFGHIJKLMNOPQRSTUVWXYZ

CHECK report for ADAMgui on tokay1

This page was generated on 2020-08-09 12:16:58 -0400 (Sun, 09 Aug 2020).

TO THE DEVELOPERS/MAINTAINERS OF THE ADAMgui PACKAGE: Please make sure to use the following settings in order to reproduce any error or warning you see on this page.
Package 17/1882HostnameOS / ArchINSTALLBUILDCHECKBUILD BIN
ADAMgui 1.5.0
Jose Luiz Rybarczyk Filho
Snapshot Date: 2020-08-08 14:51:01 -0400 (Sat, 08 Aug 2020)
URL: https://git.bioconductor.org/packages/ADAMgui
Branch: master
Last Commit: e66306f
Last Changed Date: 2020-04-27 15:26:00 -0400 (Mon, 27 Apr 2020)
malbec1 Linux (Ubuntu 18.04.4 LTS) / x86_64  OK  OK  OK UNNEEDED, same version exists in internal repository
nebbiolo1 Linux (Ubuntu 20.04.1 LTS) / x86_64  OK  OK  OK 
tokay1 Windows Server 2012 R2 Standard / x64  OK  OK [ OK ] OK UNNEEDED, same version exists in internal repository
merida1 macOS 10.14.6 Mojave / x86_64  OK  OK  OK  OK UNNEEDED, same version exists in internal repository

Summary

Package: ADAMgui
Version: 1.5.0
Command: C:\Users\biocbuild\bbs-3.12-bioc\R\bin\R.exe CMD check --force-multiarch --install=check:ADAMgui.install-out.txt --library=C:\Users\biocbuild\bbs-3.12-bioc\R\library --no-vignettes --timings ADAMgui_1.5.0.tar.gz
StartedAt: 2020-08-09 05:14:04 -0400 (Sun, 09 Aug 2020)
EndedAt: 2020-08-09 05:18:34 -0400 (Sun, 09 Aug 2020)
EllapsedTime: 269.8 seconds
RetCode: 0
Status:  OK  
CheckDir: ADAMgui.Rcheck
Warnings: 0

Command output

##############################################################################
##############################################################################
###
### Running command:
###
###   C:\Users\biocbuild\bbs-3.12-bioc\R\bin\R.exe CMD check --force-multiarch --install=check:ADAMgui.install-out.txt --library=C:\Users\biocbuild\bbs-3.12-bioc\R\library --no-vignettes --timings ADAMgui_1.5.0.tar.gz
###
##############################################################################
##############################################################################


* using log directory 'C:/Users/biocbuild/bbs-3.12-bioc/meat/ADAMgui.Rcheck'
* using R version 4.0.2 (2020-06-22)
* using platform: x86_64-w64-mingw32 (64-bit)
* using session charset: ISO8859-1
* using option '--no-vignettes'
* checking for file 'ADAMgui/DESCRIPTION' ... OK
* checking extension type ... Package
* this is package 'ADAMgui' version '1.5.0'
* package encoding: UTF-8
* checking package namespace information ... OK
* checking package dependencies ... OK
* checking if this is a source package ... OK
* checking if there is a namespace ... OK
* checking for hidden files and directories ... OK
* checking for portable file names ... OK
* checking whether package 'ADAMgui' can be installed ... OK
* checking installed package size ... OK
* checking package directory ... OK
* checking 'build' directory ... OK
* checking DESCRIPTION meta-information ... OK
* checking top-level files ... OK
* checking for left-over files ... OK
* checking index information ... OK
* checking package subdirectories ... OK
* checking R files for non-ASCII characters ... OK
* checking R files for syntax errors ... OK
* loading checks for arch 'i386'
** checking whether the package can be loaded ... OK
** checking whether the package can be loaded with stated dependencies ... OK
** checking whether the package can be unloaded cleanly ... OK
** checking whether the namespace can be loaded with stated dependencies ... OK
** checking whether the namespace can be unloaded cleanly ... OK
* loading checks for arch 'x64'
** checking whether the package can be loaded ... OK
** checking whether the package can be loaded with stated dependencies ... OK
** checking whether the package can be unloaded cleanly ... OK
** checking whether the namespace can be loaded with stated dependencies ... OK
** checking whether the namespace can be unloaded cleanly ... OK
* checking dependencies in R code ... NOTE
Package in Depends field not imported from: 'methods'
  These packages need to be imported from (in the NAMESPACE file)
  for when this namespace is loaded but not attached.
* checking S3 generic/method consistency ... OK
* checking replacement functions ... OK
* checking foreign function calls ... OK
* checking R code for possible problems ... OK
* checking Rd files ... OK
* checking Rd metadata ... OK
* checking Rd cross-references ... OK
* checking for missing documentation entries ... OK
* checking for code/documentation mismatches ... OK
* checking Rd \usage sections ... OK
* checking Rd contents ... OK
* checking for unstated dependencies in examples ... OK
* checking contents of 'data' directory ... OK
* checking data for non-ASCII characters ... NOTE
  Note: found 3 marked UTF-8 strings
* checking data for ASCII and uncompressed saves ... OK
* checking files in 'vignettes' ... OK
* checking examples ...
** running examples for arch 'i386' ... OK
** running examples for arch 'x64' ... OK
* checking for unstated dependencies in vignettes ... OK
* checking package vignettes in 'inst/doc' ... OK
* checking running R code from vignettes ... SKIPPED
* checking re-building of vignette outputs ... SKIPPED
* checking PDF version of manual ... OK
* DONE

Status: 2 NOTEs
See
  'C:/Users/biocbuild/bbs-3.12-bioc/meat/ADAMgui.Rcheck/00check.log'
for details.



Installation output

ADAMgui.Rcheck/00install.out

##############################################################################
##############################################################################
###
### Running command:
###
###   C:\cygwin\bin\curl.exe -O https://malbec1.bioconductor.org/BBS/3.12/bioc/src/contrib/ADAMgui_1.5.0.tar.gz && rm -rf ADAMgui.buildbin-libdir && mkdir ADAMgui.buildbin-libdir && C:\Users\biocbuild\bbs-3.12-bioc\R\bin\R.exe CMD INSTALL --merge-multiarch --build --library=ADAMgui.buildbin-libdir ADAMgui_1.5.0.tar.gz && C:\Users\biocbuild\bbs-3.12-bioc\R\bin\R.exe CMD INSTALL ADAMgui_1.5.0.zip && rm ADAMgui_1.5.0.tar.gz ADAMgui_1.5.0.zip
###
##############################################################################
##############################################################################


  % Total    % Received % Xferd  Average Speed   Time    Time     Time  Current
                                 Dload  Upload   Total   Spent    Left  Speed

  0     0    0     0    0     0      0      0 --:--:-- --:--:-- --:--:--     0
100  961k  100  961k    0     0  15.0M      0 --:--:-- --:--:-- --:--:-- 15.9M

install for i386

* installing *source* package 'ADAMgui' ...
** using staged installation
** R
** data
** inst
** byte-compile and prepare package for lazy loading
** help
*** installing help indices
  converting help for package 'ADAMgui'
    finding HTML links ... done
    DiffAedes                               html  
    GFAGpathUi                              html  
    GFAGtargetUi                            html  
    GeneFunctionAedes                       html  
    ResultAnalysisAedes                     html  
** building package indices
** installing vignettes
** testing if installed package can be loaded from temporary location
** testing if installed package can be loaded from final location
** testing if installed package keeps a record of temporary installation path

install for x64

* installing *source* package 'ADAMgui' ...
** testing if installed package can be loaded
* MD5 sums
packaged installation of 'ADAMgui' as ADAMgui_1.5.0.zip
* DONE (ADAMgui)
* installing to library 'C:/Users/biocbuild/bbs-3.12-bioc/R/library'
package 'ADAMgui' successfully unpacked and MD5 sums checked

Tests output


Example timings

ADAMgui.Rcheck/examples_i386/ADAMgui-Ex.timings

nameusersystemelapsed
DiffAedes0.040.000.04
GFAGpathUi0.030.020.04
GFAGtargetUi0.030.000.03
GeneFunctionAedes000
ResultAnalysisAedes000

ADAMgui.Rcheck/examples_x64/ADAMgui-Ex.timings

nameusersystemelapsed
DiffAedes0.030.000.03
GFAGpathUi0.030.010.05
GFAGtargetUi0.030.020.05
GeneFunctionAedes0.010.000.01
ResultAnalysisAedes000