Back to Multiple platform build/check report for BioC 3.12
ABCDEFGHIJKLMN[O]PQRSTUVWXYZ

Multiple platform build/check report for BioC 3.12

All results for package oligoClasses

This page was generated on 2021-04-15 12:17:29 -0400 (Thu, 15 Apr 2021).

Package 1247/1974HostnameOS / ArchINSTALLBUILDCHECKBUILD BIN
oligoClasses 1.52.0  (landing page)
Benilton Carvalho and Robert Scharpf
Snapshot Date: 2021-04-14 14:50:05 -0400 (Wed, 14 Apr 2021)
URL: https://git.bioconductor.org/packages/oligoClasses
Branch: RELEASE_3_12
Last Commit: 7995efb
Last Changed Date: 2020-10-27 10:31:54 -0400 (Tue, 27 Oct 2020)
malbec1Linux (Ubuntu 18.04.5 LTS) / x86_64  OK    OK    WARNINGS  UNNEEDED, same version exists in internal repository
tokay1Windows Server 2012 R2 Standard / x64  OK    OK    WARNINGS    OK  UNNEEDED, same version exists in internal repository
merida1macOS 10.14.6 Mojave / x86_64  OK    OK    WARNINGS    OK  UNNEEDED, same version exists in internal repository

Results for Bioconductor software packages that depend directly on package oligoClasses

QUICK STATSOS / ArchINSTALLBUILDCHECKBUILD BIN
malbec1Linux (Ubuntu 18.04.5 LTS) / x86_64
0013
0112
0039
tokay1Windows Server 2012 R2 Standard / x64
0013
0112
0075
0012
merida1macOS 10.14.6 Mojave / x86_64
0013
0112
0048
0012
Package 1/13HostnameOS / ArchINSTALLBUILDCHECKBUILD BIN
affycoretools 1.62.0  (landing page)
James W. MacDonald
Last Commit: c9779e4
Last Changed Date: 2020-10-27 10:27:23 -0400
malbec1Linux (Ubuntu 18.04.5 LTS) / x86_64  OK    OK    OK  UNNEEDED, same version exists in internal repository
tokay1Windows Server 2012 R2 Standard / x64  OK    OK    WARNINGS    OK  UNNEEDED, same version exists in internal repository
merida1macOS 10.14.6 Mojave / x86_64  OK    OK    OK    OK  UNNEEDED, same version exists in internal repository
Package 2/13HostnameOS / ArchINSTALLBUILDCHECKBUILD BIN
ArrayTV 1.28.0  (landing page)
Eitan Halper-Stromberg
Last Commit: f8ad413
Last Changed Date: 2020-10-27 10:52:44 -0400
malbec1Linux (Ubuntu 18.04.5 LTS) / x86_64  OK    ERROR  skipped
tokay1Windows Server 2012 R2 Standard / x64  OK    ERROR  skippedskipped
merida1macOS 10.14.6 Mojave / x86_64  OK    ERROR  skippedskipped
Package 3/13HostnameOS / ArchINSTALLBUILDCHECKBUILD BIN
cn.farms 1.38.0  (landing page)
Andreas Mitterecker
Last Commit: 4d1b4e0
Last Changed Date: 2020-10-27 10:40:46 -0400
malbec1Linux (Ubuntu 18.04.5 LTS) / x86_64  OK    OK    OK  UNNEEDED, same version exists in internal repository
tokay1Windows Server 2012 R2 Standard / x64  OK    OK    OK    OK  UNNEEDED, same version exists in internal repository
merida1macOS 10.14.6 Mojave / x86_64  OK    OK    OK    OK  UNNEEDED, same version exists in internal repository
Package 4/13HostnameOS / ArchINSTALLBUILDCHECKBUILD BIN
crlmm 1.48.0  (landing page)
Benilton S Carvalho
Last Commit: bb8c119
Last Changed Date: 2020-10-27 10:35:27 -0400
malbec1Linux (Ubuntu 18.04.5 LTS) / x86_64  OK    OK    OK  UNNEEDED, same version exists in internal repository
tokay1Windows Server 2012 R2 Standard / x64  OK    OK    WARNINGS    OK  UNNEEDED, same version exists in internal repository
merida1macOS 10.14.6 Mojave / x86_64  OK    OK    OK    OK  UNNEEDED, same version exists in internal repository
Package 5/13HostnameOS / ArchINSTALLBUILDCHECKBUILD BIN
frma 1.42.0  (landing page)
Matthew N. McCall
Last Commit: 4a819d8
Last Changed Date: 2020-10-27 10:37:17 -0400
malbec1Linux (Ubuntu 18.04.5 LTS) / x86_64  OK    OK    OK  UNNEEDED, same version exists in internal repository
tokay1Windows Server 2012 R2 Standard / x64  OK    OK    OK    OK  UNNEEDED, same version exists in internal repository
merida1macOS 10.14.6 Mojave / x86_64  OK    OK    OK    OK  UNNEEDED, same version exists in internal repository
Package 6/13HostnameOS / ArchINSTALLBUILDCHECKBUILD BIN
ITALICS 2.50.0  (landing page)
Guillem Rigaill
Last Commit: d9e57ac
Last Changed Date: 2020-10-27 10:34:00 -0400
malbec1Linux (Ubuntu 18.04.5 LTS) / x86_64  OK    OK    OK  UNNEEDED, same version exists in internal repository
tokay1Windows Server 2012 R2 Standard / x64  OK    OK    OK    OK  UNNEEDED, same version exists in internal repository
merida1macOS 10.14.6 Mojave / x86_64  OK    OK    OK    OK  UNNEEDED, same version exists in internal repository
Package 7/13HostnameOS / ArchINSTALLBUILDCHECKBUILD BIN
mBPCR 1.44.0  (landing page)
P.M.V. Rancoita
Last Commit: d64dedf
Last Changed Date: 2020-10-27 10:36:15 -0400
malbec1Linux (Ubuntu 18.04.5 LTS) / x86_64  OK    OK    OK  UNNEEDED, same version exists in internal repository
tokay1Windows Server 2012 R2 Standard / x64  OK    OK    OK    OK  UNNEEDED, same version exists in internal repository
merida1macOS 10.14.6 Mojave / x86_64  OK    OK    OK    OK  UNNEEDED, same version exists in internal repository
Package 8/13HostnameOS / ArchINSTALLBUILDCHECKBUILD BIN
mimager 1.14.0  (landing page)
Aaron Wolen
Last Commit: 79b8f00
Last Changed Date: 2020-10-27 11:20:46 -0400
malbec1Linux (Ubuntu 18.04.5 LTS) / x86_64  OK    OK    OK  UNNEEDED, same version exists in internal repository
tokay1Windows Server 2012 R2 Standard / x64  OK    OK    WARNINGS    OK  UNNEEDED, same version exists in internal repository
merida1macOS 10.14.6 Mojave / x86_64  OK    OK    OK    OK  UNNEEDED, same version exists in internal repository
Package 9/13HostnameOS / ArchINSTALLBUILDCHECKBUILD BIN
MinimumDistance 1.34.0  (landing page)
Robert Scharpf
Last Commit: 50ebfdd
Last Changed Date: 2020-10-27 10:45:43 -0400
malbec1Linux (Ubuntu 18.04.5 LTS) / x86_64  OK    OK    WARNINGS  UNNEEDED, same version exists in internal repository
tokay1Windows Server 2012 R2 Standard / x64  OK    OK    WARNINGS    OK  UNNEEDED, same version exists in internal repository
merida1macOS 10.14.6 Mojave / x86_64  OK    OK    WARNINGS    OK  UNNEEDED, same version exists in internal repository
Package 10/13HostnameOS / ArchINSTALLBUILDCHECKBUILD BIN
oligo 1.54.1  (landing page)
Benilton Carvalho
Last Commit: 4988b63
Last Changed Date: 2020-11-03 14:46:19 -0400
malbec1Linux (Ubuntu 18.04.5 LTS) / x86_64  OK    OK    WARNINGS  UNNEEDED, same version exists in internal repository
tokay1Windows Server 2012 R2 Standard / x64  OK    OK    WARNINGS    OK  UNNEEDED, same version exists in internal repository
merida1macOS 10.14.6 Mojave / x86_64  OK    OK    WARNINGS    OK  UNNEEDED, same version exists in internal repository
Package 11/13HostnameOS / ArchINSTALLBUILDCHECKBUILD BIN
pdInfoBuilder 1.54.0  (landing page)
Benilton Carvalho
Last Commit: 7d43340
Last Changed Date: 2020-10-27 10:30:10 -0400
malbec1Linux (Ubuntu 18.04.5 LTS) / x86_64  OK    OK    OK  UNNEEDED, same version exists in internal repository
tokay1Windows Server 2012 R2 Standard / x64  OK    OK    OK    OK  UNNEEDED, same version exists in internal repository
merida1macOS 10.14.6 Mojave / x86_64  OK    OK    OK    OK  UNNEEDED, same version exists in internal repository
Package 12/13HostnameOS / ArchINSTALLBUILDCHECKBUILD BIN
puma 3.32.0  (landing page)
Xuejun Liu
Last Commit: 7b61bfc
Last Changed Date: 2020-10-27 10:31:19 -0400
malbec1Linux (Ubuntu 18.04.5 LTS) / x86_64  OK    OK    OK  UNNEEDED, same version exists in internal repository
tokay1Windows Server 2012 R2 Standard / x64  OK    OK    WARNINGS    OK  UNNEEDED, same version exists in internal repository
merida1macOS 10.14.6 Mojave / x86_64  OK    OK    WARNINGS    OK  UNNEEDED, same version exists in internal repository
Package 13/13HostnameOS / ArchINSTALLBUILDCHECKBUILD BIN
VanillaICE 1.52.0  (landing page)
Robert Scharpf
Last Commit: ae97bd8
Last Changed Date: 2020-10-27 10:31:57 -0400
malbec1Linux (Ubuntu 18.04.5 LTS) / x86_64  OK    OK    WARNINGS  UNNEEDED, same version exists in internal repository
tokay1Windows Server 2012 R2 Standard / x64  OK    OK    WARNINGS    OK  UNNEEDED, same version exists in internal repository
merida1macOS 10.14.6 Mojave / x86_64  OK    OK    WARNINGS    OK  UNNEEDED, same version exists in internal repository