Back to Multiple platform build/check report for BioC 3.12
[A]BCDEFGHIJKLMNOPQRSTUVWXYZ

BUILD BIN report for AnnotationHubData on merida1

This page was generated on 2020-08-11 11:57:53 -0400 (Tue, 11 Aug 2020).

TO THE DEVELOPERS/MAINTAINERS OF THE AnnotationHubData PACKAGE: Please make sure to use the following settings in order to reproduce any error or warning you see on this page.
Package 63/1885HostnameOS / ArchINSTALLBUILDCHECKBUILD BIN
AnnotationHubData 1.19.3
Bioconductor Package Maintainer
Snapshot Date: 2020-08-10 14:50:56 -0400 (Mon, 10 Aug 2020)
URL: https://git.bioconductor.org/packages/AnnotationHubData
Branch: master
Last Commit: 3171efd
Last Changed Date: 2020-08-03 10:35:56 -0400 (Mon, 03 Aug 2020)
malbec1 Linux (Ubuntu 18.04.4 LTS) / x86_64  OK  OK  WARNINGS UNNEEDED, same version exists in internal repository
nebbiolo1 Linux (Ubuntu 20.04.1 LTS) / x86_64  OK  OK  NA 
tokay1 Windows Server 2012 R2 Standard / x64  OK  OK  WARNINGS  OK UNNEEDED, same version exists in internal repository
merida1 macOS 10.14.6 Mojave / x86_64  OK  OK  WARNINGS [ OK ]UNNEEDED, same version exists in internal repository

Summary

Package: AnnotationHubData
Version: 1.19.3
Command: rm -rf AnnotationHubData.buildbin-libdir && mkdir AnnotationHubData.buildbin-libdir && /Users/biocbuild/BBS/utils/build-universal.sh AnnotationHubData_1.19.3.tar.gz /Library/Frameworks/R.framework/Versions/Current/Resources/bin/R AnnotationHubData.buildbin-libdir
StartedAt: 2020-08-11 07:16:11 -0400 (Tue, 11 Aug 2020)
EndedAt: 2020-08-11 07:17:10 -0400 (Tue, 11 Aug 2020)
EllapsedTime: 59.2 seconds
RetCode: 0
Status:  OK 
PackageFile: AnnotationHubData_1.19.3.tgz
PackageFileSize: 1.109 MiB

Command output

##############################################################################
##############################################################################
###
### Running command:
###
###   rm -rf AnnotationHubData.buildbin-libdir && mkdir AnnotationHubData.buildbin-libdir && /Users/biocbuild/BBS/utils/build-universal.sh AnnotationHubData_1.19.3.tar.gz /Library/Frameworks/R.framework/Versions/Current/Resources/bin/R AnnotationHubData.buildbin-libdir
###
##############################################################################
##############################################################################


>>>>>>> 
>>>>>>> INSTALLATION WITH 'R CMD INSTALL --preclean --no-multiarch --library=AnnotationHubData.buildbin-libdir AnnotationHubData_1.19.3.tar.gz'
>>>>>>> 

* installing *source* package ‘AnnotationHubData’ ...
** using staged installation
** R
** inst
** byte-compile and prepare package for lazy loading
** help
*** installing help indices
** building package indices
** installing vignettes
** testing if installed package can be loaded from temporary location
** testing if installed package can be loaded from final location
** testing if installed package keeps a record of temporary installation path
* DONE (AnnotationHubData)