Back to Multiple platform build/check report for BioC 3.12
A[B]CDEFGHIJKLMNOPQRSTUVWXYZ

INSTALL report for BiocSingular on tokay1

This page was generated on 2020-08-12 11:49:02 -0400 (Wed, 12 Aug 2020).

TO THE DEVELOPERS/MAINTAINERS OF THE BiocSingular PACKAGE: Please make sure to use the following settings in order to reproduce any error or warning you see on this page.
Package 160/1885HostnameOS / ArchINSTALLBUILDCHECKBUILD BIN
BiocSingular 1.5.0
Aaron Lun
Snapshot Date: 2020-08-11 14:50:16 -0400 (Tue, 11 Aug 2020)
URL: https://git.bioconductor.org/packages/BiocSingular
Branch: master
Last Commit: 8e5c260
Last Changed Date: 2020-04-27 15:23:30 -0400 (Mon, 27 Apr 2020)
malbec1 Linux (Ubuntu 18.04.4 LTS) / x86_64  OK  OK  OK UNNEEDED, same version exists in internal repository
nebbiolo1 Linux (Ubuntu 20.04.1 LTS) / x86_64  OK  OK  OK 
tokay1 Windows Server 2012 R2 Standard / x64 [ OK ] OK  OK  OK UNNEEDED, same version exists in internal repository
merida1 macOS 10.14.6 Mojave / x86_64  OK  OK  OK  OK UNNEEDED, same version exists in internal repository

Summary

Package: BiocSingular
Version: 1.5.0
Command: C:\cygwin\bin\curl.exe -O https://malbec1.bioconductor.org/BBS/3.12/bioc/src/contrib/BiocSingular_1.5.0.tar.gz && rm -rf BiocSingular.buildbin-libdir && mkdir BiocSingular.buildbin-libdir && C:\Users\biocbuild\bbs-3.12-bioc\R\bin\R.exe CMD INSTALL --merge-multiarch --build --library=BiocSingular.buildbin-libdir BiocSingular_1.5.0.tar.gz && C:\Users\biocbuild\bbs-3.12-bioc\R\bin\R.exe CMD INSTALL BiocSingular_1.5.0.zip && rm BiocSingular_1.5.0.tar.gz BiocSingular_1.5.0.zip
StartedAt: 2020-08-11 17:56:30 -0400 (Tue, 11 Aug 2020)
EndedAt: 2020-08-11 17:57:55 -0400 (Tue, 11 Aug 2020)
EllapsedTime: 84.9 seconds
RetCode: 0
Status:  OK  

Command output

##############################################################################
##############################################################################
###
### Running command:
###
###   C:\cygwin\bin\curl.exe -O https://malbec1.bioconductor.org/BBS/3.12/bioc/src/contrib/BiocSingular_1.5.0.tar.gz && rm -rf BiocSingular.buildbin-libdir && mkdir BiocSingular.buildbin-libdir && C:\Users\biocbuild\bbs-3.12-bioc\R\bin\R.exe CMD INSTALL --merge-multiarch --build --library=BiocSingular.buildbin-libdir BiocSingular_1.5.0.tar.gz && C:\Users\biocbuild\bbs-3.12-bioc\R\bin\R.exe CMD INSTALL BiocSingular_1.5.0.zip && rm BiocSingular_1.5.0.tar.gz BiocSingular_1.5.0.zip
###
##############################################################################
##############################################################################


  % Total    % Received % Xferd  Average Speed   Time    Time     Time  Current
                                 Dload  Upload   Total   Spent    Left  Speed

  0     0    0     0    0     0      0      0 --:--:-- --:--:-- --:--:--     0
100 36026  100 36026    0     0   947k      0 --:--:-- --:--:-- --:--:-- 1034k

install for i386

* installing *source* package 'BiocSingular' ...
** using staged installation
** libs
"C:/rtools40/mingw32/bin/"g++  -std=gnu++11 -I"C:/Users/BIOCBU~1/BBS-3~1.12-/R/include" -DNDEBUG  -I'C:/Users/biocbuild/bbs-3.12-bioc/R/library/Rcpp/include' -I'C:/Users/biocbuild/bbs-3.12-bioc/R/library/beachmat/include'   -I"C:/extsoft/include"     -O2 -Wall  -mfpmath=sse -msse2 -mstackrealign -c RcppExports.cpp -o RcppExports.o
"C:/rtools40/mingw32/bin/"g++  -std=gnu++11 -I"C:/Users/BIOCBU~1/BBS-3~1.12-/R/include" -DNDEBUG  -I'C:/Users/biocbuild/bbs-3.12-bioc/R/library/Rcpp/include' -I'C:/Users/biocbuild/bbs-3.12-bioc/R/library/beachmat/include'   -I"C:/extsoft/include"     -O2 -Wall  -mfpmath=sse -msse2 -mstackrealign -c compute_scale.cpp -o compute_scale.o
compute_scale.cpp: In instantiation of 'Rcpp::NumericVector compute_scale_internal(Rcpp::RObject, Rcpp::RObject) [with M = beachmat::lin_matrix<int, Rcpp::Vector<13> >; Rcpp::NumericVector = Rcpp::Vector<14, Rcpp::PreserveStorage>; Rcpp::RObject = Rcpp::RObject_Impl<Rcpp::PreserveStorage>]':
compute_scale.cpp:60:79:   required from here
compute_scale.cpp:21:35: warning: comparison of integer expressions of different signedness: 'R_xlen_t' {aka 'int'} and 'size_t' {aka 'unsigned int'} [-Wsign-compare]
         if (numeric_centers.size()!=ncols) {
             ~~~~~~~~~~~~~~~~~~~~~~^~~~~~~
compute_scale.cpp: In instantiation of 'Rcpp::NumericVector compute_scale_internal(Rcpp::RObject, Rcpp::RObject) [with M = beachmat::lin_matrix<double, Rcpp::Vector<14, Rcpp::PreserveStorage> >; Rcpp::NumericVector = Rcpp::Vector<14, Rcpp::PreserveStorage>; Rcpp::RObject = Rcpp::RObject_Impl<Rcpp::PreserveStorage>]':
compute_scale.cpp:62:79:   required from here
compute_scale.cpp:21:35: warning: comparison of integer expressions of different signedness: 'R_xlen_t' {aka 'int'} and 'size_t' {aka 'unsigned int'} [-Wsign-compare]
C:/rtools40/mingw32/bin/g++ -shared -s -static-libgcc -o BiocSingular.dll tmp.def RcppExports.o compute_scale.o -LC:/extsoft/lib/i386 -LC:/extsoft/lib -LC:/Users/BIOCBU~1/BBS-3~1.12-/R/bin/i386 -lR
installing to C:/Users/biocbuild/bbs-3.12-bioc/meat/BiocSingular.buildbin-libdir/00LOCK-BiocSingular/00new/BiocSingular/libs/i386
** R
** inst
** byte-compile and prepare package for lazy loading
** help
*** installing help indices
  converting help for package 'BiocSingular'
    finding HTML links ... done
    BiocSingularParam                       html  
    finding level-2 HTML links ... done

    DeferredMatrix                          html  
    LowRankMatrix                           html  
    ResidualMatrix                          html  
    options                                 html  
    runExactSVD                             html  
    runIrlbaSVD                             html  
    runPCA                                  html  
    runRandomSVD                            html  
    runSVD                                  html  
** building package indices
** installing vignettes
** testing if installed package can be loaded from temporary location
** testing if installed package can be loaded from final location
** testing if installed package keeps a record of temporary installation path

install for x64

* installing *source* package 'BiocSingular' ...
** libs
"C:/rtools40/mingw64/bin/"g++  -std=gnu++11 -I"C:/Users/BIOCBU~1/BBS-3~1.12-/R/include" -DNDEBUG  -I'C:/Users/biocbuild/bbs-3.12-bioc/R/library/Rcpp/include' -I'C:/Users/biocbuild/bbs-3.12-bioc/R/library/beachmat/include'   -I"C:/extsoft/include"     -O2 -Wall  -mfpmath=sse -msse2 -mstackrealign -c RcppExports.cpp -o RcppExports.o
"C:/rtools40/mingw64/bin/"g++  -std=gnu++11 -I"C:/Users/BIOCBU~1/BBS-3~1.12-/R/include" -DNDEBUG  -I'C:/Users/biocbuild/bbs-3.12-bioc/R/library/Rcpp/include' -I'C:/Users/biocbuild/bbs-3.12-bioc/R/library/beachmat/include'   -I"C:/extsoft/include"     -O2 -Wall  -mfpmath=sse -msse2 -mstackrealign -c compute_scale.cpp -o compute_scale.o
compute_scale.cpp: In instantiation of 'Rcpp::NumericVector compute_scale_internal(Rcpp::RObject, Rcpp::RObject) [with M = beachmat::lin_matrix<int, Rcpp::Vector<13> >; Rcpp::NumericVector = Rcpp::Vector<14, Rcpp::PreserveStorage>; Rcpp::RObject = Rcpp::RObject_Impl<Rcpp::PreserveStorage>]':
compute_scale.cpp:60:79:   required from here
compute_scale.cpp:21:35: warning: comparison of integer expressions of different signedness: 'R_xlen_t' {aka 'long long int'} and 'size_t' {aka 'long long unsigned int'} [-Wsign-compare]
         if (numeric_centers.size()!=ncols) {
             ~~~~~~~~~~~~~~~~~~~~~~^~~~~~~
compute_scale.cpp: In instantiation of 'Rcpp::NumericVector compute_scale_internal(Rcpp::RObject, Rcpp::RObject) [with M = beachmat::lin_matrix<double, Rcpp::Vector<14, Rcpp::PreserveStorage> >; Rcpp::NumericVector = Rcpp::Vector<14, Rcpp::PreserveStorage>; Rcpp::RObject = Rcpp::RObject_Impl<Rcpp::PreserveStorage>]':
compute_scale.cpp:62:79:   required from here
compute_scale.cpp:21:35: warning: comparison of integer expressions of different signedness: 'R_xlen_t' {aka 'long long int'} and 'size_t' {aka 'long long unsigned int'} [-Wsign-compare]
C:/rtools40/mingw64/bin/g++ -shared -s -static-libgcc -o BiocSingular.dll tmp.def RcppExports.o compute_scale.o -LC:/extsoft/lib/x64 -LC:/extsoft/lib -LC:/Users/BIOCBU~1/BBS-3~1.12-/R/bin/x64 -lR
installing to C:/Users/biocbuild/bbs-3.12-bioc/meat/BiocSingular.buildbin-libdir/BiocSingular/libs/x64
** testing if installed package can be loaded
* MD5 sums
packaged installation of 'BiocSingular' as BiocSingular_1.5.0.zip
* DONE (BiocSingular)
* installing to library 'C:/Users/biocbuild/bbs-3.12-bioc/R/library'
package 'BiocSingular' successfully unpacked and MD5 sums checked