Back to Multiple platform build/check report for BioC 3.12
[A]BCDEFGHIJKLMNOPQRSTUVWXYZ

BUILD report for a4Preproc on merida1

This page was generated on 2020-10-30 12:14:32 -0400 (Fri, 30 Oct 2020).

TO THE DEVELOPERS/MAINTAINERS OF THE a4Preproc PACKAGE: Please make sure to use the following settings in order to reproduce any error or warning you see on this page.
Package 5/1974HostnameOS / ArchINSTALLBUILDCHECKBUILD BIN
a4Preproc 1.38.0
Laure Cougnaud
Snapshot Date: 2020-10-29 14:45:49 -0400 (Thu, 29 Oct 2020)
URL: https://git.bioconductor.org/packages/a4Preproc
Branch: RELEASE_3_12
Last Commit: c93c223
Last Changed Date: 2020-10-27 10:41:15 -0400 (Tue, 27 Oct 2020)
malbec1 Linux (Ubuntu 18.04.4 LTS) / x86_64  OK  OK  OK UNNEEDED, same version exists in internal repository
nebbiolo1 Linux (Ubuntu 20.04.1 LTS) / x86_64  OK  OK  OK 
tokay1 Windows Server 2012 R2 Standard / x64  OK  OK  OK  OK UNNEEDED, same version exists in internal repository
merida1 macOS 10.14.6 Mojave / x86_64  OK [ OK ] OK  OK UNNEEDED, same version exists in internal repository

Summary

Package: a4Preproc
Version: 1.38.0
Command: /Library/Frameworks/R.framework/Versions/Current/Resources/bin/R CMD build --keep-empty-dirs --no-resave-data a4Preproc
StartedAt: 2020-10-29 19:15:18 -0400 (Thu, 29 Oct 2020)
EndedAt: 2020-10-29 19:15:35 -0400 (Thu, 29 Oct 2020)
EllapsedTime: 16.5 seconds
RetCode: 0
Status:  OK 
PackageFile: a4Preproc_1.38.0.tar.gz
PackageFileSize: 276 KiB

Command output

##############################################################################
##############################################################################
###
### Running command:
###
###   /Library/Frameworks/R.framework/Versions/Current/Resources/bin/R CMD build --keep-empty-dirs --no-resave-data a4Preproc
###
##############################################################################
##############################################################################


* checking for file ‘a4Preproc/DESCRIPTION’ ... OK
* preparing ‘a4Preproc’:
* checking DESCRIPTION meta-information ... OK
* installing the package to build vignettes
* creating vignettes ... OK
* checking for LF line-endings in source and make files and shell scripts
* checking for empty or unneeded directories
* building ‘a4Preproc_1.38.0.tar.gz’