Back to Multiple platform build/check report for BioC 3.12
A[B]CDEFGHIJKLMNOPQRSTUVWXYZ

BUILD report for BANDITS on tokay1

This page was generated on 2020-08-06 12:09:15 -0400 (Thu, 06 Aug 2020).

TO THE DEVELOPERS/MAINTAINERS OF THE BANDITS PACKAGE: Please make sure to use the following settings in order to reproduce any error or warning you see on this page.
Package 107/1882HostnameOS / ArchINSTALLBUILDCHECKBUILD BIN
BANDITS 1.5.1
Simone Tiberi
Snapshot Date: 2020-08-05 14:50:59 -0400 (Wed, 05 Aug 2020)
URL: https://git.bioconductor.org/packages/BANDITS
Branch: master
Last Commit: 757e4e5
Last Changed Date: 2020-07-16 06:33:37 -0400 (Thu, 16 Jul 2020)
malbec1 Linux (Ubuntu 18.04.4 LTS) / x86_64  OK  OK  OK UNNEEDED, same version exists in internal repository
tokay1 Windows Server 2012 R2 Standard / x64  OK [ OK ] OK  OK UNNEEDED, same version exists in internal repository
merida1 macOS 10.14.6 Mojave / x86_64  OK  OK  OK  OK UNNEEDED, same version exists in internal repository

Summary

Package: BANDITS
Version: 1.5.1
Command: chmod a+r BANDITS -R && C:\Users\biocbuild\bbs-3.12-bioc\R\bin\R.exe CMD build --keep-empty-dirs --no-resave-data BANDITS
StartedAt: 2020-08-05 22:48:44 -0400 (Wed, 05 Aug 2020)
EndedAt: 2020-08-05 22:51:19 -0400 (Wed, 05 Aug 2020)
EllapsedTime: 154.7 seconds
RetCode: 0
Status:  OK  
PackageFile: BANDITS_1.5.1.tar.gz
PackageFileSize: 1.052 MiB

Command output

##############################################################################
##############################################################################
###
### Running command:
###
###   chmod a+r BANDITS -R && C:\Users\biocbuild\bbs-3.12-bioc\R\bin\R.exe CMD build --keep-empty-dirs --no-resave-data BANDITS
###
##############################################################################
##############################################################################


* checking for file 'BANDITS/DESCRIPTION' ... OK
* preparing 'BANDITS':
* checking DESCRIPTION meta-information ... OK
* cleaning src
* installing the package to process help pages
* saving partial Rd database
* creating vignettes ... OK
* cleaning src
* checking for LF line-endings in source and make files and shell scripts
* checking for empty or unneeded directories
* looking to see if a 'data/datalist' file should be added
* building 'BANDITS_1.5.1.tar.gz'