Back to Multiple platform build/check report for BioC 3.12
[A]BCDEFGHIJKLMNOPQRSTUVWXYZ

BUILD report for affyPLM on malbec1

This page was generated on 2020-08-07 11:14:59 -0400 (Fri, 07 Aug 2020).

TO THE DEVELOPERS/MAINTAINERS OF THE affyPLM PACKAGE: Please make sure to use the following settings in order to reproduce any error or warning you see on this page.
Package 33/1882HostnameOS / ArchINSTALLBUILDCHECKBUILD BIN
affyPLM 1.65.0
Ben Bolstad
Snapshot Date: 2020-08-06 14:50:46 -0400 (Thu, 06 Aug 2020)
URL: https://git.bioconductor.org/packages/affyPLM
Branch: master
Last Commit: 6b1f227
Last Changed Date: 2020-04-27 14:08:49 -0400 (Mon, 27 Apr 2020)
malbec1 Linux (Ubuntu 18.04.4 LTS) / x86_64  OK [ OK ] OK UNNEEDED, same version exists in internal repository
tokay1 Windows Server 2012 R2 Standard / x64  OK  OK  OK  OK UNNEEDED, same version exists in internal repository
merida1 macOS 10.14.6 Mojave / x86_64  OK  OK  OK  OK UNNEEDED, same version exists in internal repository

Summary

Package: affyPLM
Version: 1.65.0
Command: /home/biocbuild/bbs-3.12-bioc/R/bin/R CMD build --keep-empty-dirs --no-resave-data affyPLM
StartedAt: 2020-08-06 17:31:18 -0400 (Thu, 06 Aug 2020)
EndedAt: 2020-08-06 17:33:23 -0400 (Thu, 06 Aug 2020)
EllapsedTime: 124.3 seconds
RetCode: 0
Status:  OK 
PackageFile: affyPLM_1.65.0.tar.gz
PackageFileSize: 5.765 MiB

Command output

##############################################################################
##############################################################################
###
### Running command:
###
###   /home/biocbuild/bbs-3.12-bioc/R/bin/R CMD build --keep-empty-dirs --no-resave-data affyPLM
###
##############################################################################
##############################################################################


* checking for file ‘affyPLM/DESCRIPTION’ ... OK
* preparing ‘affyPLM’:
* checking DESCRIPTION meta-information ... OK
* cleaning src
* installing the package to build vignettes
* creating vignettes ... OK
* cleaning src
* checking for LF line-endings in source and make files and shell scripts
* checking for empty or unneeded directories
* building ‘affyPLM_1.65.0.tar.gz’