Back to Multiple platform build/check report for BioC 3.12
A[B]CDEFGHIJKLMNOPQRSTUVWXYZ

CHECK report for bcSeq on merida1

This page was generated on 2020-08-11 12:01:21 -0400 (Tue, 11 Aug 2020).

TO THE DEVELOPERS/MAINTAINERS OF THE bcSeq PACKAGE: Please make sure to use the following settings in order to reproduce any error or warning you see on this page.
Package 123/1885HostnameOS / ArchINSTALLBUILDCHECKBUILD BIN
bcSeq 1.11.0
Jiaxing Lin
Snapshot Date: 2020-08-10 14:50:56 -0400 (Mon, 10 Aug 2020)
URL: https://git.bioconductor.org/packages/bcSeq
Branch: master
Last Commit: ed5bf3d
Last Changed Date: 2020-04-27 15:12:22 -0400 (Mon, 27 Apr 2020)
malbec1 Linux (Ubuntu 18.04.4 LTS) / x86_64  OK  OK  OK UNNEEDED, same version exists in internal repository
nebbiolo1 Linux (Ubuntu 20.04.1 LTS) / x86_64  OK  OK  NA 
tokay1 Windows Server 2012 R2 Standard / x64  OK  OK  WARNINGS  OK UNNEEDED, same version exists in internal repository
merida1 macOS 10.14.6 Mojave / x86_64  OK  OK [ OK ] OK UNNEEDED, same version exists in internal repository

Summary

Package: bcSeq
Version: 1.11.0
Command: /Library/Frameworks/R.framework/Versions/Current/Resources/bin/R CMD check --install=check:bcSeq.install-out.txt --library=/Library/Frameworks/R.framework/Versions/Current/Resources/library --no-vignettes --timings bcSeq_1.11.0.tar.gz
StartedAt: 2020-08-11 03:36:02 -0400 (Tue, 11 Aug 2020)
EndedAt: 2020-08-11 03:38:14 -0400 (Tue, 11 Aug 2020)
EllapsedTime: 132.5 seconds
RetCode: 0
Status:  OK 
CheckDir: bcSeq.Rcheck
Warnings: 0

Command output

##############################################################################
##############################################################################
###
### Running command:
###
###   /Library/Frameworks/R.framework/Versions/Current/Resources/bin/R CMD check --install=check:bcSeq.install-out.txt --library=/Library/Frameworks/R.framework/Versions/Current/Resources/library --no-vignettes --timings bcSeq_1.11.0.tar.gz
###
##############################################################################
##############################################################################


* using log directory ‘/Users/biocbuild/bbs-3.12-bioc/meat/bcSeq.Rcheck’
* using R version 4.0.2 (2020-06-22)
* using platform: x86_64-apple-darwin17.0 (64-bit)
* using session charset: UTF-8
* using option ‘--no-vignettes’
* checking for file ‘bcSeq/DESCRIPTION’ ... OK
* checking extension type ... Package
* this is package ‘bcSeq’ version ‘1.11.0’
* checking package namespace information ... OK
* checking package dependencies ... OK
* checking if this is a source package ... OK
* checking if there is a namespace ... OK
* checking for hidden files and directories ... OK
* checking for portable file names ... OK
* checking for sufficient/correct file permissions ... OK
* checking whether package ‘bcSeq’ can be installed ... OK
* checking installed package size ... OK
* checking package directory ... OK
* checking ‘build’ directory ... OK
* checking DESCRIPTION meta-information ... OK
* checking top-level files ... OK
* checking for left-over files ... OK
* checking index information ... OK
* checking package subdirectories ... OK
* checking R files for non-ASCII characters ... OK
* checking R files for syntax errors ... OK
* checking whether the package can be loaded ... OK
* checking whether the package can be loaded with stated dependencies ... OK
* checking whether the package can be unloaded cleanly ... OK
* checking whether the namespace can be loaded with stated dependencies ... OK
* checking whether the namespace can be unloaded cleanly ... OK
* checking dependencies in R code ... OK
* checking S3 generic/method consistency ... OK
* checking replacement functions ... OK
* checking foreign function calls ... OK
* checking R code for possible problems ... OK
* checking Rd files ... OK
* checking Rd metadata ... OK
* checking Rd cross-references ... OK
* checking for missing documentation entries ... OK
* checking for code/documentation mismatches ... OK
* checking Rd \usage sections ... OK
* checking Rd contents ... OK
* checking for unstated dependencies in examples ... OK
* checking line endings in C/C++/Fortran sources/headers ... OK
* checking line endings in Makefiles ... OK
* checking compilation flags in Makevars ... OK
* checking for GNU extensions in Makefiles ... OK
* checking for portable use of $(BLAS_LIBS) and $(LAPACK_LIBS) ... OK
* checking use of PKG_*FLAGS in Makefiles ... OK
* checking compiled code ... NOTE
Note: information on .o files is not available
* checking sizes of PDF files under ‘inst/doc’ ... OK
* checking files in ‘vignettes’ ... OK
* checking examples ... OK
* checking for unstated dependencies in ‘tests’ ... OK
* checking tests ...
  Running ‘test_bcSeq.R’
 OK
* checking for unstated dependencies in vignettes ... OK
* checking package vignettes in ‘inst/doc’ ... OK
* checking running R code from vignettes ... SKIPPED
* checking re-building of vignette outputs ... SKIPPED
* checking PDF version of manual ... OK
* DONE

Status: 1 NOTE
See
  ‘/Users/biocbuild/bbs-3.12-bioc/meat/bcSeq.Rcheck/00check.log’
for details.



Installation output

bcSeq.Rcheck/00install.out

##############################################################################
##############################################################################
###
### Running command:
###
###   /Library/Frameworks/R.framework/Versions/Current/Resources/bin/R CMD INSTALL bcSeq
###
##############################################################################
##############################################################################


* installing to library ‘/Library/Frameworks/R.framework/Versions/4.0/Resources/library’
* installing *source* package ‘bcSeq’ ...
** using staged installation
** libs
clang++ -mmacosx-version-min=10.13 -std=gnu++11 -I"/Library/Frameworks/R.framework/Resources/include" -DNDEBUG  -I'/Library/Frameworks/R.framework/Versions/4.0/Resources/library/Rcpp/include' -I'/Library/Frameworks/R.framework/Versions/4.0/Resources/library/Matrix/include' -I/usr/local/include  -pthread -fPIC  -Wall -g -O2  -c CRISPR_matching.cpp -o CRISPR_matching.o
clang++ -mmacosx-version-min=10.13 -std=gnu++11 -I"/Library/Frameworks/R.framework/Resources/include" -DNDEBUG  -I'/Library/Frameworks/R.framework/Versions/4.0/Resources/library/Rcpp/include' -I'/Library/Frameworks/R.framework/Versions/4.0/Resources/library/Matrix/include' -I/usr/local/include  -pthread -fPIC  -Wall -g -O2  -c RcppExports.cpp -o RcppExports.o
clang++ -mmacosx-version-min=10.13 -std=gnu++11 -I"/Library/Frameworks/R.framework/Resources/include" -DNDEBUG  -I'/Library/Frameworks/R.framework/Versions/4.0/Resources/library/Rcpp/include' -I'/Library/Frameworks/R.framework/Versions/4.0/Resources/library/Matrix/include' -I/usr/local/include  -pthread -fPIC  -Wall -g -O2  -c Trie_edit.cpp -o Trie_edit.o
clang++ -mmacosx-version-min=10.13 -std=gnu++11 -I"/Library/Frameworks/R.framework/Resources/include" -DNDEBUG  -I'/Library/Frameworks/R.framework/Versions/4.0/Resources/library/Rcpp/include' -I'/Library/Frameworks/R.framework/Versions/4.0/Resources/library/Matrix/include' -I/usr/local/include  -pthread -fPIC  -Wall -g -O2  -c Trie_hamming.cpp -o Trie_hamming.o
clang++ -mmacosx-version-min=10.13 -std=gnu++11 -I"/Library/Frameworks/R.framework/Resources/include" -DNDEBUG  -I'/Library/Frameworks/R.framework/Versions/4.0/Resources/library/Rcpp/include' -I'/Library/Frameworks/R.framework/Versions/4.0/Resources/library/Matrix/include' -I/usr/local/include  -pthread -fPIC  -Wall -g -O2  -c Trie_util.cpp -o Trie_util.o
clang++ -mmacosx-version-min=10.13 -std=gnu++11 -I"/Library/Frameworks/R.framework/Resources/include" -DNDEBUG  -I'/Library/Frameworks/R.framework/Versions/4.0/Resources/library/Rcpp/include' -I'/Library/Frameworks/R.framework/Versions/4.0/Resources/library/Matrix/include' -I/usr/local/include  -pthread -fPIC  -Wall -g -O2  -c alignment.cpp -o alignment.o
clang -mmacosx-version-min=10.13 -I"/Library/Frameworks/R.framework/Resources/include" -DNDEBUG  -I'/Library/Frameworks/R.framework/Versions/4.0/Resources/library/Rcpp/include' -I'/Library/Frameworks/R.framework/Versions/4.0/Resources/library/Matrix/include' -I/usr/local/include   -fPIC  -Wall -g -O2  -c init.c -o init.o
clang++ -mmacosx-version-min=10.13 -std=gnu++11 -I"/Library/Frameworks/R.framework/Resources/include" -DNDEBUG  -I'/Library/Frameworks/R.framework/Versions/4.0/Resources/library/Rcpp/include' -I'/Library/Frameworks/R.framework/Versions/4.0/Resources/library/Matrix/include' -I/usr/local/include  -pthread -fPIC  -Wall -g -O2  -c trimRead.cpp -o trimRead.o
clang++ -mmacosx-version-min=10.13 -std=gnu++11 -I"/Library/Frameworks/R.framework/Resources/include" -DNDEBUG  -I'/Library/Frameworks/R.framework/Versions/4.0/Resources/library/Rcpp/include' -I'/Library/Frameworks/R.framework/Versions/4.0/Resources/library/Matrix/include' -I/usr/local/include  -pthread -fPIC  -Wall -g -O2  -c uniqueBar.cpp -o uniqueBar.o
clang++ -mmacosx-version-min=10.13 -std=gnu++11 -dynamiclib -Wl,-headerpad_max_install_names -undefined dynamic_lookup -single_module -multiply_defined suppress -L/Library/Frameworks/R.framework/Resources/lib -L/usr/local/lib -o bcSeq.so CRISPR_matching.o RcppExports.o Trie_edit.o Trie_hamming.o Trie_util.o alignment.o init.o trimRead.o uniqueBar.o -F/Library/Frameworks/R.framework/.. -framework R -Wl,-framework -Wl,CoreFoundation
installing to /Library/Frameworks/R.framework/Versions/4.0/Resources/library/00LOCK-bcSeq/00new/bcSeq/libs
** R
** inst
** byte-compile and prepare package for lazy loading
** help
*** installing help indices
** building package indices
** installing vignettes
** testing if installed package can be loaded from temporary location
** checking absolute paths in shared objects and dynamic libraries
** testing if installed package can be loaded from final location
** testing if installed package keeps a record of temporary installation path
* DONE (bcSeq)

Tests output

bcSeq.Rcheck/tests/test_bcSeq.Rout


R version 4.0.2 (2020-06-22) -- "Taking Off Again"
Copyright (C) 2020 The R Foundation for Statistical Computing
Platform: x86_64-apple-darwin17.0 (64-bit)

R is free software and comes with ABSOLUTELY NO WARRANTY.
You are welcome to redistribute it under certain conditions.
Type 'license()' or 'licence()' for distribution details.

R is a collaborative project with many contributors.
Type 'contributors()' for more information and
'citation()' on how to cite R or R packages in publications.

Type 'demo()' for some demos, 'help()' for on-line help, or
'help.start()' for an HTML browser interface to help.
Type 'q()' to quit R.

> library(bcSeq)
> #devtools::load_all("../")
> #### Set the seed
> set.seed(4523)
> 
> #### Generate barcode
> lFName    <- "./libFile.fasta"
> bases     <- c(rep('A', 4), rep('C',4), rep('G',4), rep('T',4))
> numOfBars <- 7
> Barcodes  <- rep(NA, numOfBars*2)
> for (i in 1:numOfBars){
+     Barcodes[2*i-1] <- paste0(">barcode_ID: ", i)
+     Barcodes[2*i]   <- paste(sample(bases, length(bases)), collapse = '')
+ }
> write(Barcodes, lFName)
> 
> #### Generate reads and phred score
> rFName     <- "./readFile.fastq"
> numOfReads <- 8
> Reads      <- rep(NA, numOfReads*4)
> for (i in 1:numOfReads){
+     Reads[4*i-3] <- paste0("@read_ID_",i)
+     Reads[4*i-2] <- Barcodes[2*sample(1:numOfBars,1,
+                   replace=TRUE, prob=seq(1:numOfBars))]
+     Reads[4*i-1] <- "+"
+     Reads[4*i]   <- paste(rawToChar(as.raw(
+                   33+sample(20:30, length(bases),replace=TRUE))),
+                   collapse='')
+ }
> write(Reads, rFName)
> 
> #### perform alignment 
> ReadFile <- "./readFile.fastq"
> BarFile  <- "./libFile.fasta"
> outFile  <- "./countH.csv"
> 
> #### with default output for bcSeq_hamming
> #res <- bcSeq_hamming(ReadFile, BarFile, outFile, misMatch = 2,
> #    tMat = NULL, numThread = 2, count_only = TRUE )
> #res <- read.csv(outFile, header=FALSE)
> #res
> 
> #### with return of alignment probability matrix to R
> #outFile  <- "./countH2.csv"
> #res <- bcSeq_hamming(ReadFile, BarFile, outFile, misMatch = 2,
> #    tMat = NULL, numThread = 2, count_only = FALSE )
> #res 
> 
> #### with default output for bcSeq_edit
> outFile  <- "./countE.csv"
> #res <- bcSeq_edit(ReadFile, BarFile, outFile, misMatch = 2,
> #    tMat = NULL, numThread = 2, count_only = TRUE,
> #    gap_left = 2, ext_left = 1, gap_right = 2, ext_right = 1,
> #    pen_max = 7)
> #res <- read.csv(outFile, header=FALSE)
> #res
> 
> #### with return of alignment probability matrix to R
> #outFile  <- "./countE2.csv"
> #res <- bcSeq_edit(ReadFile, BarFile, outFile, misMatch = 2,
> #    tMat = NULL, numThread = 2, count_only = FALSE,
> #    gap_left = 2, ext_left = 1, gap_right = 2, ext_right = 1,
> #    pen_max = 7)
> #res
> 
> #### user-defined probability model
> comstomizeP <- function(m, x, y)
+ {
+     x * (1 - log(2) + log(1 + m / (m + y) ) )
+ }
> outFile = "comstomizeP.csv"
> #bcSeq_edit(ReadFile, BarFile, outFile, misMatch = 2,
> #    tMat = NULL, numThread = 2, count_only = TRUE,
> #    gap_left = 2, ext_left = 1, gap_right = 2, ext_right = 1,
> #    pen_max = 7, userProb = comstomizeP)
> 
> proc.time()
   user  system elapsed 
  5.934   0.329   6.244 

Example timings

bcSeq.Rcheck/bcSeq-Ex.timings

nameusersystemelapsed
bcSeq-package0.0590.0120.071
bcSeq_edit0.1270.0420.169
bcSeq_hamming0.1120.0510.163
trimRead0.1130.0830.198
uniqueBar0.0110.0040.016