Back to Multiple platform build/check report for BioC 3.12
ABCDEFGHIJKLMNOPQR[S]TUVWXYZ

BUILD report for snapCGH on merida1

This page was generated on 2021-02-22 12:45:26 -0500 (Mon, 22 Feb 2021).

To the developers/maintainers of the snapCGH package:
Please make sure to use the following settings in order to reproduce any error or warning you see on this page.
Package 1741/1974HostnameOS / ArchINSTALLBUILDCHECKBUILD BIN
snapCGH 1.60.0
John Marioni
Snapshot Date: 2021-02-21 14:52:07 -0500 (Sun, 21 Feb 2021)
URL: https://git.bioconductor.org/packages/snapCGH
Branch: RELEASE_3_12
Last Commit: 03e3471
Last Changed Date: 2020-10-27 10:27:53 -0500 (Tue, 27 Oct 2020)
malbec1Linux (Ubuntu 18.04.5 LTS) / x86_64  OK    OK    OK  UNNEEDED, same version exists in internal repository
nebbiolo1Linux (Ubuntu 20.04.2 LTS) / x86_64  OK    OK    OK  
tokay1Windows Server 2012 R2 Standard / x64  OK    OK    OK    OK  UNNEEDED, same version exists in internal repository
merida1macOS 10.14.6 Mojave / x86_64  OK    OK    OK    OK  UNNEEDED, same version exists in internal repository

Summary

Package: snapCGH
Version: 1.60.0
Command: /Library/Frameworks/R.framework/Versions/Current/Resources/bin/R CMD build --keep-empty-dirs --no-resave-data snapCGH
StartedAt: 2021-02-21 22:24:43 -0500 (Sun, 21 Feb 2021)
EndedAt: 2021-02-21 22:25:35 -0500 (Sun, 21 Feb 2021)
EllapsedTime: 52.5 seconds
RetCode: 0
Status:   OK  
PackageFile: snapCGH_1.60.0.tar.gz
PackageFileSize: 1.052 MiB

Command output

##############################################################################
##############################################################################
###
### Running command:
###
###   /Library/Frameworks/R.framework/Versions/Current/Resources/bin/R CMD build --keep-empty-dirs --no-resave-data snapCGH
###
##############################################################################
##############################################################################


* checking for file ‘snapCGH/DESCRIPTION’ ... OK
* preparing ‘snapCGH’:
* checking DESCRIPTION meta-information ... OK
* cleaning src
* installing the package to build vignettes
* creating vignettes ... OK
* cleaning src
* checking for LF line-endings in source and make files and shell scripts
* checking for empty or unneeded directories
* building ‘snapCGH_1.60.0.tar.gz’