Back to Multiple platform build/check report for BioC 3.12
A[B]CDEFGHIJKLMNOPQRSTUVWXYZ

INSTALL report for BUMHMM on tokay1

This page was generated on 2020-10-25 12:06:14 -0400 (Sun, 25 Oct 2020).

TO THE DEVELOPERS/MAINTAINERS OF THE BUMHMM PACKAGE: Please make sure to use the following settings in order to reproduce any error or warning you see on this page.
Package 217/1974HostnameOS / ArchINSTALLBUILDCHECKBUILD BIN
BUMHMM 1.13.0
Alina Selega
Snapshot Date: 2020-10-24 14:40:19 -0400 (Sat, 24 Oct 2020)
URL: https://git.bioconductor.org/packages/BUMHMM
Branch: master
Last Commit: 97962c1
Last Changed Date: 2020-09-18 12:27:59 -0400 (Fri, 18 Sep 2020)
malbec1 Linux (Ubuntu 18.04.4 LTS) / x86_64  OK  OK  OK UNNEEDED, same version exists in internal repository
nebbiolo1 Linux (Ubuntu 20.04.1 LTS) / x86_64  OK  OK  OK 
tokay1 Windows Server 2012 R2 Standard / x64 [ OK ] OK  OK  OK UNNEEDED, same version exists in internal repository
riesling1 Windows Server 2019 Standard / x64  OK  OK  OK  OK 
merida1 macOS 10.14.6 Mojave / x86_64  OK  OK  OK  OK UNNEEDED, same version exists in internal repository

Summary

Package: BUMHMM
Version: 1.13.0
Command: C:\cygwin\bin\curl.exe -O https://malbec1.bioconductor.org/BBS/3.12/bioc/src/contrib/BUMHMM_1.13.0.tar.gz && rm -rf BUMHMM.buildbin-libdir && mkdir BUMHMM.buildbin-libdir && C:\Users\biocbuild\bbs-3.12-bioc\R\bin\R.exe CMD INSTALL --merge-multiarch --build --library=BUMHMM.buildbin-libdir BUMHMM_1.13.0.tar.gz && C:\Users\biocbuild\bbs-3.12-bioc\R\bin\R.exe CMD INSTALL BUMHMM_1.13.0.zip && rm BUMHMM_1.13.0.tar.gz BUMHMM_1.13.0.zip
StartedAt: 2020-10-24 17:42:22 -0400 (Sat, 24 Oct 2020)
EndedAt: 2020-10-24 17:43:24 -0400 (Sat, 24 Oct 2020)
EllapsedTime: 62.0 seconds
RetCode: 0
Status:  OK  

Command output

##############################################################################
##############################################################################
###
### Running command:
###
###   C:\cygwin\bin\curl.exe -O https://malbec1.bioconductor.org/BBS/3.12/bioc/src/contrib/BUMHMM_1.13.0.tar.gz && rm -rf BUMHMM.buildbin-libdir && mkdir BUMHMM.buildbin-libdir && C:\Users\biocbuild\bbs-3.12-bioc\R\bin\R.exe CMD INSTALL --merge-multiarch --build --library=BUMHMM.buildbin-libdir BUMHMM_1.13.0.tar.gz && C:\Users\biocbuild\bbs-3.12-bioc\R\bin\R.exe CMD INSTALL BUMHMM_1.13.0.zip && rm BUMHMM_1.13.0.tar.gz BUMHMM_1.13.0.zip
###
##############################################################################
##############################################################################


  % Total    % Received % Xferd  Average Speed   Time    Time     Time  Current
                                 Dload  Upload   Total   Spent    Left  Speed

  0     0    0     0    0     0      0      0 --:--:-- --:--:-- --:--:--     0
100  801k  100  801k    0     0  11.2M      0 --:--:-- --:--:-- --:--:-- 11.8M

install for i386

* installing *source* package 'BUMHMM' ...
** using staged installation
** R
** data
*** moving datasets to lazyload DB
** inst
** byte-compile and prepare package for lazy loading
** help
*** installing help indices
  converting help for package 'BUMHMM'
    finding HTML links ... done
    computeProbs                            html  
    finding level-2 HTML links ... done

    computeStretches                        html  
    covFile                                 html  
    docFile                                 html  
    dorFile                                 html  
    findPatternPos                          html  
    nuclPerm                                html  
    scaleDOR                                html  
    se                                      html  
    selectNuclPos                           html  
    seq                                     html  
    stabiliseVariance                       html  
** building package indices
** installing vignettes
** testing if installed package can be loaded from temporary location
** testing if installed package can be loaded from final location
** testing if installed package keeps a record of temporary installation path

install for x64

* installing *source* package 'BUMHMM' ...
** testing if installed package can be loaded
* MD5 sums
packaged installation of 'BUMHMM' as BUMHMM_1.13.0.zip
* DONE (BUMHMM)
* installing to library 'C:/Users/biocbuild/bbs-3.12-bioc/R/library'
package 'BUMHMM' successfully unpacked and MD5 sums checked