Back to Multiple platform build/check report for BioC 3.12
A[B]CDEFGHIJKLMNOPQRSTUVWXYZ

BUILD report for BPRMeth on merida1

This page was generated on 2020-08-12 12:00:35 -0400 (Wed, 12 Aug 2020).

TO THE DEVELOPERS/MAINTAINERS OF THE BPRMeth PACKAGE: Please make sure to use the following settings in order to reproduce any error or warning you see on this page.
Package 190/1885HostnameOS / ArchINSTALLBUILDCHECKBUILD BIN
BPRMeth 1.15.3
Chantriolnt-Andreas Kapourani
Snapshot Date: 2020-08-11 14:50:16 -0400 (Tue, 11 Aug 2020)
URL: https://git.bioconductor.org/packages/BPRMeth
Branch: master
Last Commit: 39fa242
Last Changed Date: 2020-06-10 12:32:32 -0400 (Wed, 10 Jun 2020)
malbec1 Linux (Ubuntu 18.04.4 LTS) / x86_64  OK  OK  OK UNNEEDED, same version exists in internal repository
nebbiolo1 Linux (Ubuntu 20.04.1 LTS) / x86_64  OK  OK  OK 
tokay1 Windows Server 2012 R2 Standard / x64  OK  OK  OK  OK UNNEEDED, same version exists in internal repository
merida1 macOS 10.14.6 Mojave / x86_64  OK [ OK ] OK  OK UNNEEDED, same version exists in internal repository

Summary

Package: BPRMeth
Version: 1.15.3
Command: /Library/Frameworks/R.framework/Versions/Current/Resources/bin/R CMD build --keep-empty-dirs --no-resave-data BPRMeth
StartedAt: 2020-08-11 20:24:49 -0400 (Tue, 11 Aug 2020)
EndedAt: 2020-08-11 20:27:06 -0400 (Tue, 11 Aug 2020)
EllapsedTime: 137.5 seconds
RetCode: 0
Status:  OK 
PackageFile: BPRMeth_1.15.3.tar.gz
PackageFileSize: 2.416 MiB

Command output

##############################################################################
##############################################################################
###
### Running command:
###
###   /Library/Frameworks/R.framework/Versions/Current/Resources/bin/R CMD build --keep-empty-dirs --no-resave-data BPRMeth
###
##############################################################################
##############################################################################


* checking for file ‘BPRMeth/DESCRIPTION’ ... OK
* preparing ‘BPRMeth’:
* checking DESCRIPTION meta-information ... OK
* cleaning src
* installing the package to build vignettes
* creating vignettes ... OK
* cleaning src
* checking for LF line-endings in source and make files and shell scripts
* checking for empty or unneeded directories
* building ‘BPRMeth_1.15.3.tar.gz’