Back to Multiple platform build/check report for BioC 3.12
A[B]CDEFGHIJKLMNOPQRSTUVWXYZ

INSTALL report for BCRANK on merida1

This page was generated on 2021-01-13 11:59:23 -0500 (Wed, 13 Jan 2021).

TO THE DEVELOPERS/MAINTAINERS OF THE BCRANK PACKAGE: Please make sure to use the following settings in order to reproduce any error or warning you see on this page.
Package 130/1974HostnameOS / ArchINSTALLBUILDCHECKBUILD BIN
BCRANK 1.52.0
Adam Ameur
Snapshot Date: 2021-01-12 14:40:26 -0500 (Tue, 12 Jan 2021)
URL: https://git.bioconductor.org/packages/BCRANK
Branch: RELEASE_3_12
Last Commit: 4976ef5
Last Changed Date: 2020-10-27 10:32:55 -0500 (Tue, 27 Oct 2020)
malbec1 Linux (Ubuntu 18.04.5 LTS) / x86_64  OK  OK  OK UNNEEDED, same version exists in internal repository
nebbiolo1 Linux (Ubuntu 20.04.1 LTS) / x86_64  OK  OK  OK 
tokay1 Windows Server 2012 R2 Standard / x64  OK  OK  OK  OK UNNEEDED, same version exists in internal repository
merida1 macOS 10.14.6 Mojave / x86_64 [ OK ] OK  OK  OK UNNEEDED, same version exists in internal repository

Summary

Package: BCRANK
Version: 1.52.0
Command: /Library/Frameworks/R.framework/Versions/Current/Resources/bin/R CMD INSTALL BCRANK
StartedAt: 2021-01-12 16:25:15 -0500 (Tue, 12 Jan 2021)
EndedAt: 2021-01-12 16:25:45 -0500 (Tue, 12 Jan 2021)
EllapsedTime: 29.7 seconds
RetCode: 0
Status:  OK 

Command output

##############################################################################
##############################################################################
###
### Running command:
###
###   /Library/Frameworks/R.framework/Versions/Current/Resources/bin/R CMD INSTALL BCRANK
###
##############################################################################
##############################################################################


* installing to library ‘/Library/Frameworks/R.framework/Versions/4.0/Resources/library’
* installing *source* package ‘BCRANK’ ...
** using staged installation
** libs
clang -mmacosx-version-min=10.13 -I"/Library/Frameworks/R.framework/Resources/include" -DNDEBUG   -I/usr/local/include   -fPIC  -Wall -g -O2  -c init.c -o init.o
clang -mmacosx-version-min=10.13 -I"/Library/Frameworks/R.framework/Resources/include" -DNDEBUG   -I/usr/local/include   -fPIC  -Wall -g -O2  -c match_consensus.c -o match_consensus.o
clang -mmacosx-version-min=10.13 -dynamiclib -Wl,-headerpad_max_install_names -undefined dynamic_lookup -single_module -multiply_defined suppress -L/Library/Frameworks/R.framework/Resources/lib -L/usr/local/lib -o BCRANK.so init.o match_consensus.o -F/Library/Frameworks/R.framework/.. -framework R -Wl,-framework -Wl,CoreFoundation
installing to /Library/Frameworks/R.framework/Versions/4.0/Resources/library/00LOCK-BCRANK/00new/BCRANK/libs
** R
** data
** inst
** byte-compile and prepare package for lazy loading
** help
*** installing help indices
** building package indices
** installing vignettes
** testing if installed package can be loaded from temporary location
** checking absolute paths in shared objects and dynamic libraries
** testing if installed package can be loaded from final location
** testing if installed package keeps a record of temporary installation path
* DONE (BCRANK)