Back to Multiple platform build/check report for BioC 3.12
[A]BCDEFGHIJKLMNOPQRSTUVWXYZ

INSTALL report for animalcules on merida1

This page was generated on 2020-08-07 12:40:33 -0400 (Fri, 07 Aug 2020).

TO THE DEVELOPERS/MAINTAINERS OF THE animalcules PACKAGE: Please make sure to use the following settings in order to reproduce any error or warning you see on this page.
Package 54/1882HostnameOS / ArchINSTALLBUILDCHECKBUILD BIN
animalcules 1.5.1
Yue Zhao
Snapshot Date: 2020-08-06 14:50:46 -0400 (Thu, 06 Aug 2020)
URL: https://git.bioconductor.org/packages/animalcules
Branch: master
Last Commit: 36c4fb6
Last Changed Date: 2020-06-18 11:25:25 -0400 (Thu, 18 Jun 2020)
malbec1 Linux (Ubuntu 18.04.4 LTS) / x86_64  OK  OK  OK UNNEEDED, same version exists in internal repository
tokay1 Windows Server 2012 R2 Standard / x64  OK  OK  OK  OK UNNEEDED, same version exists in internal repository
merida1 macOS 10.14.6 Mojave / x86_64 [ OK ] OK  OK  OK UNNEEDED, same version exists in internal repository

Summary

Package: animalcules
Version: 1.5.1
Command: /Library/Frameworks/R.framework/Versions/Current/Resources/bin/R CMD INSTALL animalcules
StartedAt: 2020-08-06 17:27:52 -0400 (Thu, 06 Aug 2020)
EndedAt: 2020-08-06 17:28:33 -0400 (Thu, 06 Aug 2020)
EllapsedTime: 41.0 seconds
RetCode: 0
Status:  OK 

Command output

##############################################################################
##############################################################################
###
### Running command:
###
###   /Library/Frameworks/R.framework/Versions/Current/Resources/bin/R CMD INSTALL animalcules
###
##############################################################################
##############################################################################


* installing to library ‘/Library/Frameworks/R.framework/Versions/4.0/Resources/library’
* installing *source* package ‘animalcules’ ...
** using staged installation
** R
** inst
** byte-compile and prepare package for lazy loading
** help
*** installing help indices
** building package indices
** installing vignettes
** testing if installed package can be loaded from temporary location
** testing if installed package can be loaded from final location
** testing if installed package keeps a record of temporary installation path
* DONE (animalcules)