Back to Multiple platform build/check report for BioC 3.12
A[B]CDEFGHIJKLMNOPQRSTUVWXYZ

CHECK report for BiSeq on tokay1

This page was generated on 2020-08-10 12:15:18 -0400 (Mon, 10 Aug 2020).

TO THE DEVELOPERS/MAINTAINERS OF THE BiSeq PACKAGE: Please make sure to use the following settings in order to reproduce any error or warning you see on this page.
Package 183/1882HostnameOS / ArchINSTALLBUILDCHECKBUILD BIN
BiSeq 1.29.0
Katja Hebestreit
Snapshot Date: 2020-08-09 14:51:29 -0400 (Sun, 09 Aug 2020)
URL: https://git.bioconductor.org/packages/BiSeq
Branch: master
Last Commit: 6155da2
Last Changed Date: 2020-04-27 14:34:25 -0400 (Mon, 27 Apr 2020)
malbec1 Linux (Ubuntu 18.04.4 LTS) / x86_64  OK  OK  OK UNNEEDED, same version exists in internal repository
nebbiolo1 Linux (Ubuntu 20.04.1 LTS) / x86_64  OK  OK  OK 
tokay1 Windows Server 2012 R2 Standard / x64  OK  OK [ OK ] OK UNNEEDED, same version exists in internal repository
merida1 macOS 10.14.6 Mojave / x86_64  OK  OK  OK  OK UNNEEDED, same version exists in internal repository

Summary

Package: BiSeq
Version: 1.29.0
Command: C:\Users\biocbuild\bbs-3.12-bioc\R\bin\R.exe --arch x64 CMD check --no-multiarch --install=check:BiSeq.install-out.txt --library=C:\Users\biocbuild\bbs-3.12-bioc\R\library --no-vignettes --timings BiSeq_1.29.0.tar.gz
StartedAt: 2020-08-10 01:01:24 -0400 (Mon, 10 Aug 2020)
EndedAt: 2020-08-10 01:07:41 -0400 (Mon, 10 Aug 2020)
EllapsedTime: 376.9 seconds
RetCode: 0
Status:  OK  
CheckDir: BiSeq.Rcheck
Warnings: 0

Command output

##############################################################################
##############################################################################
###
### Running command:
###
###   C:\Users\biocbuild\bbs-3.12-bioc\R\bin\R.exe --arch x64 CMD check --no-multiarch --install=check:BiSeq.install-out.txt --library=C:\Users\biocbuild\bbs-3.12-bioc\R\library --no-vignettes --timings BiSeq_1.29.0.tar.gz
###
##############################################################################
##############################################################################


* using log directory 'C:/Users/biocbuild/bbs-3.12-bioc/meat/BiSeq.Rcheck'
* using R version 4.0.2 (2020-06-22)
* using platform: x86_64-w64-mingw32 (64-bit)
* using session charset: ISO8859-1
* using option '--no-vignettes'
* checking for file 'BiSeq/DESCRIPTION' ... OK
* checking extension type ... Package
* this is package 'BiSeq' version '1.29.0'
* checking package namespace information ... OK
* checking package dependencies ... OK
* checking if this is a source package ... OK
* checking if there is a namespace ... OK
* checking for hidden files and directories ... NOTE
Found the following hidden files and directories:
  .BBSoptions
These were most likely included in error. See section 'Package
structure' in the 'Writing R Extensions' manual.
* checking for portable file names ... OK
* checking whether package 'BiSeq' can be installed ... OK
* checking installed package size ... OK
* checking package directory ... OK
* checking 'build' directory ... OK
* checking DESCRIPTION meta-information ... NOTE
Packages listed in more than one of Depends, Imports, Suggests, Enhances:
  'methods' 'S4Vectors' 'IRanges' 'GenomicRanges' 'SummarizedExperiment' 'Formula'
A package should be listed in only one of these fields.
* checking top-level files ... OK
* checking for left-over files ... OK
* checking index information ... OK
* checking package subdirectories ... OK
* checking R files for non-ASCII characters ... OK
* checking R files for syntax errors ... OK
* checking whether the package can be loaded ... OK
* checking whether the package can be loaded with stated dependencies ... OK
* checking whether the package can be unloaded cleanly ... OK
* checking whether the namespace can be loaded with stated dependencies ... OK
* checking whether the namespace can be unloaded cleanly ... OK
* checking dependencies in R code ... NOTE
Namespace in Imports field not imported from: 'Formula'
  All declared Imports should be used.
Package in Depends field not imported from: 'Formula'
  These packages need to be imported from (in the NAMESPACE file)
  for when this namespace is loaded but not attached.
* checking S3 generic/method consistency ... OK
* checking replacement functions ... OK
* checking foreign function calls ... OK
* checking R code for possible problems ... NOTE
.betaRegression : inv.link: no visible global function definition for
  'pnorm'
.betaRegression : beta.regr: no visible global function definition for
  'as.formula'
.categorialColors: no visible global function definition for 'colors'
.estLocCor: no visible global function definition for 'combn'
.logisticRegression : inv.link: no visible global function definition
  for 'pnorm'
.logisticRegression : logistic.regr: no visible global function
  definition for 'lm'
.logisticRegression : logistic.regr: no visible global function
  definition for 'as.formula'
.makeVariogram: no visible global function definition for 'qnorm'
.plotBindingSites: no visible global function definition for
  'txtProgressBar'
.plotBindingSites: no visible global function definition for
  'setTxtProgressBar'
.plotBindingSites : <anonymous>: no visible global function definition
  for 'ksmooth'
.plotBindingSites: no visible global function definition for 'rainbow'
.plotBindingSites: no visible global function definition for 'lines'
.plotBindingSites: no visible global function definition for 'rgb'
.plotBindingSites: no visible global function definition for 'col2rgb'
.plotMeth: no visible global function definition for 'col2rgb'
.plotMeth: no visible global function definition for 'rgb'
.plotMeth: no visible global function definition for 'lines'
.plotMeth: no visible global function definition for 'legend'
.plotMethMap: no visible global function definition for
  'colorRampPalette'
.plotMethMap: no visible binding for global variable 'heatmap'
.plotSmoothMeth: no visible global function definition for 'rainbow'
.plotSmoothMeth: no visible global function definition for 'lines'
.predictMeth: no visible global function definition for
  'txtProgressBar'
.predictMeth: no visible global function definition for
  'setTxtProgressBar'
.testClusters: no visible global function definition for 'pnorm'
.trimClusters : integrand: no visible global function definition for
  'pnorm'
.trimClusters : integrand: no visible global function definition for
  'qnorm'
.trimClusters : integrand: no visible global function definition for
  'dnorm'
.trimClusters: no visible global function definition for 'integrate'
.trimClusters: no visible global function definition for 'pnorm'
.trimClusters: no visible global function definition for 'qnorm'
.variogram: no visible global function definition for 'dist'
.variogram: no visible global function definition for 'txtProgressBar'
.variogram: no visible global function definition for
  'setTxtProgressBar'
.writeBED_BSraw: no visible global function definition for 'colorRamp'
.writeBED_BSraw: no visible global function definition for 'rgb'
.writeBED_BSrel: no visible global function definition for 'colorRamp'
.writeBED_BSrel: no visible global function definition for 'rgb'
betaRegression,formula-character-BSrel-numeric : inv.link: no visible
  global function definition for 'pnorm'
betaRegression,formula-character-BSrel-numeric : beta.regr: no visible
  global function definition for 'as.formula'
estLocCor,list: no visible global function definition for 'combn'
logisticRegression,formula-character-BSrel-numeric : inv.link: no
  visible global function definition for 'pnorm'
logisticRegression,formula-character-BSrel-numeric : logistic.regr: no
  visible global function definition for 'lm'
logisticRegression,formula-character-BSrel-numeric : logistic.regr: no
  visible global function definition for 'as.formula'
makeVariogram,data.frame-logical-numeric-numeric: no visible global
  function definition for 'qnorm'
plotMethMap,BSrel-GRanges-factor-logical: no visible global function
  definition for 'colorRampPalette'
plotMethMap,BSrel-GRanges-factor-logical: no visible binding for global
  variable 'heatmap'
plotMethMap,BSrel-GRanges-factor-missing: no visible global function
  definition for 'colorRampPalette'
plotMethMap,BSrel-GRanges-factor-missing: no visible binding for global
  variable 'heatmap'
plotMethMap,BSrel-GRanges-missing-logical: no visible global function
  definition for 'colorRampPalette'
plotMethMap,BSrel-GRanges-missing-logical: no visible binding for
  global variable 'heatmap'
plotMethMap,BSrel-GRanges-missing-missing: no visible global function
  definition for 'colorRampPalette'
plotMethMap,BSrel-GRanges-missing-missing: no visible binding for
  global variable 'heatmap'
predictMeth,BSraw-numeric-numeric-numeric: no visible global function
  definition for 'txtProgressBar'
predictMeth,BSraw-numeric-numeric-numeric: no visible global function
  definition for 'setTxtProgressBar'
testClusters,list-numeric: no visible global function definition for
  'pnorm'
trimClusters,list-numeric : integrand: no visible global function
  definition for 'pnorm'
trimClusters,list-numeric : integrand: no visible global function
  definition for 'qnorm'
trimClusters,list-numeric : integrand: no visible global function
  definition for 'dnorm'
trimClusters,list-numeric: no visible global function definition for
  'integrate'
trimClusters,list-numeric: no visible global function definition for
  'pnorm'
trimClusters,list-numeric: no visible global function definition for
  'qnorm'
writeBED,BSraw-character-character: no visible global function
  definition for 'colorRamp'
writeBED,BSraw-character-character: no visible global function
  definition for 'rgb'
writeBED,BSrel-character-character: no visible global function
  definition for 'colorRamp'
writeBED,BSrel-character-character: no visible global function
  definition for 'rgb'
Undefined global functions or variables:
  as.formula col2rgb colorRamp colorRampPalette colors combn dist dnorm
  heatmap integrate ksmooth legend lines lm pnorm qnorm rainbow rgb
  setTxtProgressBar txtProgressBar
Consider adding
  importFrom("grDevices", "col2rgb", "colorRamp", "colorRampPalette",
             "colors", "rainbow", "rgb")
  importFrom("graphics", "legend", "lines")
  importFrom("stats", "as.formula", "dist", "dnorm", "heatmap",
             "integrate", "ksmooth", "lm", "pnorm", "qnorm")
  importFrom("utils", "combn", "setTxtProgressBar", "txtProgressBar")
to your NAMESPACE file.
* checking Rd files ... OK
* checking Rd metadata ... OK
* checking Rd cross-references ... OK
* checking for missing documentation entries ... OK
* checking for code/documentation mismatches ... OK
* checking Rd \usage sections ... OK
* checking Rd contents ... OK
* checking for unstated dependencies in examples ... OK
* checking contents of 'data' directory ... OK
* checking data for non-ASCII characters ... OK
* checking data for ASCII and uncompressed saves ... OK
* checking files in 'vignettes' ... OK
* checking examples ... OK
Examples with CPU (user + system) or elapsed time > 5s
                   user system elapsed
betaRegression    24.96   0.38   25.33
globalTest        20.72   0.02   20.74
compareTwoSamples  6.22   0.04    6.27
estLocCor          5.63   0.05    5.67
* checking for unstated dependencies in vignettes ... OK
* checking package vignettes in 'inst/doc' ... OK
* checking running R code from vignettes ... SKIPPED
* checking re-building of vignette outputs ... SKIPPED
* checking PDF version of manual ... OK
* DONE

Status: 4 NOTEs
See
  'C:/Users/biocbuild/bbs-3.12-bioc/meat/BiSeq.Rcheck/00check.log'
for details.



Installation output

BiSeq.Rcheck/00install.out

##############################################################################
##############################################################################
###
### Running command:
###
###   C:\Users\biocbuild\bbs-3.12-bioc\R\bin\R.exe --arch x64 CMD INSTALL --no-multiarch BiSeq
###
##############################################################################
##############################################################################


* installing to library 'C:/Users/biocbuild/bbs-3.12-bioc/R/library'
* installing *source* package 'BiSeq' ...
** using staged installation
** R
** data
** inst
** byte-compile and prepare package for lazy loading
** help
*** installing help indices
  converting help for package 'BiSeq'
    finding HTML links ... done
    BSraw-class                             html  
    finding level-2 HTML links ... done

    BSrel-class                             html  
    DMRs                                    html  
    annotateGRanges                         html  
    betaRegression                          html  
    betaResults                             html  
    betaResultsNull                         html  
    binomLikelihoodSmooth                   html  
    clusterSites                            html  
    clusterSitesToGR                        html  
    compareTwoSamples                       html  
    covBoxplots                             html  
    covStatistics                           html  
    estLocCor                               html  
    filterByCov                             html  
    filterBySharedRegions                   html  
    findDMRs                                html  
    globalTest                              html  
    limitCov                                html  
    logisticRegression                      html  
    makeVariogram                           html  
    plotBindingSites                        html  
    plotMeth                                html  
    plotMethMap                             html  
    plotSmoothMeth                          html  
    predictMeth                             html  
    predictedMeth                           html  
    promoters                               html  
    rawToRel                                html  
    readBismark                             html  
    rrbs                                    html  
    smoothVariogram                         html  
    summarizeRegions                        html  
    testClusters                            html  
    trimClusters                            html  
    vario                                   html  
    writeBED                                html  
** building package indices
** installing vignettes
** testing if installed package can be loaded from temporary location
** testing if installed package can be loaded from final location
** testing if installed package keeps a record of temporary installation path
* DONE (BiSeq)
Making 'packages.html' ... done

Tests output


Example timings

BiSeq.Rcheck/BiSeq-Ex.timings

nameusersystemelapsed
BSraw-class0.260.000.26
BSrel-class0.190.000.19
DMRs0.030.000.03
annotateGRanges0.230.000.23
betaRegression24.96 0.3825.33
betaResults000
betaResultsNull0.000.010.02
binomLikelihoodSmooth000
clusterSites0.450.020.47
clusterSitesToGR0.860.020.87
compareTwoSamples6.220.046.27
covBoxplots0.100.000.09
covStatistics0.040.000.05
estLocCor5.630.055.67
filterByCov0.230.000.24
filterBySharedRegions0.250.010.26
findDMRs0.50.00.5
globalTest20.72 0.0220.74
limitCov0.750.000.75
logisticRegression1.440.001.43
makeVariogram4.480.024.50
plotBindingSites2.070.012.08
plotMeth0.250.020.27
plotMethMap0.230.000.23
plotSmoothMeth0.250.000.25
predictMeth1.450.001.46
predictedMeth0.020.010.03
promoters0.050.020.06
rawToRel0.070.010.09
readBismark0.080.000.08
rrbs0.050.000.05
smoothVariogram0.080.000.08
summarizeRegions3.080.003.07
testClusters0.090.020.11
trimClusters0.300.030.33
vario0.000.020.02
writeBED0.260.000.26