Back to Multiple platform build/check report for BioC 3.12
AB[C]DEFGHIJKLMNOPQRSTUVWXYZ

BUILD report for CellMapper on malbec1

This page was generated on 2021-04-18 12:03:42 -0400 (Sun, 18 Apr 2021).

To the developers/maintainers of the CellMapper package:
Please make sure to use the following settings in order to reproduce any error or warning you see on this page.
Package 254/1974HostnameOS / ArchINSTALLBUILDCHECKBUILD BIN
CellMapper 1.16.0  (landing page)
Brad Nelms
Snapshot Date: 2021-04-17 14:51:09 -0400 (Sat, 17 Apr 2021)
URL: https://git.bioconductor.org/packages/CellMapper
Branch: RELEASE_3_12
Last Commit: c73a675
Last Changed Date: 2020-10-27 11:16:49 -0400 (Tue, 27 Oct 2020)
malbec1Linux (Ubuntu 18.04.5 LTS) / x86_64  OK    OK    WARNINGS  UNNEEDED, same version exists in internal repository
tokay1Windows Server 2012 R2 Standard / x64  OK    OK    WARNINGS    OK  UNNEEDED, same version exists in internal repository
merida1macOS 10.14.6 Mojave / x86_64  OK    OK    WARNINGS    OK  UNNEEDED, same version exists in internal repository

Summary

Package: CellMapper
Version: 1.16.0
Command: /home/biocbuild/bbs-3.12-bioc/R/bin/R CMD build --keep-empty-dirs --no-resave-data CellMapper
StartedAt: 2021-04-17 18:01:22 -0400 (Sat, 17 Apr 2021)
EndedAt: 2021-04-17 18:03:35 -0400 (Sat, 17 Apr 2021)
EllapsedTime: 132.9 seconds
RetCode: 0
Status:   OK  
PackageFile: CellMapper_1.16.0.tar.gz
PackageFileSize: 199 KiB

Command output

##############################################################################
##############################################################################
###
### Running command:
###
###   /home/biocbuild/bbs-3.12-bioc/R/bin/R CMD build --keep-empty-dirs --no-resave-data CellMapper
###
##############################################################################
##############################################################################


* checking for file ‘CellMapper/DESCRIPTION’ ... OK
* preparing ‘CellMapper’:
* checking DESCRIPTION meta-information ... OK
* installing the package to build vignettes
* creating vignettes ... OK
* checking for LF line-endings in source and make files and shell scripts
* checking for empty or unneeded directories
* looking to see if a ‘data/datalist’ file should be added
* building ‘CellMapper_1.16.0.tar.gz’