Back to Multiple platform build/check report for BioC 3.12
ABCDEFGHIJKLMNOPQR[S]TUVWXYZ

Multiple platform build/check report for BioC 3.12

Results for seqPattern

This page was generated on 2020-11-30 12:12:04 -0500 (Mon, 30 Nov 2020).

Package 1683/1974HostnameOS / ArchINSTALLBUILDCHECKBUILD BIN
seqPattern 1.22.0
Vanja Haberle
Snapshot Date: 2020-11-29 14:40:18 -0500 (Sun, 29 Nov 2020)
URL: https://git.bioconductor.org/packages/seqPattern
Branch: RELEASE_3_12
Last Commit: 65d8931
Last Changed Date: 2020-10-27 11:02:02 -0500 (Tue, 27 Oct 2020)
malbec1 Linux (Ubuntu 18.04.4 LTS) / x86_64  OK  OK  OK UNNEEDED, same version exists in internal repository
nebbiolo1 Linux (Ubuntu 20.04.1 LTS) / x86_64  OK  OK  OK 
tokay1 Windows Server 2012 R2 Standard / x64  OK  OK  OK  OK UNNEEDED, same version exists in internal repository
merida1 macOS 10.14.6 Mojave / x86_64  OK  OK  OK  OK UNNEEDED, same version exists in internal repository