Back to Multiple platform build/check report for BioC 3.12
[A]BCDEFGHIJKLMNOPQRSTUVWXYZ

BUILD report for AMARETTO on tokay1

This page was generated on 2020-08-09 12:16:34 -0400 (Sun, 09 Aug 2020).

TO THE DEVELOPERS/MAINTAINERS OF THE AMARETTO PACKAGE: Please make sure to use the following settings in order to reproduce any error or warning you see on this page.
Package 48/1882HostnameOS / ArchINSTALLBUILDCHECKBUILD BIN
AMARETTO 1.5.0
Olivier Gevaert
Snapshot Date: 2020-08-08 14:51:01 -0400 (Sat, 08 Aug 2020)
URL: https://git.bioconductor.org/packages/AMARETTO
Branch: master
Last Commit: 07c0d39
Last Changed Date: 2020-04-27 15:24:46 -0400 (Mon, 27 Apr 2020)
malbec1 Linux (Ubuntu 18.04.4 LTS) / x86_64  OK  OK  OK UNNEEDED, same version exists in internal repository
nebbiolo1 Linux (Ubuntu 20.04.1 LTS) / x86_64  OK  OK  OK 
tokay1 Windows Server 2012 R2 Standard / x64  OK [ OK ] OK  OK UNNEEDED, same version exists in internal repository
merida1 macOS 10.14.6 Mojave / x86_64  OK  OK  OK  OK UNNEEDED, same version exists in internal repository

Summary

Package: AMARETTO
Version: 1.5.0
Command: chmod a+r AMARETTO -R && C:\Users\biocbuild\bbs-3.12-bioc\R\bin\R.exe CMD build --keep-empty-dirs --no-resave-data AMARETTO
StartedAt: 2020-08-08 22:35:38 -0400 (Sat, 08 Aug 2020)
EndedAt: 2020-08-08 22:36:48 -0400 (Sat, 08 Aug 2020)
EllapsedTime: 70.7 seconds
RetCode: 0
Status:  OK  
PackageFile: AMARETTO_1.5.0.tar.gz
PackageFileSize: 3.176 MiB

Command output

##############################################################################
##############################################################################
###
### Running command:
###
###   chmod a+r AMARETTO -R && C:\Users\biocbuild\bbs-3.12-bioc\R\bin\R.exe CMD build --keep-empty-dirs --no-resave-data AMARETTO
###
##############################################################################
##############################################################################


* checking for file 'AMARETTO/DESCRIPTION' ... OK
* preparing 'AMARETTO':
* checking DESCRIPTION meta-information ... OK
* installing the package to build vignettes
* creating vignettes ... OK
* checking for LF line-endings in source and make files and shell scripts
* checking for empty or unneeded directories
* building 'AMARETTO_1.5.0.tar.gz'