Back to Multiple platform build/check report for BioC 3.12
AB[C]DEFGHIJKLMNOPQRSTUVWXYZ

BUILD report for CellMixS on tokay1

This page was generated on 2020-10-29 12:25:03 -0400 (Thu, 29 Oct 2020).

TO THE DEVELOPERS/MAINTAINERS OF THE CellMixS PACKAGE: Please make sure to use the following settings in order to reproduce any error or warning you see on this page.
Package 255/1974HostnameOS / ArchINSTALLBUILDCHECKBUILD BIN
CellMixS 1.6.0
Almut Lütge
Snapshot Date: 2020-10-28 14:42:40 -0400 (Wed, 28 Oct 2020)
URL: https://git.bioconductor.org/packages/CellMixS
Branch: RELEASE_3_12
Last Commit: 7e096e8
Last Changed Date: 2020-10-27 11:44:36 -0400 (Tue, 27 Oct 2020)
malbec1 Linux (Ubuntu 18.04.4 LTS) / x86_64  OK  OK  OK UNNEEDED, same version exists in internal repository
nebbiolo1 Linux (Ubuntu 20.04.1 LTS) / x86_64  OK  OK  OK 
tokay1 Windows Server 2012 R2 Standard / x64  OK [ OK ] OK  OK UNNEEDED, same version exists in internal repository
merida1 macOS 10.14.6 Mojave / x86_64  OK  OK  OK  OK UNNEEDED, same version exists in internal repository

Summary

Package: CellMixS
Version: 1.6.0
Command: chmod a+r CellMixS -R && C:\Users\biocbuild\bbs-3.12-bioc\R\bin\R.exe CMD build --keep-empty-dirs --no-resave-data CellMixS
StartedAt: 2020-10-28 19:57:27 -0400 (Wed, 28 Oct 2020)
EndedAt: 2020-10-28 20:01:04 -0400 (Wed, 28 Oct 2020)
EllapsedTime: 216.6 seconds
RetCode: 0
Status:  OK  
PackageFile: CellMixS_1.6.0.tar.gz
PackageFileSize: 2.08 MiB

Command output

##############################################################################
##############################################################################
###
### Running command:
###
###   chmod a+r CellMixS -R && C:\Users\biocbuild\bbs-3.12-bioc\R\bin\R.exe CMD build --keep-empty-dirs --no-resave-data CellMixS
###
##############################################################################
##############################################################################


* checking for file 'CellMixS/DESCRIPTION' ... OK
* preparing 'CellMixS':
* checking DESCRIPTION meta-information ... OK
* installing the package to build vignettes
* creating vignettes ... OK
* checking for LF line-endings in source and make files and shell scripts
* checking for empty or unneeded directories
* looking to see if a 'data/datalist' file should be added
* building 'CellMixS_1.6.0.tar.gz'