Back to Multiple platform build/check report for BioC 3.12
[A]BCDEFGHIJKLMNOPQRSTUVWXYZ

BUILD report for annaffy on tokay1

This page was generated on 2020-08-10 12:10:06 -0400 (Mon, 10 Aug 2020).

TO THE DEVELOPERS/MAINTAINERS OF THE annaffy PACKAGE: Please make sure to use the following settings in order to reproduce any error or warning you see on this page.
Package 55/1882HostnameOS / ArchINSTALLBUILDCHECKBUILD BIN
annaffy 1.61.0
Colin A. Smith
Snapshot Date: 2020-08-09 14:51:29 -0400 (Sun, 09 Aug 2020)
URL: https://git.bioconductor.org/packages/annaffy
Branch: master
Last Commit: ff79835
Last Changed Date: 2020-04-27 14:08:37 -0400 (Mon, 27 Apr 2020)
malbec1 Linux (Ubuntu 18.04.4 LTS) / x86_64  OK  OK  WARNINGS UNNEEDED, same version exists in internal repository
nebbiolo1 Linux (Ubuntu 20.04.1 LTS) / x86_64  OK  OK  WARNINGS 
tokay1 Windows Server 2012 R2 Standard / x64  OK [ OK ] WARNINGS  OK UNNEEDED, same version exists in internal repository
merida1 macOS 10.14.6 Mojave / x86_64  OK  OK  WARNINGS  OK UNNEEDED, same version exists in internal repository

Summary

Package: annaffy
Version: 1.61.0
Command: chmod a+r annaffy -R && C:\Users\biocbuild\bbs-3.12-bioc\R\bin\R.exe CMD build --keep-empty-dirs --no-resave-data annaffy
StartedAt: 2020-08-09 19:06:18 -0400 (Sun, 09 Aug 2020)
EndedAt: 2020-08-09 19:08:45 -0400 (Sun, 09 Aug 2020)
EllapsedTime: 146.9 seconds
RetCode: 0
Status:  OK  
PackageFile: annaffy_1.61.0.tar.gz
PackageFileSize: 230.8 KiB

Command output

##############################################################################
##############################################################################
###
### Running command:
###
###   chmod a+r annaffy -R && C:\Users\biocbuild\bbs-3.12-bioc\R\bin\R.exe CMD build --keep-empty-dirs --no-resave-data annaffy
###
##############################################################################
##############################################################################


* checking for file 'annaffy/DESCRIPTION' ... OK
* preparing 'annaffy':
* checking DESCRIPTION meta-information ... OK
* installing the package to build vignettes
* creating vignettes ... OK
* checking for LF line-endings in source and make files and shell scripts
* checking for empty or unneeded directories
* looking to see if a 'data/datalist' file should be added
* building 'annaffy_1.61.0.tar.gz'