Back to Multiple platform build/check report for BioC 3.12
[A]BCDEFGHIJKLMNOPQRSTUVWXYZ

BUILD report for arrayQualityMetrics on malbec1

This page was generated on 2020-08-07 11:15:56 -0400 (Fri, 07 Aug 2020).

TO THE DEVELOPERS/MAINTAINERS OF THE arrayQualityMetrics PACKAGE: Please make sure to use the following settings in order to reproduce any error or warning you see on this page.
Package 79/1882HostnameOS / ArchINSTALLBUILDCHECKBUILD BIN
arrayQualityMetrics 3.45.0
Mike Smith
Snapshot Date: 2020-08-06 14:50:46 -0400 (Thu, 06 Aug 2020)
URL: https://git.bioconductor.org/packages/arrayQualityMetrics
Branch: master
Last Commit: 16ff64b
Last Changed Date: 2020-04-27 14:15:36 -0400 (Mon, 27 Apr 2020)
malbec1 Linux (Ubuntu 18.04.4 LTS) / x86_64  OK [ OK ] OK UNNEEDED, same version exists in internal repository
tokay1 Windows Server 2012 R2 Standard / x64  OK  OK  OK  OK UNNEEDED, same version exists in internal repository
merida1 macOS 10.14.6 Mojave / x86_64  OK  OK  OK  OK UNNEEDED, same version exists in internal repository

Summary

Package: arrayQualityMetrics
Version: 3.45.0
Command: /home/biocbuild/bbs-3.12-bioc/R/bin/R CMD build --keep-empty-dirs --no-resave-data arrayQualityMetrics
StartedAt: 2020-08-06 17:42:04 -0400 (Thu, 06 Aug 2020)
EndedAt: 2020-08-06 17:49:33 -0400 (Thu, 06 Aug 2020)
EllapsedTime: 449.0 seconds
RetCode: 0
Status:  OK 
PackageFile: arrayQualityMetrics_3.45.0.tar.gz
PackageFileSize: 586.3 KiB

Command output

##############################################################################
##############################################################################
###
### Running command:
###
###   /home/biocbuild/bbs-3.12-bioc/R/bin/R CMD build --keep-empty-dirs --no-resave-data arrayQualityMetrics
###
##############################################################################
##############################################################################


* checking for file ‘arrayQualityMetrics/DESCRIPTION’ ... OK
* preparing ‘arrayQualityMetrics’:
* checking DESCRIPTION meta-information ... OK
* installing the package to build vignettes
* creating vignettes ... OK
* checking for LF line-endings in source and make files and shell scripts
* checking for empty or unneeded directories
* building ‘arrayQualityMetrics_3.45.0.tar.gz’