Back to Multiple platform build/check report for BioC 3.12
A[B]CDEFGHIJKLMNOPQRSTUVWXYZ

BUILD BIN report for BioMVCClass on tokay1

This page was generated on 2021-04-12 12:28:52 -0400 (Mon, 12 Apr 2021).

To the developers/maintainers of the BioMVCClass package:
Please make sure to use the following settings in order to reproduce any error or warning you see on this page.
Package 180/1974HostnameOS / ArchINSTALLBUILDCHECKBUILD BIN
BioMVCClass 1.58.0  (landing page)
Elizabeth Whalen
Snapshot Date: 2021-04-11 14:51:36 -0400 (Sun, 11 Apr 2021)
URL: https://git.bioconductor.org/packages/BioMVCClass
Branch: RELEASE_3_12
Last Commit: 58f7377
Last Changed Date: 2020-10-27 10:29:17 -0400 (Tue, 27 Oct 2020)
malbec1Linux (Ubuntu 18.04.5 LTS) / x86_64  OK    OK    OK  UNNEEDED, same version exists in internal repository
tokay1Windows Server 2012 R2 Standard / x64  OK    OK    OK    OK  UNNEEDED, same version exists in internal repository
merida1macOS 10.14.6 Mojave / x86_64  OK    OK    OK    OK  UNNEEDED, same version exists in internal repository

Summary

Package: BioMVCClass
Version: 1.58.0
Command: rm -rf BioMVCClass.buildbin-libdir && mkdir BioMVCClass.buildbin-libdir && C:\Users\biocbuild\bbs-3.12-bioc\R\bin\R.exe CMD INSTALL --merge-multiarch --build --library=BioMVCClass.buildbin-libdir BioMVCClass_1.58.0.tar.gz
StartedAt: 2021-04-12 08:14:11 -0400 (Mon, 12 Apr 2021)
EndedAt: 2021-04-12 08:15:06 -0400 (Mon, 12 Apr 2021)
EllapsedTime: 55.1 seconds
RetCode: 0
Status:   OK   
PackageFile: BioMVCClass_1.58.0.zip
PackageFileSize: 193.9 KiB

Command output

##############################################################################
##############################################################################
###
### Running command:
###
###   rm -rf BioMVCClass.buildbin-libdir && mkdir BioMVCClass.buildbin-libdir && C:\Users\biocbuild\bbs-3.12-bioc\R\bin\R.exe CMD INSTALL --merge-multiarch --build --library=BioMVCClass.buildbin-libdir BioMVCClass_1.58.0.tar.gz
###
##############################################################################
##############################################################################



install for i386

* installing *source* package 'BioMVCClass' ...
** using staged installation
** R
** inst
** byte-compile and prepare package for lazy loading
** help
*** installing help indices
  converting help for package 'BioMVCClass'
    finding HTML links ... done
    GSE-class                               html  
    exprModel-class                         html  
    graphModel-class                        html  
    graphView-class                         html  
    gseModel-class                          html  
    heatmapView-class                       html  
** building package indices
** installing vignettes
** testing if installed package can be loaded from temporary location
** testing if installed package can be loaded from final location
** testing if installed package keeps a record of temporary installation path

install for x64

* installing *source* package 'BioMVCClass' ...
** testing if installed package can be loaded
* MD5 sums
packaged installation of 'BioMVCClass' as BioMVCClass_1.58.0.zip
* DONE (BioMVCClass)