Back to Multiple platform build/check report for BioC 3.12
A[B]CDEFGHIJKLMNOPQRSTUVWXYZ

BUILD BIN report for BiRewire on merida1

This page was generated on 2021-01-24 11:56:44 -0500 (Sun, 24 Jan 2021).

TO THE DEVELOPERS/MAINTAINERS OF THE BiRewire PACKAGE: Please make sure to use the following settings in order to reproduce any error or warning you see on this page.
Package 191/1974HostnameOS / ArchINSTALLBUILDCHECKBUILD BIN
BiRewire 3.22.0
Andrea Gobbi
Snapshot Date: 2021-01-23 14:40:16 -0500 (Sat, 23 Jan 2021)
URL: https://git.bioconductor.org/packages/BiRewire
Branch: RELEASE_3_12
Last Commit: 161ba9f
Last Changed Date: 2020-10-27 10:52:46 -0500 (Tue, 27 Oct 2020)
malbec1 Linux (Ubuntu 18.04.5 LTS) / x86_64  OK  OK  WARNINGS UNNEEDED, same version exists in internal repository
nebbiolo1 Linux (Ubuntu 20.04.1 LTS) / x86_64  OK  OK  WARNINGS 
tokay1 Windows Server 2012 R2 Standard / x64  OK  OK  WARNINGS  OK UNNEEDED, same version exists in internal repository
merida1 macOS 10.14.6 Mojave / x86_64  OK  OK  OK [ OK ]UNNEEDED, same version exists in internal repository

Summary

Package: BiRewire
Version: 3.22.0
Command: rm -rf BiRewire.buildbin-libdir && mkdir BiRewire.buildbin-libdir && /Users/biocbuild/BBS/utils/build-universal.sh BiRewire_3.22.0.tar.gz /Library/Frameworks/R.framework/Versions/Current/Resources/bin/R BiRewire.buildbin-libdir
StartedAt: 2021-01-24 07:05:00 -0500 (Sun, 24 Jan 2021)
EndedAt: 2021-01-24 07:06:09 -0500 (Sun, 24 Jan 2021)
EllapsedTime: 68.3 seconds
RetCode: 0
Status:  OK 
PackageFile: BiRewire_3.22.0.tgz
PackageFileSize: 632.8 KiB

Command output

##############################################################################
##############################################################################
###
### Running command:
###
###   rm -rf BiRewire.buildbin-libdir && mkdir BiRewire.buildbin-libdir && /Users/biocbuild/BBS/utils/build-universal.sh BiRewire_3.22.0.tar.gz /Library/Frameworks/R.framework/Versions/Current/Resources/bin/R BiRewire.buildbin-libdir
###
##############################################################################
##############################################################################


>>>>>>> 
>>>>>>> INSTALLATION WITH 'R CMD INSTALL --preclean --no-multiarch --library=BiRewire.buildbin-libdir BiRewire_3.22.0.tar.gz'
>>>>>>> 

* installing *source* package ‘BiRewire’ ...
** using staged installation
** libs
clang -mmacosx-version-min=10.13 -I"/Library/Frameworks/R.framework/Resources/include" -DNDEBUG   -I/usr/local/include   -fPIC  -Wall -g -O2  -c BiRewire.c -o BiRewire.o
clang -mmacosx-version-min=10.13 -I"/Library/Frameworks/R.framework/Resources/include" -DNDEBUG   -I/usr/local/include   -fPIC  -Wall -g -O2  -c interface.c -o interface.o
clang -mmacosx-version-min=10.13 -dynamiclib -Wl,-headerpad_max_install_names -undefined dynamic_lookup -single_module -multiply_defined suppress -L/Library/Frameworks/R.framework/Resources/lib -L/usr/local/lib -o BiRewire.so BiRewire.o interface.o -F/Library/Frameworks/R.framework/.. -framework R -Wl,-framework -Wl,CoreFoundation
installing to /Users/biocbuild/bbs-3.12-bioc/meat/BiRewire.buildbin-libdir/00LOCK-BiRewire/00new/BiRewire/libs
** R
** data
** inst
** byte-compile and prepare package for lazy loading
** help
*** installing help indices
** building package indices
** installing vignettes
** testing if installed package can be loaded from temporary location
** checking absolute paths in shared objects and dynamic libraries
** testing if installed package can be loaded from final location
** testing if installed package keeps a record of temporary installation path
* DONE (BiRewire)


>>>>>>> 
>>>>>>> FIXING LINKS FOR BiRewire.buildbin-libdir/BiRewire/libs/BiRewire.so
>>>>>>> 

install_name_tool -change "/usr/local/lib/libgcc_s.1.dylib" "/Library/Frameworks/R.framework/Versions/4.0/Resources/lib/libgcc_s.1.dylib" "BiRewire.buildbin-libdir/BiRewire/libs/BiRewire.so"
install_name_tool -change "/usr/local/lib/libgfortran.5.dylib" "/Library/Frameworks/R.framework/Versions/4.0/Resources/lib/libgfortran.5.dylib" "BiRewire.buildbin-libdir/BiRewire/libs/BiRewire.so"
install_name_tool -change "/usr/local/lib/libquadmath.0.dylib" "/Library/Frameworks/R.framework/Versions/4.0/Resources/lib/libquadmath.0.dylib" "BiRewire.buildbin-libdir/BiRewire/libs/BiRewire.so"