Back to Multiple platform build/check report for BioC 3.12
AB[C]DEFGHIJKLMNOPQRSTUVWXYZ

BUILD report for cellity on tokay1

This page was generated on 2020-09-21 11:14:03 -0400 (Mon, 21 Sep 2020).

TO THE DEVELOPERS/MAINTAINERS OF THE cellity PACKAGE: Please make sure to use the following settings in order to reproduce any error or warning you see on this page.
Package 244/1912HostnameOS / ArchINSTALLBUILDCHECKBUILD BIN
cellity 1.17.0
Tomislav Ilicic
Snapshot Date: 2020-09-20 14:41:51 -0400 (Sun, 20 Sep 2020)
URL: https://git.bioconductor.org/packages/cellity
Branch: master
Last Commit: 5a480a2
Last Changed Date: 2020-04-27 14:54:50 -0400 (Mon, 27 Apr 2020)
malbec1 Linux (Ubuntu 18.04.4 LTS) / x86_64  OK  OK  OK UNNEEDED, same version exists in internal repository
nebbiolo1 Linux (Ubuntu 20.04.1 LTS) / x86_64  OK  OK  OK 
tokay1 Windows Server 2012 R2 Standard / x64  OK [ OK ] OK  OK UNNEEDED, same version exists in internal repository
riesling1 Windows Server 2019 Standard / x64  OK  OK  OK  OK 
merida1 macOS 10.14.6 Mojave / x86_64  OK  OK  OK  OK UNNEEDED, same version exists in internal repository

Summary

Package: cellity
Version: 1.17.0
Command: chmod a+r cellity -R && C:\Users\biocbuild\bbs-3.12-bioc\R\bin\R.exe CMD build --keep-empty-dirs --no-resave-data cellity
StartedAt: 2020-09-20 21:11:45 -0400 (Sun, 20 Sep 2020)
EndedAt: 2020-09-20 21:15:07 -0400 (Sun, 20 Sep 2020)
EllapsedTime: 201.3 seconds
RetCode: 0
Status:  OK  
PackageFile: cellity_1.17.0.tar.gz
PackageFileSize: 1.07 MiB

Command output

##############################################################################
##############################################################################
###
### Running command:
###
###   chmod a+r cellity -R && C:\Users\biocbuild\bbs-3.12-bioc\R\bin\R.exe CMD build --keep-empty-dirs --no-resave-data cellity
###
##############################################################################
##############################################################################


* checking for file 'cellity/DESCRIPTION' ... OK
* preparing 'cellity':
* checking DESCRIPTION meta-information ... OK
* installing the package to build vignettes
* creating vignettes ... OK
* checking for LF line-endings in source and make files and shell scripts
* checking for empty or unneeded directories
* building 'cellity_1.17.0.tar.gz'